{"text_format":"1","workbook":"xlsx","n_sheets":9,"sheets":["DatationSeule","A dater","GR_PoidsFen","Liste","CalculsBis","CalculsInt10","oval_FR","TableS4","Diag5_bis"],"not_rendered":{"charts":7,"images":1,"macros":1,"external_links":1,"defined_names":80,"comments":0,"pivot_tables":0},"unopened":[{"sheet":"GR_PoidsFen","index":2,"reason":"not_a_worksheet"}],"bounds":{"document_bytes":16777216,"sheet_cells":100000,"rows_first":2000,"rows_last":500,"rows_between":2000,"halvings":0,"cell_chars":16384,"cell_head_chars":4096},"cells_cut":0,"cells_raw":0,"read":"whole","date_system":"1900"}

{"sheet":"DatationSeule","index":0,"n_rows":8,"n_cols":18,"rows_kept":8,"cut":false,"hidden":false,"merged":[[7,6,7,13],[0,7,1,12],[4,0,4,5],[6,6,6,13]]}
[null,null,null,null,null,null,null,"AVANT D'IMPRIMER"]
[]
[null,null,null,null,null,null,null,"Si besoin : ADAPTER manuellement l'échelle des dates "]
[null,null,null,null,null,null,null,"MODIFIER LE TITRE DU GRAPHIQUE AVEC LE NOM DU SITE"]
["ATTENTION : NE PAS MODIFIER LES CELLULES ENCADREES !",null,null,null,null,null,null,"puis sortir du graphique par Echap. C'est prêt pour l'impression"]
[null,null,null,null,null,null,null,null,null,null,null,null,null,null,null,null,0,0.05]
[null,"Id","Dd","Kd","Nd",null,{"$f":"'A dater'!O6","v":"[865<->982] "},null,null,null,null,null,null,null,null,null,2000,0.05]
[null,{"$f":"Id","v":67},{"$f":"Dd","v":16},{"$f":"Kd","v":2000},{"$f":"Nd","v":21},null,{"$f":"'A dater'!O7","v":"[885<->945] "}]

{"sheet":"A dater","index":1,"n_rows":43,"n_cols":22,"rows_kept":43,"cut":false,"hidden":false,"merged":[[5,14,5,17],[6,14,6,17]]}
[]
["ATTENTION, LES DIRECTIONS DOIVENT ETRE REDUITES A PARIS (Latitude 48.9N ; Longitude 2.3E)"]
["3° -> 620 et 5",null,"Alph95 Kd Nd"]
["1.5°->2500 et 5",null,{"$f":"[0]!Alpha95(Kd,Nd)","v":0.71094586413219485}]
[]
[null,null,null,null,null,null,null,null,null,null,null,null,null,null,{"$f":"Plage_Dates(2, idkn)","v":"[865<->982] "}]
["Id","Dd","Kd","Nd",null,null,null,null,null,null,null,null,null,null,{"$f":"Plage_Dates(1, idkn)","v":"[885<->945] "}]
[67,16,2000,21,null,null,null,null,null,"FVar W_nSites ; pds min = 8 ; Fen. Min/Max = 20/300; calcul du 14 02 2022 ; New Programme"]
[null,null,"."]
[]
[]
[]
[]
[]
[]
[]
[]
[]
[null,null,null,null,null,null,null,null,null,null,null,null,null,null,null,null,358.4,56.2,22,40,-3.32,64.414000000000001]
[null,null,null,null,null,null,null,null,null,null,null,null,null,null,null,null,356.3,53.1,null,null,-6.9560000000000004,62.466999999999999]
[]
[]
[]
[]
[]
[]
[]
[]
[]
[]
[]
[]
[]
[]
[]
[]
[]
[]
[]
[]
[]
[{"$f":"[0]!CercleDIKN_MatrLigne2x19(B8,A8,C8,D8)","v":0.10977234433561789},0.11393390793790444,0.11760819964854995,0.12035077708562203,0.12183065556615985,0.12187031687390575,0.12046666029643083,0.11779058744860618,0.11416564187381383,0.11002862791283745,0.10587712270720781,0.10221011831412345,9.9468647292207404E-2,9.7983176638680294E-2,9.7933841222447915E-2,9.9328268365038497E-2,0.10199987498919566,0.10562720735491328,0.10977234433561782]
[0.39500288555160556,0.39425187614939117,0.39217468687312745,0.38902306430865236,0.38517885802841278,0.38110715757600444,0.37729953056790116,0.37421451958269419,0.37222267170753942,0.37156257079488703,0.37231283594988318,0.3743831035406428,0.37752486573439242,0.38136088674529856,0.38542990699208601,0.3892416129410986,0.39233555344285764,0.39433700320913723,0.39500288555160556]

{"sheet":"Liste","index":3,"n_rows":286,"n_cols":9,"rows_kept":286,"cut":false,"hidden":false,"merged":[]}
["Aiguillon F1 F2 F3",1825,0.498,20,-100,-2.5499999999999998,65.94,{"$f":"diff_ang((G1),(F1),Id,Dd,(-1))","v":7.4524935470674656},45]
["Aiguillon F4",1607,0.83699999999999997,20,-100,2.73,67.61,{"$f":"diff_ang((G2),(F2),Id,Dd,(-1))","v":5.146006630895207},19]
["Montans-4",1696,1.109,10,-90,-2.88,67.27,{"$f":"diff_ang((G3),(F3),Id,Dd,(-1))","v":7.3127072102987354},11]
["Lezat",931,1.5840000000000001,25,-75,-8.35,67.83,{"$f":"diff_ang((G4),(F4),Id,Dd,(-1))","v":9.3271752898078315},10]
["Lagruere",1797,0.93799999999999994,20,-60,-4,66.290000000000006,{"$f":"diff_ang((G5),(F5),Id,Dd,(-1))","v":7.9255927586361166},14]
["Frejus PL VIII",1629,1.373,1,-40,-6.95,68.5,{"$f":"diff_ang((G6),(F6),Id,Dd,(-1))","v":8.7648214665666622},8]
["Limoux II F2",625,2.4169999999999998,7.5,-12.5,-0.33,66.540000000000006,{"$f":"diff_ang((G7),(F7),Id,Dd,(-1))","v":6.4386676720980693},7]
["Marseille",1215,0.60299999999999998,35,5,-2.5299999999999998,67.959999999999994,{"$f":"diff_ang((G8),(F8),Id,Dd,(-1))","v":7.13405462035323},46]
["Lezoux F3",1243,1.1279999999999999,37.5,12.5,-2.5299999999999998,66.849999999999994,{"$f":"diff_ang((G9),(F9),Id,Dd,(-1))","v":7.2372854171581595},14]
["Lezoux LAS65",684,1.1859999999999999,2.5,17.5,-1.38,65.900000000000006,{"$f":"diff_ang((G10),(F10),Id,Dd,(-1))","v":7.0068757656537075},22]
["Coulanges II",455,1.6739999999999999,1,20,-4.54,64.45,{"$f":"diff_ang((G11),(F11),Id,Dd,(-1))","v":8.7744817198682039},17]
["Gournay",4230,0.66700000000000004,25,25,-1.86,65.14,{"$f":"diff_ang((G12),(F12),Id,Dd,(-1))","v":7.4506072911475911},12]
["Montans-6",2054,1.3320000000000001,5,25,-1.29,66.2,{"$f":"diff_ang((G13),(F13),Id,Dd,(-1))","v":6.8903833559852101},7]
["Pierrefonds P10",1154,1.778,20,40,0.28999999999999998,65.12,{"$f":"diff_ang((G14),(F14),Id,Dd,(-1))","v":6.6257896444677211},7]
["Gièvres",760,1.575,1,40,-2.93,67.44,{"$f":"diff_ang((G15),(F15),Id,Dd,(-1))","v":7.3141488781951542},12]
["Gièvres II",5047,0.94299999999999995,1,40,-0.46,65.33,{"$f":"diff_ang((G16),(F16),Id,Dd,(-1))","v":6.8356917086142355},6]
["Epone",2084,0.80800000000000005,10,50,-2.79,63.89,{"$f":"diff_ang((G17),(F17),Id,Dd,(-1))","v":8.3644675476886174},16]
["Mougon II",1698,0.79200000000000004,10,50,-3.12,62.81,{"$f":"diff_ang((G18),(F18),Id,Dd,(-1))","v":9.0767426442373651},20]
["Abbaye Vauclair",420,2.12,15,55,-3.31,64.66,{"$f":"diff_ang((G19),(F19),Id,Dd,(-1))","v":8.2071608950503876},12]
["Strasbourg (K)",254,2.052,15,55,-7.38,63.14,{"$f":"diff_ang((G20),(F20),Id,Dd,(-1))","v":10.505745000697788},20]
["Brionne",2776,0.55000000000000004,12.5,62.5,-1.85,64.73,{"$f":"diff_ang((G21),(F21),Id,Dd,(-1))","v":7.6127698125869898},25]
["Aoste",1478,0.96,25,75,-4.3,59.46,{"$f":"diff_ang((G22),(F22),Id,Dd,(-1))","v":11.756717549203961},16]
["Coutelan",1452,2.0089999999999999,25,75,-1.45,62.31,{"$f":"diff_ang((G23),(F23),Id,Dd,(-1))","v":8.7747378669609262},5]
["Florange F9 F18",2758,0.49199999999999999,25,75,-3.47,63.6,{"$f":"diff_ang((G24),(F24),Id,Dd,(-1))","v":8.7712149119283858},31]
["Chartres 1",1830,1.0680000000000001,10,80,-0.15,63.32,{"$f":"diff_ang((G25),(F25),Id,Dd,(-1))","v":7.6865542529788256},11]
["Yzeure",2265,0.75,1,80,-1.6,62.92,{"$f":"diff_ang((G26),(F26),Id,Dd,(-1))","v":8.4519358385642551},17]
["Villeneuve Chatelot",2497,1.109,20,90,-2.38,62.76,{"$f":"diff_ang((G27),(F27),Id,Dd,(-1))","v":8.833213532256222},8]
["Amboise",474,1.8280000000000001,25,100,-5.2,61.4,{"$f":"diff_ang((G28),(F28),Id,Dd,(-1))","v":10.71342787017921},14]
["Floranges F10",917,1.37,25,100,-3.41,62.09,{"$f":"diff_ang((G29),(F29),Id,Dd,(-1))","v":9.6207847503792756},13]
["Labuissière II",6055,0.66200000000000003,25,100,-4.62,61.16,{"$f":"diff_ang((G30),(F30),Id,Dd,(-1))","v":10.662046630769456},9]
["Beaumont",1309,1.1459999999999999,40,110,-2.41,62.72,{"$f":"diff_ang((G31),(F31),Id,Dd,(-1))","v":8.8681510036713487},13]
["Pouillé Les Bordes F5",771,1.996,37.5,112.5,-6.44,65.73,{"$f":"diff_ang((G32),(F32),Id,Dd,(-1))","v":9.0347413142928854},8]
["Pouillé Les Bordes F6",1248,1.7090000000000001,37.5,112.5,-0.79,61.75,{"$f":"diff_ang((G33),(F33),Id,Dd,(-1))","v":8.9144223600008328},7]
["Famars FA",1288,1.21,50,150,-1.65,61.14,{"$f":"diff_ang((G34),(F34),Id,Dd,(-1))","v":9.6341314163796135},12]
["Orléans 210",1017,1.4319999999999999,25,150,1.6,62.5,{"$f":"diff_ang((G35),(F35),Id,Dd,(-1))","v":7.5854381084400915},11]
["Montans-1",673,1.6739999999999999,10,150,0.08,60.57,{"$f":"diff_ang((G36),(F36),Id,Dd,(-1))","v":9.4790876427269186},12]
["Evreux",3187,1.1870000000000001,27.5,152.5,3.75,61.78,{"$f":"diff_ang((G37),(F37),Id,Dd,(-1))","v":7.4112255248633021},6]
["Famars1355 A",1370,1.0740000000000001,35,155,-1.8,61,{"$f":"diff_ang((G38),(F38),Id,Dd,(-1))","v":9.7845513621930991},14]
["Famars1355 B",1045,2.0739999999999998,30,160,1,62.7,{"$f":"diff_ang((G39),(F39),Id,Dd,(-1))","v":7.6590334917711136},6]
["Villeneuve Chatelot II",2781,1.4510000000000001,15,165,-3.09,62.47,{"$f":"diff_ang((G40),(F40),Id,Dd,(-1))","v":9.2685952209292637},5]
["Coulanges",505,2.6890000000000001,5,165,-3.56,61.6,{"$f":"diff_ang((G41),(F41),Id,Dd,(-1))","v":9.9902354691381134},7]
["Boucheporn  F9",1229,1.7230000000000001,10,170,-0.89,57.24,{"$f":"diff_ang((G42),(F42),Id,Dd,(-1))","v":12.470801141375286},7]
["La Croisille",372,2.508,25,175,1.4,59.92,{"$f":"diff_ang((G43),(F43),Id,Dd,(-1))","v":9.5810101441223416},10]
["Varennes Sur Allier",749,2.0249999999999999,30,180,-1.63,61.09,{"$f":"diff_ang((G44),(F44),Id,Dd,(-1))","v":9.6626932916600392},8]
["Lezoux Hopital",548,1.952,20,180,-2.72,56.77,{"$f":"diff_ang((G45),(F45),Id,Dd,(-1))","v":13.40012328624058},11]
["Toulon Sur Allier",4012,0.56299999999999994,1,180,-2.65,59.98,{"$f":"diff_ang((G46),(F46),Id,Dd,(-1))","v":10.814851985749627},17]
["Lezoux-85",3206,0.67500000000000004,7.5,182.5,-5.62,60.96,{"$f":"diff_ang((G47),(F47),Id,Dd,(-1))","v":11.155685453040196},15]
["Gueugnon F6",2291,1.599,37.5,187.5,-1.04,59.79,{"$f":"diff_ang((G48),(F48),Id,Dd,(-1))","v":10.434702516162336},5]
["Rue Des Vignes",1578,1.1499999999999999,37.5,187.5,-3.67,60.61,{"$f":"diff_ang((G49),(F49),Id,Dd,(-1))","v":10.704552483777587},11]
["Lezoux LAS4",673,2.3290000000000002,10,190,-3,61.89,{"$f":"diff_ang((G50),(F50),Id,Dd,(-1))","v":9.600167031550578},7]
["Autun F05",2684,0.73799999999999999,50,200,-6.5,59.7,{"$f":"diff_ang((G51),(F51),Id,Dd,(-1))","v":12.342185351536973},15]
["Autun F10",957,1.286,50,200,-4,60.4,{"$f":"diff_ang((G52),(F52),Id,Dd,(-1))","v":10.968019297879104},14]
["Autun F664",1079,1.3220000000000001,50,200,-5.2,62.5,{"$f":"diff_ang((G53),(F53),Id,Dd,(-1))","v":10.033115618562199},12]
["Abrens",1031,1.149,25,200,-0.26,61.78,{"$f":"diff_ang((G54),(F54),Id,Dd,(-1))","v":8.7118935030599047},16]
["Gueugnon F43-85",1639,1.1279999999999999,25,200,-4.09,57.55,{"$f":"diff_ang((G55),(F55),Id,Dd,(-1))","v":13.17641552827501},11]
["Broin4",760,1.1850000000000001,32.5,202.5,-1.9,61,{"$f":"diff_ang((G56),(F56),Id,Dd,(-1))","v":9.8186598428501064},20]
["Autun F02",787,1.3160000000000001,25,205,-8,60.2,{"$f":"diff_ang((G57),(F57),Id,Dd,(-1))","v":12.531335480896809},16]
["Autun F09",202,2.516,25,205,-1.5,57.6,{"$f":"diff_ang((G58),(F58),Id,Dd,(-1))","v":12.343877548479016},17]
["Vrigny F1",279,4.0179999999999998,25,205,-2.25,59,{"$f":"diff_ang((G59),(F59),Id,Dd,(-1))","v":11.436387015922303},6]
["Vrigny F2",512,2.137,25,205,-3.75,61.36,{"$f":"diff_ang((G60),(F60),Id,Dd,(-1))","v":10.217162560235444},10]
["Vrigny F3",1393,1.2949999999999999,25,205,0.2,62.5,{"$f":"diff_ang((G61),(F61),Id,Dd,(-1))","v":8.0686027538885519},10]
["Vrigny F5",1098,1.554,25,205,-1.7,62,{"$f":"diff_ang((G62),(F62),Id,Dd,(-1))","v":9.0647020951839359},9]
["Vrigny F6inf",1792,1.4259999999999999,25,205,-2.5,63,{"$f":"diff_ang((G63),(F63),Id,Dd,(-1))","v":8.7365191757384082},7]
["Vrigny F6sup",1237,1.2989999999999999,25,205,-2.7,61.5,{"$f":"diff_ang((G64),(F64),Id,Dd,(-1))","v":9.7506826319406059},11]
["Vrigny F7",1159,1.9690000000000001,25,205,4.46,60.23,{"$f":"diff_ang((G65),(F65),Id,Dd,(-1))","v":8.4651447046441675},6]
["Boissière Ecole",2583,0.64200000000000002,35,225,-2.4500000000000002,58.95,{"$f":"diff_ang((G66),(F66),Id,Dd,(-1))","v":11.539378095277055},20]
["Famars5134",1576,1.1499999999999999,25,225,-2.8,61.5,{"$f":"diff_ang((G67),(F67),Id,Dd,(-1))","v":9.7860048303305156},11]
["Beauvais Cathédrale",1830,1.4119999999999999,50,250,-1.61,59.04,{"$f":"diff_ang((G68),(F68),Id,Dd,(-1))","v":11.202892311636612},7]
["Broin1 N",3340,0.66200000000000003,50,250,-3,60.7,{"$f":"diff_ang((G69),(F69),Id,Dd,(-1))","v":10.408974492007282},15]
["Broin1 S",3536,0.64300000000000002,50,250,-3.1,60,{"$f":"diff_ang((G70),(F70),Id,Dd,(-1))","v":10.950680796319784},15]
["Broin2",352,1.655,50,250,-3.9,60.7,{"$f":"diff_ang((G71),(F71),Id,Dd,(-1))","v":10.721507385940525},22]
["Broin3",531,1.458,50,250,-3.5,60.8,{"$f":"diff_ang((G72),(F72),Id,Dd,(-1))","v":10.511857363891275},19]
["Gueugnon F33",2816,0.78100000000000003,2.5,270.5,-3.19,60.67,{"$f":"diff_ang((G73),(F73),Id,Dd,(-1))","v":10.495806875822307},13]
["Beaumont",805,1.258,25,275,-1.2,61.42,{"$f":"diff_ang((G74),(F74),Id,Dd,(-1))","v":9.2835648564122852},17]
["Rainvillers065",4071,0.65,35,285,-2.2000000000000002,61.4,{"$f":"diff_ang((G75),(F75),Id,Dd,(-1))","v":9.6431432670805837},13]
["Rainvillers141",1527,1.3180000000000001,35,285,-2.2000000000000002,62.1,{"$f":"diff_ang((G76),(F76),Id,Dd,(-1))","v":9.1776886446266843},9]
["Famars2159",2236,1.022,32.5,292.5,-2,58.2,{"$f":"diff_ang((G77),(F77),Id,Dd,(-1))","v":11.999059222771404},10]
["Famars2995",1396,0.98799999999999999,25,300,-2.2000000000000002,60.5,{"$f":"diff_ang((G78),(F78),Id,Dd,(-1))","v":10.280376967815519},16]
["Famars7180",1603,0.99299999999999999,25,300,-3,60.6,{"$f":"diff_ang((G79),(F79),Id,Dd,(-1))","v":10.480219793186963},14]
["Famars9705",4836,0.59599999999999997,25,300,-2.9,60.7,{"$f":"diff_ang((G80),(F80),Id,Dd,(-1))","v":10.374548763207271},13]
["St Cheron",1418,1.101,20,300,-3.63,59.02,{"$f":"diff_ang((G81),(F81),Id,Dd,(-1))","v":11.867004405582243},13]
["Roissy321",4540,1.1359999999999999,50,350,-1.9,62,{"$f":"diff_ang((G82),(F82),Id,Dd,(-1))","v":9.1356120310310089},5]
["Saint Pathus4874",4045,0.81,50,350,-0.7,59.8,{"$f":"diff_ang((G83),(F83),Id,Dd,(-1))","v":10.319252835591596},9]
["Epiais Rhus",728,1.792,10,350,-0.19,62.53,{"$f":"diff_ang((G84),(F84),Id,Dd,(-1))","v":8.1862371807440528},10]
["Meaux1",5885,0.998,15,365,-0.5,61.1,{"$f":"diff_ang((G85),(F85),Id,Dd,(-1))","v":9.2748331717543486},5]
["Meaux2",11364,0.45300000000000001,15,365,-4.2,60.9,{"$f":"diff_ang((G86),(F86),Id,Dd,(-1))","v":10.68851422108726},10]
["Meaux3",6977,0.496,15,365,-1.8,61.1,{"$f":"diff_ang((G87),(F87),Id,Dd,(-1))","v":9.7136691684280994},13]
["Meaux4",13621,0.372,15,365,-3.5,62.9,{"$f":"diff_ang((G88),(F88),Id,Dd,(-1))","v":9.1659081194916094},12]
["Longjumeau47",2466,0.83499999999999996,37.5,387.5,-2.6,61.2,{"$f":"diff_ang((G89),(F89),Id,Dd,(-1))","v":9.9201385193806626},13]
["Lectoure",311,1.8540000000000001,25,400,-4.3,61.79,{"$f":"diff_ang((G90),(F90),Id,Dd,(-1))","v":10.134753803457697},20]
["Villeparisis2032",2499,0.96699999999999997,25,400,-1.9,62.8,{"$f":"diff_ang((G91),(F91),Id,Dd,(-1))","v":8.6333697708729797},10]
["Barat De Vin",1079,1.6870000000000001,1,400,-0.78,64.069999999999993,{"$f":"diff_ang((G92),(F92),Id,Dd,(-1))","v":7.5118980620697045},8]
["Lezoux III Hospice",1622,1.4990000000000001,32.5,417.5,-2.14,63.66,{"$f":"diff_ang((G93),(F93),Id,Dd,(-1))","v":8.2366300043652085},7]
["Le Thoronet",1333,1.6539999999999999,50,450,1.81,63.06,{"$f":"diff_ang((G94),(F94),Id,Dd,(-1))","v":7.1446864893733872},7]
["Saint Pathus6356",2430,0.80700000000000005,50,450,-1,65.599999999999994,{"$f":"diff_ang((G95),(F95),Id,Dd,(-1))","v":6.9517067443222071},14]
["Courdimanche",1642,1.367,25,475,-0.37,62.31,{"$f":"diff_ang((G96),(F96),Id,Dd,(-1))","v":8.3925908022172191},8]
["Saint Pathus4056",1552,1.0529999999999999,25,475,-1.3,70,{"$f":"diff_ang((G97),(F97),Id,Dd,(-1))","v":6.9822482969757704},13]
["Toulouse Pl St Etienne",5769,0.67800000000000005,50,500,1.05,67.44,{"$f":"diff_ang((G98),(F98),Id,Dd,(-1))","v":5.7910675430144058},9]
["Saint Pathus3201",3499,0.67200000000000004,25,500,0.6,66.3,{"$f":"diff_ang((G99),(F99),Id,Dd,(-1))","v":6.1277144808750723},14]
["Saint Pathus4676",6745,0.58799999999999997,25,500,4,66.599999999999994,{"$f":"diff_ang((G100),(F100),Id,Dd,(-1))","v":4.7367552823257109},10]
["Saint Pathus4679",3353,0.75,25,500,4.8,66.8,{"$f":"diff_ang((G101),(F101),Id,Dd,(-1))","v":4.39277171951559},12]
["Saint Pathus3917",5012,0.56200000000000006,25,525,-0.3,64.8,{"$f":"diff_ang((G102),(F102),Id,Dd,(-1))","v":6.9859931532547224},14]
["Louvres056",3643,0.91800000000000004,50,550,3.6,68.900000000000006,{"$f":"diff_ang((G103),(F103),Id,Dd,(-1))","v":5.0169355972273868},8]
["Masmolene I",4360,0.69199999999999995,50,550,4.83,66.61,{"$f":"diff_ang((G104),(F104),Id,Dd,(-1))","v":4.4106767737360419},11]
["Richebourg1069",4536,0.64500000000000002,50,550,5.0999999999999996,68.900000000000006,{"$f":"diff_ang((G105),(F105),Id,Dd,(-1))","v":4.5035335327469976},12]
["Richebourg1072",7450,0.503,50,550,5.2,69.599999999999994,{"$f":"diff_ang((G106),(F106),Id,Dd,(-1))","v":4.7550986047684729},12]
["Saint Pathus6128",3280,0.84399999999999997,50,550,4.5,70.3,{"$f":"diff_ang((G107),(F107),Id,Dd,(-1))","v":5.3167653347200092},10]
["Esvres226",8675,0.41099999999999998,50,600,7.8,70.099999999999994,{"$f":"diff_ang((G108),(F108),Id,Dd,(-1))","v":4.3062559562940601},15]
["Villevaudé-6897",4045,0.76,50,600,5.7,68.5,{"$f":"diff_ang((G109),(F109),Id,Dd,(-1))","v":4.1724268863406424},10]
["Villiers le Sec 2514",1444,1.202,37.5,612.5,3.7,70.7,{"$f":"diff_ang((G110),(F110),Id,Dd,(-1))","v":5.7598773374461789},11]
["Gondreville1069",3280,1.17,41,616,7.3,69.599999999999994,{"$f":"diff_ang((G111),(F111),Id,Dd,(-1))","v":4.1298006786574835},6]
["Dreux2077",3831,0.89500000000000002,50,650,3.3,69.099999999999994,{"$f":"diff_ang((G112),(F112),Id,Dd,(-1))","v":5.1785957816982364},8]
["Honguemare1003",3886,0.73299999999999998,50,650,4.0999999999999996,68.400000000000006,{"$f":"diff_ang((G113),(F113),Id,Dd,(-1))","v":4.7189227111345247},11]
["Moussy La Nouvelle 608",5961,0.78200000000000003,50,650,3.5,69.2,{"$f":"diff_ang((G114),(F114),Id,Dd,(-1))","v":5.1430734747596585},7]
["Neuville1314",3386,0.83,50,650,2.7,70.7,{"$f":"diff_ang((G115),(F115),Id,Dd,(-1))","v":6.0382579090852637},10]
["Saint Pathus3043",5249,0.52800000000000002,50,650,6.3,69.099999999999994,{"$f":"diff_ang((G116),(F116),Id,Dd,(-1))","v":4.1834271086022152},15]
["Saint Pathus3619",4426,0.72599999999999998,50,650,1.6,70.900000000000006,{"$f":"diff_ang((G117),(F117),Id,Dd,(-1))","v":6.4514087472795989},10]
["Saint Pathus5409",8452,0.432,50,650,1,70.099999999999994,{"$f":"diff_ang((G118),(F118),Id,Dd,(-1))","v":6.2770074452475368},14]
["Saint Pathus6320",3934,0.82099999999999995,50,650,3.7,69.3,{"$f":"diff_ang((G119),(F119),Id,Dd,(-1))","v":5.110938498350337},9]
["Villiers le Sec 2170",2532,1.0229999999999999,50,650,7.4,70.400000000000006,{"$f":"diff_ang((G120),(F120),Id,Dd,(-1))","v":4.6091120597642359},9]
["Villiers le Sec 4293",6035,0.53400000000000003,50,650,3.5,69.400000000000006,{"$f":"diff_ang((G121),(F121),Id,Dd,(-1))","v":5.2128088633016167},13]
["Villiers le Sec 4461",1691,0.93,50,650,-1.3,69.8,{"$f":"diff_ang((G122),(F122),Id,Dd,(-1))","v":6.9260962688405741},15]
["Belloy En France F1",18337,0.32100000000000001,25,675,1.5,70.5,{"$f":"diff_ang((G123),(F123),Id,Dd,(-1))","v":6.2898729110402831},12]
["Belloy En France F2",3328,0.79200000000000004,25,675,2,70.099999999999994,{"$f":"diff_ang((G124),(F124),Id,Dd,(-1))","v":5.9647067823853961},11]
["Belloy En France F3",3840,0.70099999999999996,25,675,1.4,70.3,{"$f":"diff_ang((G125),(F125),Id,Dd,(-1))","v":6.232958338114404},12]
["Léry0901",6798,0.503,25,675,1.5,70.5,{"$f":"diff_ang((G126),(F126),Id,Dd,(-1))","v":6.2898729110402831},13]
["Léry0902",2881,0.68700000000000006,25,675,4.0999999999999996,69.2,{"$f":"diff_ang((G127),(F127),Id,Dd,(-1))","v":4.942934647395024},16]
["Saint Pathus6305",7306,0.46500000000000002,25,675,-0.1,69.599999999999994,{"$f":"diff_ang((G128),(F128),Id,Dd,(-1))","v":6.4711294798893899},14]
["Villiers le Sec II Four N",1906,1.107,25,675,-4.0999999999999996,68.2,{"$f":"diff_ang((G129),(F129),Id,Dd,(-1))","v":7.7171898963977892},10]
["Villiers le Sec II Four S",1990,1.024,25,675,-4.0999999999999996,69.8,{"$f":"diff_ang((G130),(F130),Id,Dd,(-1))","v":7.8668541808042711},11]
["Villiers le Sec II Four W",3684,0.752,25,675,-2.9,70,{"$f":"diff_ang((G131),(F131),Id,Dd,(-1))","v":7.5089349796641551},11]
["Villiers le Sec III Fs39nr1",2457,0.67700000000000005,25,675,0.2,68.900000000000006,{"$f":"diff_ang((G132),(F132),Id,Dd,(-1))","v":6.2080793871182243},19]
["Villiers le Sec IV F5",2238,0.96499999999999997,25,675,-5,69.2,{"$f":"diff_ang((G133),(F133),Id,Dd,(-1))","v":8.0904572970184283},11]
["Léry0063",3818,0.89700000000000002,50,700,5,69.400000000000006,{"$f":"diff_ang((G134),(F134),Id,Dd,(-1))","v":4.7281437886267401},8]
["Léry0146",2320,0.79400000000000004,50,700,3,71.099999999999994,{"$f":"diff_ang((G135),(F135),Id,Dd,(-1))","v":6.175560854663023},15]
["Léry0910",2470,1.3480000000000001,50,700,11.2,71,{"$f":"diff_ang((G136),(F136),Id,Dd,(-1))","v":4.3510682272158494},6]
["Saint Pathus3597",2752,0.82799999999999996,50,700,1.1100000000000001,69.8,{"$f":"diff_ang((G137),(F137),Id,Dd,(-1))","v":6.133473397922617},12]
["Villiers le Sec 4272",4223,0.63800000000000001,25,700,-0.3,71.3,{"$f":"diff_ang((G138),(F138),Id,Dd,(-1))","v":7.1839356385109632},13]
["Bourlon1474",6690,0.48599999999999999,25,725,-0.1,70.900000000000006,{"$f":"diff_ang((G139),(F139),Id,Dd,(-1))","v":6.9416596637602259},14]
["Léry0992",2147,0.93700000000000006,25,725,7.9,72.900000000000006,{"$f":"diff_ang((G140),(F140),Id,Dd,(-1))","v":6.5077026270258918},12]
["Bourlon2335",6234,0.70199999999999996,50,750,5,71.5,{"$f":"diff_ang((G141),(F141),Id,Dd,(-1))","v":5.9352116822204808},8]
["Jossigny1786",4340,0.78200000000000003,50,750,-2.2000000000000002,71,{"$f":"diff_ang((G142),(F142),Id,Dd,(-1))","v":7.606723146211344},9]
["Jossigny1862",2403,0.98599999999999999,50,750,11,67.599999999999994,{"$f":"diff_ang((G143),(F143),Id,Dd,(-1))","v":2.0200146282194793},10]
["Jossigny2498",5651,0.57699999999999996,50,750,8.4,70.099999999999994,{"$f":"diff_ang((G144),(F144),Id,Dd,(-1))","v":4.1576294817982742},12]
["Léry1047",2964,1.018,50,750,8.6999999999999993,70.099999999999994,{"$f":"diff_ang((G145),(F145),Id,Dd,(-1))","v":4.0856516794061308},8]
["Léry2-134",2364,1.0589999999999999,50,750,12.3,71,{"$f":"diff_ang((G146),(F146),Id,Dd,(-1))","v":4.2121712360007386},9]
["Léry2-142",2473,0.91800000000000004,50,750,2.5,71.3,{"$f":"diff_ang((G147),(F147),Id,Dd,(-1))","v":6.422628752272896},11]
["Léry2-169",1760,1.5980000000000001,50,750,8.8000000000000007,71.3,{"$f":"diff_ang((G148),(F148),Id,Dd,(-1))","v":4.9982795241634523},6]
["Léry2-184",5984,0.625,50,750,6.1,70.7,{"$f":"diff_ang((G149),(F149),Id,Dd,(-1))","v":5.1311410742826933},10]
["Villiers le Sec 1943",2686,0.99399999999999999,50,750,6.9,71.599999999999994,{"$f":"diff_ang((G150),(F150),Id,Dd,(-1))","v":5.6004848947505197},9]
["Villiers le Sec 2435",3976,0.81699999999999995,50,750,3,69.900000000000006,{"$f":"diff_ang((G151),(F151),Id,Dd,(-1))","v":5.5703252155347691},9]
["Villiers le Sec 3344",2254,0.873,50,750,3.7,69.3,{"$f":"diff_ang((G152),(F152),Id,Dd,(-1))","v":5.110938498350337},13]
["Jossigny1214",3773,0.60099999999999998,12.5,787.5,7.9,69.2,{"$f":"diff_ang((G153),(F153),Id,Dd,(-1))","v":3.7326473624531458},16]
["Villiers le Sec 1733",32335,0.26900000000000002,12.5,787.5,11.3,70.8,{"$f":"diff_ang((G154),(F154),Id,Dd,(-1))","v":4.1568286772558656},10]
["Léry0740",2387,0.88900000000000001,50,800,16.8,68.7,{"$f":"diff_ang((G155),(F155),Id,Dd,(-1))","v":1.726513696272743},12]
["Saran FB",864,1.0069999999999999,50,800,5.24,70.64,{"$f":"diff_ang((G156),(F156),Id,Dd,(-1))","v":5.3120440377026608},24]
["Bourlon2432",6850,0.55200000000000005,50,850,9.6,71.3,{"$f":"diff_ang((G157),(F157),Id,Dd,(-1))","v":4.8601802581774116},11]
["Léry0953",2503,1.0289999999999999,50,850,7.1,70.900000000000006,{"$f":"diff_ang((G158),(F158),Id,Dd,(-1))","v":5.0326328680502126},9]
["Léry1036",4570,0.54600000000000004,50,850,20.100000000000001,70.400000000000006,{"$f":"diff_ang((G159),(F159),Id,Dd,(-1))","v":3.7099576965199339},16]
["Lieusaint52",3667,0.71699999999999997,50,850,12.8,70,{"$f":"diff_ang((G160),(F160),Id,Dd,(-1))","v":3.2200573710959275},12]
["Villevaudé-6405",1111,1.244,50,850,12.2,70.3,{"$f":"diff_ang((G161),(F161),Id,Dd,(-1))","v":3.5766452060101508},13]
["Villiers le Bel 0726",7902,0.46600000000000003,50,850,12.6,70.3,{"$f":"diff_ang((G162),(F162),Id,Dd,(-1))","v":3.5232177598656689},13]
["Villiers le Bel 0778",3144,0.81399999999999995,50,850,11.9,70.8,{"$f":"diff_ang((G163),(F163),Id,Dd,(-1))","v":4.0744127666284919},11]
["Villiers le Bel 1726",3095,0.996,50,850,11.8,70.599999999999994,{"$f":"diff_ang((G164),(F164),Id,Dd,(-1))","v":3.9051292172829428},8]
["Villiers le Sec 1941",844,1.4950000000000001,50,850,13.4,68.5,{"$f":"diff_ang((G165),(F165),Id,Dd,(-1))","v":1.7938850277400578},12]
["Léry0474",8325,0.66200000000000003,25,850,15.6,70.8,{"$f":"diff_ang((G166),(F166),Id,Dd,(-1))","v":3.8027062412566974},7]
["Léry0475",1960,1.091,25,850,15.7,69.900000000000006,{"$f":"diff_ang((G167),(F167),Id,Dd,(-1))","v":2.9020837696806892},10]
["Sevrey400",4429,0.51900000000000002,19.5,881.5,12.6,70.7,{"$f":"diff_ang((G168),(F168),Id,Dd,(-1))","v":3.896606338829355},18]
["Léry2-108",3260,1.0569999999999999,37.5,887.5,16.100000000000001,69.400000000000006,{"$f":"diff_ang((G169),(F169),Id,Dd,(-1))","v":2.4002864738709606},7]
["Léry2-110",4486,0.82699999999999996,37.5,887.5,22.1,68,{"$f":"diff_ang((G170),(F170),Id,Dd,(-1))","v":2.5381745838677721},8]
["Léry2-112",8285,0.47699999999999998,37.5,887.5,18.600000000000001,69.5,{"$f":"diff_ang((G171),(F171),Id,Dd,(-1))","v":2.6786515552280421},12]
["Villevaudé-4347",1897,0.997,37.5,887.5,13.3,70.099999999999994,{"$f":"diff_ang((G172),(F172),Id,Dd,(-1))","v":3.2526704236784982},12]
["Hermé3160",5498,0.69399999999999995,12.5,912.5,21.5,69.400000000000006,{"$f":"diff_ang((G173),(F173),Id,Dd,(-1))","v":3.1491419726545726},9]
["Jossigny1225",1875,0.79900000000000004,12.5,912.5,11.6,67.900000000000006,{"$f":"diff_ang((G174),(F174),Id,Dd,(-1))","v":1.9117774588153569},18]
["Peran En Pledran",1776,1.03,10,920,23.84,66.989999999999995,{"$f":"diff_ang((G175),(F175),Id,Dd,(-1))","v":3.0619526489246272},12]
["Doué La Fontaine CII",607,1.962,50,950,21.25,64.95,{"$f":"diff_ang((G176),(F176),Id,Dd,(-1))","v":2.9598521687383208},10]
["Doué La Fontaine CIV",214,2.84,50,950,16.7,61,{"$f":"diff_ang((G177),(F177),Id,Dd,(-1))","v":6.0077441467002846},13]
["Goincourt",3864,0.69799999999999995,50,950,19.79,65.39,{"$f":"diff_ang((G178),(F178),Id,Dd,(-1))","v":2.2201263480460565},12]
["Hermies1036",2348,0.997,50,950,17.5,63.4,{"$f":"diff_ang((G179),(F179),Id,Dd,(-1))","v":3.6542968885973566},10]
["Hermies1037",3205,0.85299999999999998,50,950,18.899999999999999,63.1,{"$f":"diff_ang((G180),(F180),Id,Dd,(-1))","v":4.0862708898253999},10]
["Hermies1060",3684,0.71499999999999997,50,950,22.2,64,{"$f":"diff_ang((G181),(F181),Id,Dd,(-1))","v":3.9473901719949041},12]
["Lassy01",1130,1.292,50,950,19.7,65.5,{"$f":"diff_ang((G182),(F182),Id,Dd,(-1))","v":2.1137281849393887},12]
["Pince Vent F101",3745,0.60299999999999998,50,975,20.27,64.55,{"$f":"diff_ang((G183),(F183),Id,Dd,(-1))","v":3.0105932990862816},16]
["Lassy03",1367,0.73699999999999999,25,975,16.399999999999999,64.5,{"$f":"diff_ang((G184),(F184),Id,Dd,(-1))","v":2.5053787547947266},28]
["Léry0071",7660,0.40799999999999997,25,975,18.600000000000001,63.6,{"$f":"diff_ang((G185),(F185),Id,Dd,(-1))","v":3.5686071136338255},17]
["Hermé3060",3975,0.879,12.5,987.5,20.5,64.400000000000006,{"$f":"diff_ang((G186),(F186),Id,Dd,(-1))","v":3.1903772565653186},8]
["Cesson00589",1362,1.6359999999999999,42.5,1004.5,18.5,63.3,{"$f":"diff_ang((G187),(F187),Id,Dd,(-1))","v":3.845502264534411},7]
["Acquigny 67",2013,0.72799999999999998,30,1030,18.2,63,{"$f":"diff_ang((G188),(F188),Id,Dd,(-1))","v":4.1059919606408339},20]
["Fecamp",1402,1.48,10,1040,17.309999999999999,62.8,{"$f":"diff_ang((G189),(F189),Id,Dd,(-1))","v":4.2363620302159939},8]
["Roche Guyon10520",845,1.663,50,1050,21.9,65.2,{"$f":"diff_ang((G190),(F190),Id,Dd,(-1))","v":2.9902906778472405},10]
["Rungis1275",3199,0.73299999999999998,50,1050,20.2,63.3,{"$f":"diff_ang((G191),(F191),Id,Dd,(-1))","v":4.0973088268545075},13]
["St Etienne Cloitre",3251,1.0589999999999999,50,1050,21.87,63.72,{"$f":"diff_ang((G192),(F192),Id,Dd,(-1))","v":4.0888100717121247},7]
["Villiers le Sec 1042",2994,0.79300000000000004,50,1050,20.100000000000001,59.9,{"$f":"diff_ang((G193),(F193),Id,Dd,(-1))","v":7.3288014974440587},12]
["Moulins Cephons",1138,1.1339999999999999,18,1050,16.39,61.1,{"$f":"diff_ang((G194),(F194),Id,Dd,(-1))","v":5.9024378271226716},15]
["Rungis1277",10860,0.35399999999999998,25,1075,18.600000000000001,64.8,{"$f":"diff_ang((G195),(F195),Id,Dd,(-1))","v":2.4422826205640096},16]
["Méru04",1714,1.0489999999999999,50,1100,18.5,60.1,{"$f":"diff_ang((G196),(F196),Id,Dd,(-1))","v":6.9878561402688613},12]
["Lectoure F1",4027,0.81100000000000005,25,1100,19.84,59.52,{"$f":"diff_ang((G197),(F197),Id,Dd,(-1))","v":7.673351388397208},9]
["Lectoure F71",1930,1.1000000000000001,25,1100,24.18,61.8,{"$f":"diff_ang((G198),(F198),Id,Dd,(-1))","v":6.2765100711706499},10]
["Fosses 1021",4816,0.498,12.5,1112.5,15.8,60.8,{"$f":"diff_ang((G199),(F199),Id,Dd,(-1))","v":6.200616080105382},18]
["Acquigny 69",2113,1.1200000000000001,25,1125,13.5,60.4,{"$f":"diff_ang((G200),(F200),Id,Dd,(-1))","v":6.690945933934966},9]
["Cabasse",1608,1.2050000000000001,25,1125,16.73,62.51,{"$f":"diff_ang((G201),(F201),Id,Dd,(-1))","v":4.5007011368373124},10]
["St Victor Des Oules F128 E",1158,1.629,14.5,1143.5,15.85,57.55,{"$f":"diff_ang((G202),(F202),Id,Dd,(-1))","v":9.4502507174910928},8]
["Gargas",1545,0.93899999999999995,50,1150,20.100000000000001,62.8,{"$f":"diff_ang((G203),(F203),Id,Dd,(-1))","v":4.5435606858127597},16]
["St Victor Des Oules F91",1564,0.82599999999999996,50,1150,18.61,62.62,{"$f":"diff_ang((G204),(F204),Id,Dd,(-1))","v":4.5176883357966489},20]
["Rubercy",1146,1.784,20,1170,16.07,61.55,{"$f":"diff_ang((G205),(F205),Id,Dd,(-1))","v":5.4500838037537696},7]
["Fosses  660",1227,1.304,25,1175,15.8,57.5,{"$f":"diff_ang((G206),(F206),Id,Dd,(-1))","v":9.5004439991855136},11]
["Goult",203,2.5099999999999998,25,1175,21.7,62.1,{"$f":"diff_ang((G207),(F207),Id,Dd,(-1))","v":5.4729828801862253},17]
["Mirville",770,1.857,10,1190,8.6999999999999993,59.49,{"$f":"diff_ang((G208),(F208),Id,Dd,(-1))","v":8.1847463561859257},9]
["Fosses  301",1696,0.77200000000000002,25,1225,11.27,57.67,{"$f":"diff_ang((G209),(F209),Id,Dd,(-1))","v":9.5782348401205315},21]
["Gagny3273",7061,0.51700000000000002,25,1225,11.3,57.7,{"$f":"diff_ang((G210),(F210),Id,Dd,(-1))","v":9.5457001705859668},12]
["St Victor Des Oules F128 L",998,1.754,25,1225,20.73,62.45,{"$f":"diff_ang((G211),(F211),Id,Dd,(-1))","v":4.9747506610397974},8]
["Les Bercettes",607,1.7629999999999999,1,1245,7.37,59.67,{"$f":"diff_ang((G212),(F212),Id,Dd,(-1))","v":8.2729593236843098},12]
["Douai",1789,0.98,50,1250,21.17,59.85,{"$f":"diff_ang((G213),(F213),Id,Dd,(-1))","v":7.5085845216804916},13]
["Lezoux IV",4748,0.66300000000000003,50,1250,13.98,59.21,{"$f":"diff_ang((G214),(F214),Id,Dd,(-1))","v":7.8423646385916292},11]
["Montsegur",87,4.6790000000000003,50,1250,9.1999999999999993,57.1,{"$f":"diff_ang((G215),(F215),Id,Dd,(-1))","v":10.385742881664397},12]
["Orléans",2071,0.874,50,1250,11.92,56.19,{"$f":"diff_ang((G216),(F216),Id,Dd,(-1))","v":10.977053276314647},14]
["St Gilles du Gard",1040,1.0720000000000001,50,1250,11.51,56.21,{"$f":"diff_ang((G217),(F217),Id,Dd,(-1))","v":10.992235372920975},18]
["St Julien Des Sault",1590,1.145,50,1250,15.57,56.67,{"$f":"diff_ang((G218),(F218),Id,Dd,(-1))","v":10.331931675413044},11]
["Ste Barbe S103",287,2.4510000000000001,50,1250,12.6,55.4,{"$f":"diff_ang((G219),(F219),Id,Dd,(-1))","v":11.710759334382292},13]
["Ste Barbe S89",909,1.7090000000000001,50,1250,12,56.8,{"$f":"diff_ang((G220),(F220),Id,Dd,(-1))","v":10.367268307133049},9]
["St Denis-88",1920,0.873,12.5,1262.5,10.82,57.86,{"$f":"diff_ang((G221),(F221),Id,Dd,(-1))","v":9.4412830476016367},15]
["Sorrus",1190,1.9430000000000001,1,1270,11.94,54.2,{"$f":"diff_ang((G222),(F222),Id,Dd,(-1))","v":12.947502107854993},6]
["Planier",1372,1.073,25,1275,6.81,58.9,{"$f":"diff_ang((G223),(F223),Id,Dd,(-1))","v":9.0930243528270491},14]
["Tuileries F42",1848,0.92500000000000004,13,1287,11.66,56.97,{"$f":"diff_ang((G224),(F224),Id,Dd,(-1))","v":10.228955714351056},14]
["Bruyeres-le Chatel286",2179,0.85199999999999998,37.5,1287.5,9.6,55.5,{"$f":"diff_ang((G225),(F225),Id,Dd,(-1))","v":11.889858920804112},14]
["St Denis F2",744,2.8069999999999999,50,1300,11.42,56.77,{"$f":"diff_ang((G226),(F226),Id,Dd,(-1))","v":10.448275386874105},5]
["Bonnieux",1347,1.403,25,1300,10.8,58.7,{"$f":"diff_ang((G227),(F227),Id,Dd,(-1))","v":8.6252621251001198},9]
["Ste Barbe S110",425,1.93,37.5,1312.5,5.4,55.3,{"$f":"diff_ang((G228),(F228),Id,Dd,(-1))","v":12.727989406416134},14]
["Ste Barbe S98",552,1.4730000000000001,37.5,1312.5,8.3000000000000007,55.7,{"$f":"diff_ang((G229),(F229),Id,Dd,(-1))","v":11.866529974611787},18]
["Fosses 1030",1158,0.98699999999999999,15,1315,7,56.7,{"$f":"diff_ang((G230),(F230),Id,Dd,(-1))","v":11.114492125690695},19]
["Ste Barbe S70",469,1.7050000000000001,15,1315,6.8,56.6,{"$f":"diff_ang((G231),(F231),Id,Dd,(-1))","v":11.244321537410995},16]
["Ste Barbe S93",460,1.7849999999999999,15,1315,4,55,{"$f":"diff_ang((G232),(F232),Id,Dd,(-1))","v":13.282231571265896},15]
["Chartres II",1077,0.83099999999999996,25,1325,9.25,55.14,{"$f":"diff_ang((G233),(F233),Id,Dd,(-1))","v":12.284094988579094},28]
["Caen Vieux Chateau",3448,1.141,10,1340,12.23,55.15,{"$f":"diff_ang((G234),(F234),Id,Dd,(-1))","v":11.984061745017716},6]
["Picaudiere",1299,1.6759999999999999,50,1350,6.1,52.5,{"$f":"diff_ang((G235),(F235),Id,Dd,(-1))","v":15.289509821991837},7]
["Verdun1362",1143,1.639,50,1350,5.7,57.9,{"$f":"diff_ang((G236),(F236),Id,Dd,(-1))","v":10.241271848649209},8]
["Verdun2031",1318,1.526,50,1350,3.6,60.3,{"$f":"diff_ang((G237),(F237),Id,Dd,(-1))","v":8.6389072528140947},8]
["St Ursin F1",354,3.2130000000000001,20,1370,2.23,53.86,{"$f":"diff_ang((G238),(F238),Id,Dd,(-1))","v":14.716531226254673},7]
["Sadirac S B4",2865,0.90300000000000002,25,1375,2.94,55.35,{"$f":"diff_ang((G239),(F239),Id,Dd,(-1))","v":13.181360583696797},10]
["Cadrix",841,1.371,10,1375,6.76,54.4,{"$f":"diff_ang((G240),(F240),Id,Dd,(-1))","v":13.353059016960136},14]
["St Germain La Poterie",1804,1.4219999999999999,37.5,1387.5,5.21,55.37,{"$f":"diff_ang((G241),(F241),Id,Dd,(-1))","v":12.69750806218336},7]
["Picaudiere",651,1.3560000000000001,25,1400,2.1,52.1,{"$f":"diff_ang((G242),(F242),Id,Dd,(-1))","v":16.393207662870456},18]
["Fosses 1014",470,2.5579999999999998,15,1415,2.9,57.2,{"$f":"diff_ang((G243),(F243),Id,Dd,(-1))","v":11.507214554330094},8]
["Freteval",520,1.5169999999999999,1,1426,9.1,58,{"$f":"diff_ang((G244),(F244),Id,Dd,(-1))","v":9.5335784990334975},18]
["Chambon La Forêt",402,2.5710000000000002,50,1450,5.66,61.89,{"$f":"diff_ang((G245),(F245),Id,Dd,(-1))","v":6.765920275853774},9]
["Savignies",9827,0.77200000000000002,50,1450,1,56.3,{"$f":"diff_ang((G246),(F246),Id,Dd,(-1))","v":12.780244373845429},5]
["St Vaast Seulles",1226,1.583,25,1450,7.69,58.19,{"$f":"diff_ang((G247),(F247),Id,Dd,(-1))","v":9.5851433212640167},8]
["Senlis Moules",2144,1.1120000000000001,25,1475,11.27,63.8,{"$f":"diff_ang((G248),(F248),Id,Dd,(-1))","v":3.7549625353138802},9]
["Sadirac SB3",2331,1.1479999999999999,12.5,1512.5,11.16,61.81,{"$f":"diff_ang((G249),(F249),Id,Dd,(-1))","v":5.5914060834195256},8]
["Tuileries F56",2362,0.94,48,1518,11.06,68.55,{"$f":"diff_ang((G250),(F250),Id,Dd,(-1))","v":2.4265221923587941},11]
["Louvre F15",1867,1.1180000000000001,50,1520,9.7200000000000006,65.849999999999994,{"$f":"diff_ang((G251),(F251),Id,Dd,(-1))","v":2.7608312423142096},10]
["Montreuil sur Mer",305,3.177,1,1537,9.9,63.8,{"$f":"diff_ang((G252),(F252),Id,Dd,(-1))","v":4.0813502545373987},8]
["Montpellier FRC-615",885,1.163,50,1550,8.9,67.900000000000006,{"$f":"diff_ang((G253),(F253),Id,Dd,(-1))","v":2.8657660534796818},18]
["Passel897",2422,0.61499999999999999,50,1550,10.6,67.5,{"$f":"diff_ang((G254),(F254),Id,Dd,(-1))","v":2.1465084447894194},23]
["Pierrefitte Beauvaisis",100,5.173,50,1550,7,65.3,{"$f":"diff_ang((G255),(F255),Id,Dd,(-1))","v":4.0117775397054487},9]
["St Denis F1",1281,2.1389999999999998,50,1550,7.5,67.7,{"$f":"diff_ang((G256),(F256),Id,Dd,(-1))","v":3.3445041148148023},5]
["Fosses 1010",1024,1.4279999999999999,30,1550,6.2,66.900000000000006,{"$f":"diff_ang((G257),(F257),Id,Dd,(-1))","v":3.8343707396854674},11]
["Fontaines V2",6253,0.503,15,1555,12.7,66.5,{"$f":"diff_ang((G258),(F258),Id,Dd,(-1))","v":1.395108452930488},14]
["Fontaines V3",6263,0.61,15,1555,10.3,65.8,{"$f":"diff_ang((G259),(F259),Id,Dd,(-1))","v":2.5769535152455147},10]
["Fontaines V4",14351,0.38100000000000001,15,1555,9.1,65.5,{"$f":"diff_ang((G260),(F260),Id,Dd,(-1))","v":3.1555486056529158},11]
["Fontaines V5",3665,0.754,15,1555,11.4,64.5,{"$f":"diff_ang((G261),(F261),Id,Dd,(-1))","v":3.1319242027914656},11]
["Paris Carrousel",505,2.1520000000000001,1,1568,8.6,70.44,{"$f":"diff_ang((G262),(F262),Id,Dd,(-1))","v":4.3580549710687908},10]
["Louvier21",3345,0.61699999999999999,30,1570,10.3,63.2,{"$f":"diff_ang((G263),(F263),Id,Dd,(-1))","v":4.4904490181999348},17]
["Tintaine",985,1.9239999999999999,20,1570,9.92,65.13,{"$f":"diff_ang((G264),(F264),Id,Dd,(-1))","v":3.0931801324197665},7]
["Auxon01 B",3551,0.52,25,1575,8.6,66.7,{"$f":"diff_ang((G265),(F265),Id,Dd,(-1))","v":2.9229024466014009},22]
["Blois",2562,0.75600000000000001,1,1578,7.08,61.61,{"$f":"diff_ang((G266),(F266),Id,Dd,(-1))","v":6.6205390418029797},15]
["Mt St Jean",1342,0.97399999999999998,20,1580,7.4,68,{"$f":"diff_ang((G267),(F267),Id,Dd,(-1))","v":3.4363881818877529},17]
["Fosses 901",626,1.59,15,1585,11.5,67.400000000000006,{"$f":"diff_ang((G268),(F268),Id,Dd,(-1))","v":1.7886750430415888},14]
["Montpellier FRC-539",1115,1.069,20,1600,7.1,68.599999999999994,{"$f":"diff_ang((G269),(F269),Id,Dd,(-1))","v":3.71952566732628},17]
["Blérancourt.2030",18601,0.378,12.5,1612.5,7.6,70.400000000000006,{"$f":"diff_ang((G270),(F270),Id,Dd,(-1))","v":4.5606392294983635},9]
["Blérancourt.2058",3944,0.88200000000000001,12.5,1612.5,8.1999999999999993,70.400000000000006,{"$f":"diff_ang((G271),(F271),Id,Dd,(-1))","v":4.419090510936682},8]
["Bayeux02",1735,0.996,1,1623,3.7,69.3,{"$f":"diff_ang((G272),(F272),Id,Dd,(-1))","v":5.110938498350337},13]
["Fosses  91",825,1.444,25,1625,-0.7,73.099999999999994,{"$f":"diff_ang((G273),(F273),Id,Dd,(-1))","v":8.2915161028100588},13]
["Montpellier05",2328,0.627,25,1625,5.2,71.8,{"$f":"diff_ang((G274),(F274),Id,Dd,(-1))","v":6.1036279784492891},23]
["Montpellier03",1458,0.93400000000000005,33,1647,6.6,71.5,{"$f":"diff_ang((G275),(F275),Id,Dd,(-1))","v":5.5852198944736546},17]
["Montpellier04",266,2.6659999999999999,33,1647,-2.5,71.599999999999994,{"$f":"diff_ang((G276),(F276),Id,Dd,(-1))","v":7.9432488692756982},12]
["Tavaux F2",756,2.4380000000000002,1,1666,-2.5,71.5,{"$f":"diff_ang((G277),(F277),Id,Dd,(-1))","v":7.8995849621079151},6]
["St Quentin La Poterie",2509,1.1060000000000001,25,1675,-12.2,71.900000000000006,{"$f":"diff_ang((G278),(F278),Id,Dd,(-1))","v":10.906695298194307},8]
["Pila1445",1010,1.3049999999999999,16,1676,-12.2,72.099999999999994,{"$f":"diff_ang((G279),(F279),Id,Dd,(-1))","v":10.952103917861288},13]
["Laudrefang1047",1976,1.246,14,1686,-4.9000000000000004,72.599999999999994,{"$f":"diff_ang((G280),(F280),Id,Dd,(-1))","v":9.0543328861775425},8]
["La Madrague",1796,1.425,20,1700,-12.59,71.209999999999994,{"$f":"diff_ang((G281),(F281),Id,Dd,(-1))","v":10.900888819377302},7]
["Abbaye De Domartin",7097,0.71699999999999997,5,1775,-17.32,70.7,{"$f":"diff_ang((G282),(F282),Id,Dd,(-1))","v":12.396163823684375},7]
["Orgon 01",14159,0.36499999999999999,50,1800,-21.1,70.099999999999994,{"$f":"diff_ang((G283),(F283),Id,Dd,(-1))","v":13.683819942770008},12]
["Laudrefang1042",3541,0.93100000000000005,30,1810,-17.399999999999999,69.099999999999994,{"$f":"diff_ang((G284),(F284),Id,Dd,(-1))","v":12.496808471338953},8]
["Thoronet",1626,1.6619999999999999,1,1830,-20.27,67.39,{"$f":"diff_ang((G285),(F285),Id,Dd,(-1))","v":13.863312988576313},6]
["Laudrefang01",2497,1.208,50,1900,-14.3,63.8,{"$f":"diff_ang((G286),(F286),Id,Dd,(-1))","v":12.870729072794038},7]

{"sheet":"CalculsBis","index":4,"n_rows":128,"n_cols":25,"rows_kept":128,"cut":false,"hidden":false,"merged":[]}
["Feuille de résultats du calcul par fenêtres de largeur variable"]
[]
["nom du bloc : bloc_F_var"]
[]
["Date"," Nb form."," Pds Tot"," Pds Ov","Dparis","Iparis"," Alph.Fi"," Alpha x","Omega2"," Omega"," kx "," ky "," kF ","1/2 fen","xt","yt","delta","K bis","FVAng crt95_KxKy","prob_croix","Marque","FVPro_Criti",null,null,{"$f":"MAX(T6:T155)","v":0.49281170025898408}]
[540,18,8.8550001978874207,99.694992065429688,3.5,67.800003051757813,null,null,160.5,160.5,693,2750.60009765625,1380.5999755859375,45,2.3199999999999998E-2,0.38390000000000002,{"$f":"diff_ang((F6),(E6),Id,Dd,(-1))","v":4.8611366549596751},{"$f":"K_dansDir(L6,K6,E6,F6,J6,'A dater'!$B$8,'A dater'!$A$8)","v":2597.0146213437961},{"$f":"Q6-AngCritDbl95(R6,D6,'A dater'!$C$8,Nd)","v":4.1794967707328015},{"$f":"Prob_crois_fish(Q6,R6,'A dater'!$C$8)","v":6.5879408116009184E-8},{"$f":"IF(S6<0,0.1,-10)","v":-10},{"$f":"probCritDbl(R6,D6,'A dater'!$C$8,'A dater'!$D$8,Q6)","v":1.2101957930449901E-43},{"$f":"Q6-AngCrit95_isole( R6,D6)","v":2.0739454711728298},null,{"$f":"T6/$Y$5","v":1.3368068997020162E-7}]
[580,22,8.0490001812577248,87.094001770019531,4.5999999046325684,69.199996948242188,null,null,169.89999389648438,169.89999389648438,1286.4000244140625,2338.699951171875,1734.5,40,2.86E-2,0.35920000000000002,{"$f":"diff_ang((F7),(E7),Id,Dd,(-1))","v":4.7775864308546128},{"$f":"K_dansDir(L7,K7,E7,F7,J7,'A dater'!$B$8,'A dater'!$A$8)","v":2294.0590402617086},{"$f":"Q7-AngCritDbl95(R7,D7,'A dater'!$C$8,Nd)","v":4.0506473973145294},{"$f":"Prob_crois_fish(Q7,R7,'A dater'!$C$8)","v":3.3150093833691634E-7},{"$f":"IF(S7<0,0.1,-10)","v":-10},{"$f":"probCritDbl(R7,D7,'A dater'!$C$8,'A dater'!$D$8,Q7)","v":8.2489422154593144E-38},{"$f":"Q7-AngCrit95_isole( R7,D7)","v":1.8065738606296144},null,{"$f":"T7/$Y$5","v":6.7267262153618682E-7}]
[610,20,8.132000133395195,87.191993713378906,4.4000000953674316,69.599998474121094,null,null,208,28,1801.9000244140625,2149.5,1968,30,2.69E-2,0.35270000000000001,5.0039010229798171,{"$f":"K_dansDir(L8,K8,E8,F8,J8,'A dater'!$B$8,'A dater'!$A$8)","v":1923.483611738947},{"$f":"Q8-AngCritDbl95(R8,D8,'A dater'!$C$8,Nd)","v":4.2237068983025372},{"$f":"Prob_crois_fish(Q8,R8,'A dater'!$C$8)","v":3.2051687218247858E-7},-10,{"$f":"probCritDbl(R8,D8,'A dater'!$C$8,'A dater'!$D$8,Q8)","v":1.3751302311814763E-36},1.7592721561568538,null,6.503840554395106E-7]
[635,30,10.006000056862831,111.90099334716797,3,69.699996948242188,null,null,269.90000152587891,89.900001525878906,1469.9000244140625,2140.300048828125,1773.699951171875,25,1.8599999999999998E-2,0.35110000000000002,5.4884376382237257,{"$f":"K_dansDir(L9,K9,E9,F9,J9,'A dater'!$B$8,'A dater'!$A$8)","v":1573.2889390541648},{"$f":"Q9-AngCritDbl95(R9,D9,'A dater'!$C$8,Nd)","v":4.6564288935756091},{"$f":"Prob_crois_fish(Q9,R9,'A dater'!$C$8)","v":7.6829892160484182E-8},-10,{"$f":"probCritDbl(R9,D9,'A dater'!$C$8,'A dater'!$D$8,Q9)","v":2.5563707575342056E-40},1.9121867825500631,null,1.559011121694316E-7]
[655,30,11.668000087141991,136.20799255371094,1.7999999523162842,69.800003051757813,null,null,279.80000305175781,99.800003051757813,1286.9000244140625,2186.199951171875,1677.4000244140625,20,1.11E-2,0.35110000000000002,5.9106239322722445,{"$f":"K_dansDir(L10,K10,E10,F10,J10,'A dater'!$B$8,'A dater'!$A$8)","v":1528.8242384192747},{"$f":"Q10-AngCritDbl95(R10,D10,'A dater'!$C$8,Nd)","v":5.0783740196066338},{"$f":"Prob_crois_fish(Q10,R10,'A dater'!$C$8)","v":7.1215011890327678E-9},-10,{"$f":"probCritDbl(R10,D10,'A dater'!$C$8,'A dater'!$D$8,Q10)","v":7.6340411984683775E-47},2.2900109992653479,null,1.4450755096297941E-8]
[670,28,11.32400044426322,135.34400939941406,1.2000000476837158,69.800003051757813,null,null,284.30000305175781,104.30000305175781,1287.699951171875,2186.60009765625,1678,15,7.1999999999999998E-3,0.35060000000000002,6.1042881414250729,{"$f":"K_dansDir(L11,K11,E11,F11,J11,'A dater'!$B$8,'A dater'!$A$8)","v":1575.791704191972},{"$f":"Q11-AngCritDbl95(R11,D11,'A dater'!$C$8,Nd)","v":5.2829503223170349},{"$f":"Prob_crois_fish(Q11,R11,'A dater'!$C$8)","v":1.5659381224325423E-9},-10,{"$f":"probCritDbl(R11,D11,'A dater'!$C$8,'A dater'!$D$8,Q11)","v":7.2111228475972097E-50},2.5378480498076508,null,3.1775587341161039E-9]
[685,27,11.600000441074371,139.10000610351563,1.1000000238418579,69.800003051757813,null,null,284.40000152587891,104.40000152587891,1314,2124.5,1670.800048828125,15,6.8999999999999999E-3,0.35,6.1367194636078377,{"$f":"K_dansDir(L12,K12,E12,F12,J12,'A dater'!$B$8,'A dater'!$A$8)","v":1572.3826956284131},{"$f":"Q12-AngCritDbl95(R12,D12,'A dater'!$C$8,Nd)","v":5.3158947405306876},{"$f":"Prob_crois_fish(Q12,R12,'A dater'!$C$8)","v":1.2868783685663572E-9},-10,{"$f":"probCritDbl(R12,D12,'A dater'!$C$8,'A dater'!$D$8,Q12)","v":1.2721309013606825E-50},2.5673113676320707,null,2.611298327312587E-9]
[700,41,9.1500003635883331,105.14998626708984,2.5,70.199996948242188,null,null,289.19999694824219,109.19999694824219,1044.800048828125,1677.300048828125,1323.800048828125,15,1.4800000000000001E-2,0.34339999999999998,5.8547014064363898,{"$f":"K_dansDir(L13,K13,E13,F13,J13,'A dater'!$B$8,'A dater'!$A$8)","v":1369.8082563317885},{"$f":"Q13-AngCritDbl95(R13,D13,'A dater'!$C$8,Nd)","v":4.9666904331389841},{"$f":"Prob_crois_fish(Q13,R13,'A dater'!$C$8)","v":2.323332714516021E-8},-10,{"$f":"probCritDbl(R13,D13,'A dater'!$C$8,'A dater'!$D$8,Q13)","v":1.0326254720555256E-39},2.0191515306135841,null,4.7144430891049365E-8]
[720,19,8.5000001192092896,89.299995422363281,5.1999998092651367,70.800003051757813,null,null,255.59999847412109,75.599998474121094,1109,1398.5999755859375,1245.4000244140625,20,3.0099999999999998E-2,0.33229999999999998,5.4222132932433595,{"$f":"K_dansDir(L14,K14,E14,F14,J14,'A dater'!$B$8,'A dater'!$A$8)","v":1159.9969429450621},{"$f":"Q14-AngCritDbl95(R14,D14,'A dater'!$C$8,Nd)","v":4.4561270435069451},{"$f":"Prob_crois_fish(Q14,R14,'A dater'!$C$8)","v":7.2310727242274803E-7},-10,{"$f":"probCritDbl(R14,D14,'A dater'!$C$8,'A dater'!$D$8,Q14)","v":1.7245080701494061E-30},1.2451500568651452,null,1.4673094653449548E-6]
[745,21,8.9000001028180122,93.400001525878906,5.9000000953674316,70.699996948242188,null,null,247.80000305175781,67.800003051757813,981.0999755859375,1404.5999755859375,1173.9000244140625,25,3.4599999999999999E-2,0.33429999999999999,5.1810454950069618,{"$f":"K_dansDir(L15,K15,E15,F15,J15,'A dater'!$B$8,'A dater'!$A$8)","v":1023.4822665454789},{"$f":"Q15-AngCritDbl95(R15,D15,'A dater'!$C$8,Nd)","v":4.1622852263388959},{"$f":"Prob_crois_fish(Q15,R15,'A dater'!$C$8)","v":4.3169574736810625E-6},-10,{"$f":"probCritDbl(R15,D15,'A dater'!$C$8,'A dater'!$D$8,Q15)","v":1.4156028924197368E-26},0.73675695219913262,null,8.7598518286241988E-6]
[770,22,8.9000000059604645,98.650009155273438,7.3000001907348633,70.400001525878906,null,null,245.09999847412109,65.099998474121094,940.29998779296875,1609.5,1230.199951171875,25,4.3200000000000002E-2,0.3382,4.6335797562321668,{"$f":"K_dansDir(L16,K16,E16,F16,J16,'A dater'!$B$8,'A dater'!$A$8)","v":1004.7383731729257},{"$f":"Q16-AngCritDbl95(R16,D16,'A dater'!$C$8,Nd)","v":3.6094228077660446},{"$f":"Prob_crois_fish(Q16,R16,'A dater'!$C$8)","v":5.4333319181838786E-5},-10,{"$f":"probCritDbl(R16,D16,'A dater'!$C$8,'A dater'!$D$8,Q16)","v":2.2405561408577715E-22},0.15123755581819864,null,1.1025168264731815E-4]
[795,25,8.4000001698732376,99.199989318847656,9,70.300003051757813,null,null,252,72,909.5999755859375,1629.4000244140625,1217.4000244140625,25,5.3400000000000003E-2,0.3382,4.164202678611912,{"$f":"K_dansDir(L17,K17,E17,F17,J17,'A dater'!$B$8,'A dater'!$A$8)","v":1100.7880521183613},{"$f":"Q17-AngCritDbl95(R17,D17,'A dater'!$C$8,Nd)","v":3.1817205461665838},{"$f":"Prob_crois_fish(Q17,R17,'A dater'!$C$8)","v":2.7853825535736372E-4},-10,{"$f":"probCritDbl(R17,D17,'A dater'!$C$8,'A dater'!$D$8,Q17)","v":3.4739334636324346E-20},-0.11772114875534534,null,5.6520219631754957E-4]
[825,31,8.5180002003908157,101.26300811767578,12.300000190734863,70.300003051757813,null,null,251.69999694824219,71.699996948242188,910.79998779296875,1661.9000244140625,1230.300048828125,30,7.3200000000000001E-2,0.33479999999999999,3.5628123782547911,{"$f":"K_dansDir(L18,K18,E18,F18,J18,'A dater'!$B$8,'A dater'!$A$8)","v":1322.4948853509468},{"$f":"Q18-AngCritDbl95(R18,D18,'A dater'!$C$8,Nd)","v":2.6586597778733525},{"$f":"Prob_crois_fish(Q18,R18,'A dater'!$C$8)","v":1.6262503417643463E-3},-10,{"$f":"probCritDbl(R18,D18,'A dater'!$C$8,'A dater'!$D$8,Q18)","v":5.5364129321033126E-18},-0.34257200691743606,null,3.2999426371364839E-3]
[850,18,8.6650000214576721,97.481010437011719,13.899999618530273,70.199996948242188,null,null,244.59999847412109,64.599998474121094,1041.9000244140625,1950.800048828125,1425.699951171875,25,8.2900000000000001E-2,0.33389999999999997,3.289971906115833,{"$f":"K_dansDir(L19,K19,E19,F19,J19,'A dater'!$B$8,'A dater'!$A$8)","v":1577.6517254839841},{"$f":"Q19-AngCritDbl95(R19,D19,'A dater'!$C$8,Nd)","v":2.4504540588434205},{"$f":"Prob_crois_fish(Q19,R19,'A dater'!$C$8)","v":2.749290605638922E-3},-10,{"$f":"probCritDbl(R19,D19,'A dater'!$C$8,'A dater'!$D$8,Q19)","v":9.5266678464231328E-18},-0.28729754563805487,null,5.5787851712816592E-3]
[875,16,9.1419999599456787,104.54499053955078,14.399999618530273,70.099998474121094,null,null,240.90000152587891,60.900001525878906,1015.2999877929688,2215.60009765625,1499.800048828125,25,8.5800000000000001E-2,0.3347,3.1544587072741983,{"$f":"K_dansDir(L20,K20,E20,F20,J20,'A dater'!$B$8,'A dater'!$A$8)","v":1708.6046439438935},{"$f":"Q20-AngCritDbl95(R20,D20,'A dater'!$C$8,Nd)","v":2.3476463649093273},{"$f":"Prob_crois_fish(Q20,R20,'A dater'!$C$8)","v":3.6275054694609793E-3},-10,{"$f":"probCritDbl(R20,D20,'A dater'!$C$8,'A dater'!$D$8,Q20)","v":8.1131786006847099E-18},-0.27993865485160896,null,7.3608347114215026E-3]
[900,24,10.084999978542328,120.01899719238281,16.899999618530273,68.400001525878906,null,null,205.10000038146973,25.100000381469727,392.5,911.5999755859375,598.0999755859375,25,0.1086,0.3579,1.4410143176997068,{"$f":"K_dansDir(L21,K21,E21,F21,J21,'A dater'!$B$8,'A dater'!$A$8)","v":600.0886549883636},{"$f":"Q21-AngCritDbl95(R21,D21,'A dater'!$C$8,Nd)","v":0.14940061415983941},{"$f":"Prob_crois_fish(Q21,R21,'A dater'!$C$8)","v":0.43942290022138381},-10,{"$f":"probCritDbl(R21,D21,'A dater'!$C$8,'A dater'!$D$8,Q21)","v":2.4256300844560812E-2},-4.3467306497694569,null,0.89166490972202328]
[925,16,8.1080000177025795,95.955001831054688,19,66.400001525878906,null,null,184.19999980926514,4.1999998092651367,358.10000610351563,737.4000244140625,513.9000244140625,25,0.13300000000000001,0.38629999999999998,1.3295156841771945,{"$f":"K_dansDir(L22,K22,E22,F22,J22,'A dater'!$B$8,'A dater'!$A$8)","v":628.52978817753183},{"$f":"Q22-AngCritDbl95(R22,D22,'A dater'!$C$8,Nd)","v":5.6025081557771639E-2},{"$f":"Prob_crois_fish(Q22,R22,'A dater'!$C$8)","v":0.49281170025898408},-10,{"$f":"probCritDbl(R22,D22,'A dater'!$C$8,'A dater'!$D$8,Q22)","v":3.8337913973519433E-2},-4.3406095965057707,null,1]
[960,13,8.8379998803138733,119.11600494384766,19.200000762939453,64.099998474121094,null,null,153.10000610351563,153.10000610351563,707.70001220703125,1041.9000244140625,858.70001220703125,35,0.1477,0.42309999999999998,3.1871713485617001,{"$f":"K_dansDir(L23,K23,E23,F23,J23,'A dater'!$B$8,'A dater'!$A$8)","v":903.80414331306486},{"$f":"Q23-AngCritDbl95(R23,D23,'A dater'!$C$8,Nd)","v":2.1217206675679119},{"$f":"Prob_crois_fish(Q23,R23,'A dater'!$C$8)","v":1.1203884418141285E-2},-10,{"$f":"probCritDbl(R23,D23,'A dater'!$C$8,'A dater'!$D$8,Q23)","v":1.8021584162556558E-11},-1.5285860355190883,null,2.2734615294753312E-2]
[995,17,8.5500001013278961,114.19999694824219,19.299999237060547,63.799999237060547,null,null,165.10000610351563,165.10000610351563,845.29998779296875,1189.5999755859375,1002.7999877929688,35,0.1497,0.42749999999999999,3.481262123776355,{"$f":"K_dansDir(L24,K24,E24,F24,J24,'A dater'!$B$8,'A dater'!$A$8)","v":967.9283488780718},{"$f":"Q24-AngCritDbl95(R24,D24,'A dater'!$C$8,Nd)","v":2.4471332485399313},{"$f":"Prob_crois_fish(Q24,R24,'A dater'!$C$8)","v":4.1831619690978336E-3},-10,{"$f":"probCritDbl(R24,D24,'A dater'!$C$8,'A dater'!$D$8,Q24)","v":5.4562412184830569E-14},-1.0776041046493092,null,8.4883576564831649E-3]
[null,null,null,null,null,null,null,null,null,null,null,null,null,null,null,null,null,null,null,null,null,null,null,null,{"$f":"T25/$Y$5","v":0}]
[null,null,null,null,null,null,null,null,null,null,null,null,null,null,null,null,null,null,null,null,null,null,null,null,0]
[null,null,null,null,null,null,null,null,null,null,null,null,null,null,null,null,null,null,null,null,null,null,null,null,0]
[null,null,null,null,null,null,null,null,null,null,null,null,null,null,null,null,null,null,null,null,null,null,null,null,0]
[null,null,null,null,null,null,null,null,null,null,null,null,null,null,null,null,null,null,null,null,null,null,null,null,0]
[null,null,null,null,null,null,null,null,null,null,null,null,null,null,null,null,null,null,null,null,null,null,null,null,0]
[null,null,null,null,null,null,null,null,null,null,null,null,null,null,null,null,null,null,null,null,null,null,null,null,0]
[null,null,null,null,null,null,null,null,null,null,null,null,null,null,null,null,null,null,null,null,null,null,null,null,{"$f":"T32/$Y$5","v":0}]
[null,null,null,null,null,null,null,null,null,null,null,null,null,null,null,null,null,null,null,null,null,null,null,null,{"$f":"T33/$Y$5","v":0}]
[null,null,null,null,null,null,null,null,null,null,null,null,null,null,null,null,null,null,null,null,null,null,null,null,{"$f":"T34/$Y$5","v":0}]
[null,null,null,null,null,null,null,null,null,null,null,null,null,null,null,null,null,null,null,null,null,null,null,null,{"$f":"T35/$Y$5","v":0}]
[null,null,null,null,null,null,null,null,null,null,null,null,null,null,null,null,null,null,null,null,null,null,null,null,0]
[null,null,null,null,null,null,null,null,null,null,null,null,null,null,null,null,null,null,null,null,null,null,null,null,0]
[null,null,null,null,null,null,null,null,null,null,null,null,null,null,null,null,null,null,null,null,null,null,null,null,0]
[null,null,null,null,null,null,null,null,null,null,null,null,null,null,null,null,null,null,null,null,null,null,null,null,0]
[null,null,null,null,null,null,null,null,null,null,null,null,null,null,null,null,null,null,null,null,null,null,null,null,0]
[null,null,null,null,null,null,null,null,null,null,null,null,null,null,null,null,null,null,null,null,null,null,null,null,0]
[null,null,null,null,null,null,null,null,null,null,null,null,null,null,null,null,null,null,null,null,null,null,null,null,0]
[null,null,null,null,null,null,null,null,null,null,null,null,null,null,null,null,null,null,null,null,null,null,null,null,{"$f":"T43/$Y$5","v":0}]
[null,null,null,null,null,null,null,null,null,null,null,null,null,null,null,null,null,null,null,null,null,null,null,null,{"$f":"T44/$Y$5","v":0}]
[null,null,null,null,null,null,null,null,null,null,null,null,null,null,null,null,null,null,null,null,null,null,null,null,0]
[null,null,null,null,null,null,null,null,null,null,null,null,null,null,null,null,null,null,null,null,null,null,null,null,0]
[null,null,null,null,null,null,null,null,null,null,null,null,null,null,null,null,null,null,null,null,null,null,null,null,0]
[null,null,null,null,null,null,null,null,null,null,null,null,null,null,null,null,null,null,null,null,null,null,null,null,0]
[null,null,null,null,null,null,null,null,null,null,null,null,null,null,null,null,null,null,null,null,null,null,null,null,0]
[null,null,null,null,null,null,null,null,null,null,null,null,null,null,null,null,null,null,null,null,null,null,null,null,0]
[null,null,null,null,null,null,null,null,null,null,null,null,null,null,null,null,null,null,null,null,null,null,null,null,0]
[null,null,null,null,null,null,null,null,null,null,null,null,null,null,null,null,null,null,null,null,null,null,null,null,0]
[null,null,null,null,null,null,null,null,null,null,null,null,null,null,null,null,null,null,null,null,null,null,null,null,0]
[null,null,null,null,null,null,null,null,null,null,null,null,null,null,null,null,null,null,null,null,null,null,null,null,0]
[null,null,null,null,null,null,null,null,null,null,null,null,null,null,null,null,null,null,null,null,null,null,null,null,0]
[null,null,null,null,null,null,null,null,null,null,null,null,null,null,null,null,null,null,null,null,null,null,null,null,0]
[null,null,null,null,null,null,null,null,null,null,null,null,null,null,null,null,null,null,null,null,null,null,null,null,0]
[null,null,null,null,null,null,null,null,null,null,null,null,null,null,null,null,null,null,null,null,null,null,null,null,0]
[null,null,null,null,null,null,null,null,null,null,null,null,null,null,null,null,null,null,null,null,null,null,null,null,0]
[null,null,null,null,null,null,null,null,null,null,null,null,null,null,null,null,null,null,null,null,null,null,null,null,0]
[null,null,null,null,null,null,null,null,null,null,null,null,null,null,null,null,null,null,null,null,null,null,null,null,0]
[null,null,null,null,null,null,null,null,null,null,null,null,null,null,null,null,null,null,null,null,null,null,null,null,0]
[null,null,null,null,null,null,null,null,null,null,null,null,null,null,null,null,null,null,null,null,null,null,null,null,0]
[null,null,null,null,null,null,null,null,null,null,null,null,null,null,null,null,null,null,null,null,null,null,null,null,0]
[null,null,null,null,null,null,null,null,null,null,null,null,null,null,null,null,null,null,null,null,null,null,null,null,0]
[null,null,null,null,null,null,null,null,null,null,null,null,null,null,null,null,null,null,null,null,null,null,null,null,0]
[null,null,null,null,null,null,null,null,null,null,null,null,null,null,null,null,null,null,null,null,null,null,null,null,0]
[null,null,null,null,null,null,null,null,null,null,null,null,null,null,null,null,null,null,null,null,null,null,null,null,0]
[null,null,null,null,null,null,null,null,null,null,null,null,null,null,null,null,null,null,null,null,null,null,null,null,0]
[null,null,null,null,null,null,null,null,null,null,null,null,null,null,null,null,null,null,null,null,null,null,null,null,0]
[null,null,null,null,null,null,null,null,null,null,null,null,null,null,null,null,null,null,null,null,null,null,null,null,{"$f":"T71/$Y$5","v":0}]
[null,null,null,null,null,null,null,null,null,null,null,null,null,null,null,null,null,null,null,null,null,null,null,null,0]
[null,null,null,null,null,null,null,null,null,null,null,null,null,null,null,null,null,null,null,null,null,null,null,null,0]
[null,null,null,null,null,null,null,null,null,null,null,null,null,null,null,null,null,null,null,null,null,null,null,null,0]
[null,null,null,null,null,null,null,null,null,null,null,null,null,null,null,null,null,null,null,null,null,null,null,null,0]
[null,null,null,null,null,null,null,null,null,null,null,null,null,null,null,null,null,null,null,null,null,null,null,null,0]
[null,null,null,null,null,null,null,null,null,null,null,null,null,null,null,null,null,null,null,null,null,null,null,null,0]
[null,null,null,null,null,null,null,null,null,null,null,null,null,null,null,null,null,null,null,null,null,null,null,null,0]
[null,null,null,null,null,null,null,null,null,null,null,null,null,null,null,null,null,null,null,null,null,null,null,null,0]
[null,null,null,null,null,null,null,null,null,null,null,null,null,null,null,null,null,null,null,null,null,null,null,null,0]
[null,null,null,null,null,null,null,null,null,null,null,null,null,null,null,null,null,null,null,null,null,null,null,null,0]
[null,null,null,null,null,null,null,null,null,null,null,null,null,null,null,null,null,null,null,null,null,null,null,null,0]
[null,null,null,null,null,null,null,null,null,null,null,null,null,null,null,null,null,null,null,null,null,null,null,null,0]
[null,null,null,null,null,null,null,null,null,null,null,null,null,null,null,null,null,null,null,null,null,null,null,null,0]
[null,null,null,null,null,null,null,null,null,null,null,null,null,null,null,null,null,null,null,null,null,null,null,null,0]
[null,null,null,null,null,null,null,null,null,null,null,null,null,null,null,null,null,null,null,null,null,null,null,null,0]
[null,null,null,null,null,null,null,null,null,null,null,null,null,null,null,null,null,null,null,null,null,null,null,null,0]
[null,null,null,null,null,null,null,null,null,null,null,null,null,null,null,null,null,null,null,null,null,null,null,null,0]
[null,null,null,null,null,null,null,null,null,null,null,null,null,null,null,null,null,null,null,null,null,null,null,null,0]
[null,null,null,null,null,null,null,null,null,null,null,null,null,null,null,null,null,null,null,null,null,null,null,null,0]
[null,null,null,null,null,null,null,null,null,null,null,null,null,null,null,null,null,null,null,null,null,null,null,null,{"$f":"T91/$Y$5","v":0}]
[null,null,null,null,null,null,null,null,null,null,null,null,null,null,null,null,null,null,null,null,null,null,null,null,0]
[null,null,null,null,null,null,null,null,null,null,null,null,null,null,null,null,null,null,null,null,null,null,null,null,0]
[null,null,null,null,null,null,null,null,null,null,null,null,null,null,null,null,null,null,null,null,null,null,null,null,0]
[null,null,null,null,null,null,null,null,null,null,null,null,null,null,null,null,null,null,null,null,null,null,null,null,0]
[null,null,null,null,null,null,null,null,null,null,null,null,null,null,null,null,null,null,null,null,null,null,null,null,0]
[null,null,null,null,null,null,null,null,null,null,null,null,null,null,null,null,null,null,null,null,null,null,null,null,0]
[null,null,null,null,null,null,null,null,null,null,null,null,null,null,null,null,null,null,null,null,null,null,null,null,0]
[null,null,null,null,null,null,null,null,null,null,null,null,null,null,null,null,null,null,null,null,null,null,null,null,0]
[null,null,null,null,null,null,null,null,null,null,null,null,null,null,null,null,null,null,null,null,null,null,null,null,0]
[null,null,null,null,null,null,null,null,null,null,null,null,null,null,null,null,null,null,null,null,null,null,null,null,0]
[null,null,null,null,null,null,null,null,null,null,null,null,null,null,null,null,null,null,null,null,null,null,null,null,0]
[null,null,null,null,null,null,null,null,null,null,null,null,null,null,null,null,null,null,null,null,null,null,null,null,0]
[null,null,null,null,null,null,null,null,null,null,null,null,null,null,null,null,null,null,null,null,null,null,null,null,0]
[null,null,null,null,null,null,null,null,null,null,null,null,null,null,null,null,null,null,null,null,null,null,null,null,0]
[null,null,null,null,null,null,null,null,null,null,null,null,null,null,null,null,null,null,null,null,null,null,null,null,0]
[null,null,null,null,null,null,null,null,null,null,null,null,null,null,null,null,null,null,null,null,null,null,null,null,{"$f":"T107/$Y$5","v":0}]
[null,null,null,null,null,null,null,null,null,null,null,null,null,null,null,null,null,null,null,null,null,null,null,null,0]
[null,null,null,null,null,null,null,null,null,null,null,null,null,null,null,null,null,null,null,null,null,null,null,null,0]
[null,null,null,null,null,null,null,null,null,null,null,null,null,null,null,null,null,null,null,null,null,null,null,null,0]
[null,null,null,null,null,null,null,null,null,null,null,null,null,null,null,null,null,null,null,null,null,null,null,null,0]
[null,null,null,null,null,null,null,null,null,null,null,null,null,null,null,null,null,null,null,null,null,null,null,null,0]
[null,null,null,null,null,null,null,null,null,null,null,null,null,null,null,null,null,null,null,null,null,null,null,null,0]
[null,null,null,null,null,null,null,null,null,null,null,null,null,null,null,null,null,null,null,null,null,null,null,null,0]
[null,null,null,null,null,null,null,null,null,null,null,null,null,null,null,null,null,null,null,null,null,null,null,null,0]
[null,null,null,null,null,null,null,null,null,null,null,null,null,null,null,null,null,null,null,null,null,null,null,null,0]
[null,null,null,null,null,null,null,null,null,null,null,null,null,null,null,null,null,null,null,null,null,null,null,null,0]
[null,null,null,null,null,null,null,null,null,null,null,null,null,null,null,null,null,null,null,null,null,null,null,null,0]
[null,null,null,null,null,null,null,null,null,null,null,null,null,null,null,null,null,null,null,null,null,null,null,null,0]
[null,null,null,null,null,null,null,null,null,null,null,null,null,null,null,null,null,null,null,null,null,null,null,null,0]
[null,null,null,null,null,null,null,null,null,null,null,null,null,null,null,null,null,null,null,null,null,null,null,null,0]
[null,null,null,null,null,null,null,null,null,null,null,null,null,null,null,null,null,null,null,null,null,null,null,null,0]
[null,null,null,null,null,null,null,null,null,null,null,null,null,null,null,null,null,null,null,null,null,null,null,null,0]
[null,null,null,null,null,null,null,null,null,null,null,null,null,null,null,null,null,null,null,null,null,null,null,null,0]
[null,null,null,null,null,null,null,null,null,null,null,null,null,null,null,null,null,null,null,null,null,null,null,null,0]
[null,null,null,null,null,null,null,null,null,null,null,null,null,null,null,null,null,null,null,null,null,null,null,null,0]
[null,null,null,null,null,null,null,null,null,null,null,null,null,null,null,null,null,null,null,null,null,null,null,null,0]
[null,null,null,null,null,null,null,null,null,null,null,null,null,null,null,null,null,null,null,null,null,null,null,null,0]

{"sheet":"CalculsInt10","index":5,"n_rows":250,"n_cols":31,"rows_kept":250,"cut":false,"hidden":false,"merged":[[3,27,3,28],[3,24,3,25]]}
["Feuille de résultats du calcul par interpolation 10 en 10 ans de la feuille CalculsBis"]
[1,2,3,4,5,6,7,8,9,10,11,12,13,14,15,16,17,18,19,20,21,22,23,24,25,26,null,27,28,29,30]
[]
[null,null,null,null,null,null,null,null,null,null,null,null,null,null,null,null,null,null,null,null,null,null,null,null,"CroisFisher normalisé",null,null,"Isolé normalisé"]
["Date"," Nb form"," Pds Tot"," Pds Ov","Dparis","I paris"," Alph.Fi"," Alpha x"," Alpha y"," Omega"," kx "," ky "," kF ","1/2 fen","xt","yt","delta","K bis","FVAng crt95 KxKy","prob croix","Marque","FVPro_Criti",null,null,{"$f":"MAX(T6:T250)","v":0.71738685325307006},0.05,"<- seuil",null,{"$f":"MAX(AB6:AB250)","v":0.92116419675017347},null,{"$f":"MAX(AD6:AD250)","v":0.17023754605836924}]
[540,18,8.9,99.7,3.5,67.8,null,null,null,160.5,693,2750.6,1380.6,45,2.3199999999999998E-2,0.38390000000000002,{"$f":"diff_ang((F6),(E6),Id,Dd,(-1))","v":4.8611364609628236},{"$f":"K_dansDir(L6,K6,E6,F6,J6,'A dater'!$B$8,'A dater'!$A$8)","v":2597.0138550032243},{"$f":"Q6-AngCritDbl95(R6,D6,'A dater'!$C$8,Nd)","v":4.1795003463841018},{"$f":"IF((A6=\"\"),0,Prob_crois_fish(Q6,R6,'A dater'!$C$8))","v":6.5879676609049771E-8},{"$f":"IF(S6<0,0.1,-10)","v":-10},{"$f":"probCritDbl(R6,D6,'A dater'!$C$8,'A dater'!$D$8,Q6)","v":1.2077292826814299E-43},{"$f":"Q6-AngCrit95_isole( R6,D6)","v":2.0739466402140225},null,{"$f":"T6/$Y$5","v":9.1832846267409396E-8},{"$f":"IF(Y6>$Z$5,0.05,-10)","v":-10},null,{"$f":"IF((A6=\"\"),0,ProbCrit_Isol(R6,C6,Q6))","v":3.2770443725252453E-3},{"$f":"AB6/$AC$5","v":3.5575029773047117E-3},{"$f":"IF((A6=\"\"),0,V6)","v":1.2077292826814299E-43},{"$f":"AD6/$AE$5","v":7.0943767144489767E-43}]
[550,19,8.6999999999999993,96.5,3.8,68.2,null,null,null,162.80000000000001,841.4,2647.6,1469.1,43.8,2.46E-2,0.37769999999999998,{"$f":"diff_ang((F7),(E7),Id,Dd,(-1))","v":4.7926280361088214},{"$f":"K_dansDir(L7,K7,E7,F7,J7,'A dater'!$B$8,'A dater'!$A$8)","v":2608.8479666313306},{"$f":"Q7-AngCritDbl95(R7,D7,'A dater'!$C$8,Nd)","v":4.1096763163695016},{"$f":"IF((A7=\"\"),0,Prob_crois_fish(Q7,R7,'A dater'!$C$8))","v":1.0038071094725237E-7},{"$f":"IF(S7<0,0.1,-10)","v":-10},{"$f":"probCritDbl(R7,D7,'A dater'!$C$8,'A dater'!$D$8,Q7)","v":2.3319493191741832E-42},{"$f":"Q7-AngCrit95_isole( R7,D7)","v":2.0105990873987487},null,{"$f":"T7/$Y$5","v":1.3992549555663718E-7},{"$f":"IF(Y7>$Z$5,0.05,-10)","v":-10},null,{"$f":"IF((A7=\"\"),0,ProbCrit_Isol(R7,C7,Q7))","v":3.7952846652660895E-3},{"$f":"AB7/$AC$5","v":4.1200957208885084E-3},{"$f":"IF((A7=\"\"),0,V7)","v":2.3319493191741832E-42},{"$f":"AD7/$AE$5","v":1.3698208022656935E-41}]
[560,20,8.5,93.4,4,68.5,null,null,null,165.2,989.7,2544.6999999999998,1557.5,42.5,2.5899999999999999E-2,0.37159999999999999,4.77588744831671,{"$f":"K_dansDir(L8,K8,E8,F8,J8,'A dater'!$B$8,'A dater'!$A$8)","v":2542.5107050337665},{"$f":"Q8-AngCritDbl95(R8,D8,'A dater'!$C$8,Nd)","v":4.0833772033910893},{"$f":"IF((A8=\"\"),0,Prob_crois_fish(Q8,R8,'A dater'!$C$8))","v":1.4140191814540086E-7},-10,{"$f":"probCritDbl(R8,D8,'A dater'!$C$8,'A dater'!$D$8,Q8)","v":4.8274913900416408E-41},1.956565857625082,null,1.9710692704249905E-7,-10,null,4.5389137992818763E-3,4.9273667119227637E-3,4.8274913900416408E-41,2.8357383560888745E-40]
[570,21,8.3000000000000007,90.2,4.3,68.8,null,null,null,167.5,1138.0999999999999,2441.6999999999998,1646,41.2,2.7199999999999998E-2,0.3654,4.746343200457888,{"$f":"K_dansDir(L9,K9,E9,F9,J9,'A dater'!$B$8,'A dater'!$A$8)","v":2434.5522226837311},{"$f":"Q9-AngCritDbl95(R9,D9,'A dater'!$C$8,Nd)","v":4.0390794200125537},{"$f":"IF((A9=\"\"),0,Prob_crois_fish(Q9,R9,'A dater'!$C$8))","v":2.486969993365405E-7},-10,{"$f":"probCritDbl(R9,D9,'A dater'!$C$8,'A dater'!$D$8,Q9)","v":3.176883010131389E-39},1.8637915881335063,null,3.4667069546757992E-7,-10,null,5.8876687851272527E-3,6.391551914304407E-3,3.176883010131389E-39,1.866147088987134E-38]
[580,22,8,87.1,4.5999999999999996,69.2,null,null,null,169.9,1286.4000000000001,2338.6999999999998,1734.5,40,2.86E-2,0.35920000000000002,4.7775875419744951,{"$f":"K_dansDir(L10,K10,E10,F10,J10,'A dater'!$B$8,'A dater'!$A$8)","v":2294.0587883466856},{"$f":"Q10-AngCritDbl95(R10,D10,'A dater'!$C$8,Nd)","v":4.0506541852930571},{"$f":"IF((A10=\"\"),0,Prob_crois_fish(Q10,R10,'A dater'!$C$8))","v":3.3149892931391899E-7},-10,{"$f":"probCritDbl(R10,D10,'A dater'!$C$8,'A dater'!$D$8,Q10)","v":8.2291042544137523E-38},1.8065777819569306,null,4.6209228369700451E-7,-10,null,7.4893501293242385E-3,8.1303096187914543E-3,8.2291042544137523E-38,4.833895016080791E-37]
[590,21.3,8.1,87.1,4.5,69.3,null,null,null,182.6,1458.2,2275.6,1812.3,36.700000000000003,2.8000000000000001E-2,0.35699999999999998,4.8484640235464385,{"$f":"K_dansDir(L11,K11,E11,F11,J11,'A dater'!$B$8,'A dater'!$A$8)","v":2124.8765560270012},{"$f":"Q11-AngCritDbl95(R11,D11,'A dater'!$C$8,Nd)","v":4.0990253799367631},{"$f":"IF((A11=\"\"),0,Prob_crois_fish(Q11,R11,'A dater'!$C$8))","v":3.8889764491296909E-7},-10,{"$f":"probCritDbl(R11,D11,'A dater'!$C$8,'A dater'!$D$8,Q11)","v":5.1665397875732061E-37},1.7614154902554731,null,5.4210311096372859E-7,-10,null,8.6245377903723074E-3,9.3626498085784219E-3,5.1665397875732061E-37,3.0349002950276068E-36]
[600,20.7,8.1,87.2,4.5,69.5,null,null,null,195.3,1630.1,2212.6,1890.2,33.299999999999997,2.75E-2,0.35489999999999999,4.9295036336012856,{"$f":"K_dansDir(L12,K12,E12,F12,J12,'A dater'!$B$8,'A dater'!$A$8)","v":1969.2394738641699},{"$f":"Q12-AngCritDbl95(R12,D12,'A dater'!$C$8,Nd)","v":4.1567635774417626},{"$f":"IF((A12=\"\"),0,Prob_crois_fish(Q12,R12,'A dater'!$C$8))","v":4.2063397674972665E-7},-10,{"$f":"probCritDbl(R12,D12,'A dater'!$C$8,'A dater'!$D$8,Q12)","v":2.5387485800615669E-36},1.7228057181691647,null,5.8634190861222968E-7,-10,null,9.9916535156158656E-3,1.0846767113687199E-2,2.5387485800615669E-36,1.4912976830570078E-35]
[610,20,8.1,87.2,4.4000000000000004,69.599999999999994,null,null,null,208,1801.9,2149.5,1968,30,2.69E-2,0.35270000000000001,5.0039017156423897,{"$f":"K_dansDir(L13,K13,E13,F13,J13,'A dater'!$B$8,'A dater'!$A$8)","v":1923.4835065012774},{"$f":"Q13-AngCritDbl95(R13,D13,'A dater'!$C$8,Nd)","v":4.2237147291791057},{"$f":"IF((A13=\"\"),0,Prob_crois_fish(Q13,R13,'A dater'!$C$8))","v":3.2051567470230767E-7},-10,{"$f":"probCritDbl(R13,D13,'A dater'!$C$8,'A dater'!$D$8,Q13)","v":1.3711438791445224E-36},1.7592770847447827,null,4.4678219742792037E-7,-10,null,9.7759395912749864E-3,1.0612591789568101E-2,1.3711438791445224E-36,8.0542977204006396E-36]
[620,24,8.9,97.1,3.8,69.599999999999994,null,null,null,232.8,1669.1,2145.8000000000002,1890.3,28,2.3599999999999999E-2,0.35210000000000002,5.1935083831365798,{"$f":"K_dansDir(L14,K14,E14,F14,J14,'A dater'!$B$8,'A dater'!$A$8)","v":1693.2579104690897},{"$f":"Q14-AngCritDbl95(R14,D14,'A dater'!$C$8,Nd)","v":4.3787332001931079},{"$f":"IF((A14=\"\"),0,Prob_crois_fish(Q14,R14,'A dater'!$C$8))","v":2.6013214258728355E-7},-10,{"$f":"probCritDbl(R14,D14,'A dater'!$C$8,'A dater'!$D$8,Q14)","v":3.3727346974244315E-37},1.740378991353591,null,3.6261069102073109E-7,-10,null,1.0012523632734452E-2,1.08694233536846E-2,3.3727346974244315E-37,1.9811932065021801E-36]
[630,28,9.6,107,3.3,69.7,null,null,null,257.5,1536.3,2142.1,1812.6,26,2.0299999999999999E-2,0.35139999999999999,5.3930497871019645,{"$f":"K_dansDir(L15,K15,E15,F15,J15,'A dater'!$B$8,'A dater'!$A$8)","v":1560.1387713750016},{"$f":"Q15-AngCritDbl95(R15,D15,'A dater'!$C$8,Nd)","v":4.5553383667469758},{"$f":"IF((A15=\"\"),0,Prob_crois_fish(Q15,R15,'A dater'!$C$8))","v":1.4314519098193629E-7},-10,{"$f":"probCritDbl(R15,D15,'A dater'!$C$8,'A dater'!$D$8,Q15)","v":1.4667804492110636E-38},1.7998973367605182,null,1.995369588009992E-7,-10,null,9.0941152565479546E-3,9.8724150250645761E-3,1.4667804492110636E-38,8.6160807834257055E-38]
[640,30,10.4,118,2.7,69.7,null,null,null,272.39999999999998,1424.2,2151.8000000000002,1749.6,23.8,1.67E-2,0.35110000000000002,5.5843355321173505,{"$f":"K_dansDir(L16,K16,E16,F16,J16,'A dater'!$B$8,'A dater'!$A$8)","v":1553.4192478312157},{"$f":"Q16-AngCritDbl95(R16,D16,'A dater'!$C$8,Nd)","v":4.7506615061787967},{"$f":"IF((A16=\"\"),0,Prob_crois_fish(Q16,R16,'A dater'!$C$8))","v":4.7412502485548861E-8},-10,{"$f":"probCritDbl(R16,D16,'A dater'!$C$8,'A dater'!$D$8,Q16)","v":1.051430315858103E-41},1.987375091906193,null,6.6090565042489452E-8,-10,null,6.2632540685022674E-3,6.7992808346207445E-3,1.051430315858103E-41,6.1762539475140203E-41]
[650,30,11.3,130.1,2.1,69.8,null,null,null,277.3,1332.7,2174.6999999999998,1701.5,21.2,1.2999999999999999E-2,0.35110000000000002,5.814421319230977,{"$f":"K_dansDir(L17,K17,E17,F17,J17,'A dater'!$B$8,'A dater'!$A$8)","v":1535.5915152949788},{"$f":"Q17-AngCritDbl95(R17,D17,'A dater'!$C$8,Nd)","v":4.9815813342231241},{"$f":"IF((A17=\"\"),0,Prob_crois_fish(Q17,R17,'A dater'!$C$8))","v":1.2597537002203789E-8},-10,{"$f":"probCritDbl(R17,D17,'A dater'!$C$8,'A dater'!$D$8,Q17)","v":3.1189382454987072E-45},2.2002282713734407,null,1.7560312047926252E-8,-10,null,4.113696363667557E-3,4.4657579812377593E-3,3.1189382454987072E-45,1.8321094950636324E-44]
[660,29.3,11.6,135.9,1.6,69.8,null,null,null,281.3,1287.2,2186.3000000000002,1677.6,18.3,9.7999999999999997E-3,0.35089999999999999,5.9749963041342316,{"$f":"K_dansDir(L18,K18,E18,F18,J18,'A dater'!$B$8,'A dater'!$A$8)","v":1544.1324428008377},{"$f":"Q18-AngCritDbl95(R18,D18,'A dater'!$C$8,Nd)","v":5.1463529289378052},{"$f":"IF((A18=\"\"),0,Prob_crois_fish(Q18,R18,'A dater'!$C$8))","v":4.3469332883924154E-9},-10,{"$f":"probCritDbl(R18,D18,'A dater'!$C$8,'A dater'!$D$8,Q18)","v":7.7201604904459744E-48},2.3723055748766204,null,6.0593991494000282E-9,-10,null,3.0241526573857183E-3,3.2829680832741821E-3,7.7201604904459744E-48,4.5349340784076901E-47]
[670,28,11.3,135.30000000000001,1.2,69.8,null,null,null,284.3,1287.7,2186.6,1678,15,7.1999999999999998E-3,0.35060000000000002,6.1042871041031175,{"$f":"K_dansDir(L19,K19,E19,F19,J19,'A dater'!$B$8,'A dater'!$A$8)","v":1575.7912677588981},{"$f":"Q19-AngCritDbl95(R19,D19,'A dater'!$C$8,Nd)","v":5.2829334084653965},{"$f":"IF((A19=\"\"),0,Prob_crois_fish(Q19,R19,'A dater'!$C$8))","v":1.5659527777741806E-9},-10,{"$f":"probCritDbl(R19,D19,'A dater'!$C$8,'A dater'!$D$8,Q19)","v":7.3003926624285006E-50},2.5378357186756157,null,2.1828568096462799E-9,-10,null,2.3901743891590077E-3,2.5947321851972072E-3,7.3003926624285006E-50,4.2883563769918416E-49]
[680,27.3,11.5,137.80000000000001,1.1000000000000001,69.8,null,null,null,284.39999999999998,1305.2,2145.1999999999998,1673.2,15,7.0000000000000001E-3,0.35020000000000001,6.1367184287939525,{"$f":"K_dansDir(L20,K20,E20,F20,J20,'A dater'!$B$8,'A dater'!$A$8)","v":1572.9867383830406},{"$f":"Q20-AngCritDbl95(R20,D20,'A dater'!$C$8,Nd)","v":5.3155896866168906},{"$f":"IF((A20=\"\"),0,Prob_crois_fish(Q20,R20,'A dater'!$C$8))","v":1.2824405358868582E-9},-10,{"$f":"probCritDbl(R20,D20,'A dater'!$C$8,'A dater'!$D$8,Q20)","v":1.7668698588585067E-50},2.5676910458078748,null,1.7876554749665257E-9,-10,null,2.2166648931269883E-3,2.4063732621689856E-3,1.7668698588585067E-50,1.0378849435791921E-49]
[690,31.7,10.8,127.8,1.6,69.900000000000006,null,null,null,286,1224.3,1975.4,1555.1,15,9.4999999999999998E-3,0.3478,6.0115794416913237,{"$f":"K_dansDir(L21,K21,E21,F21,J21,'A dater'!$B$8,'A dater'!$A$8)","v":1507.741651672749},{"$f":"Q21-AngCritDbl95(R21,D21,'A dater'!$C$8,Nd)","v":5.1710015163388583},{"$f":"IF((A21=\"\"),0,Prob_crois_fish(Q21,R21,'A dater'!$C$8))","v":4.1925841217123782E-9},-10,{"$f":"probCritDbl(R21,D21,'A dater'!$C$8,'A dater'!$D$8,Q21)","v":1.3331789570297803E-46},2.3635123927191444,null,5.8442444306034346E-9,-10,null,3.6263708926917277E-3,3.9367258361597242E-3,1.3331789570297803E-46,7.8312862696732837E-46]
[700,41,9.1999999999999993,105.1,2.5,70.2,null,null,null,289.2,1044.8,1677.3,1323.8,15,1.4800000000000001E-2,0.34339999999999998,5.8547027725786682,{"$f":"K_dansDir(L22,K22,E22,F22,J22,'A dater'!$B$8,'A dater'!$A$8)","v":1369.8085348507291},{"$f":"Q22-AngCritDbl95(R22,D22,'A dater'!$C$8,Nd)","v":4.9666641162220646},{"$f":"IF((A22=\"\"),0,Prob_crois_fish(Q22,R22,'A dater'!$C$8))","v":2.3233102970934574E-8},-10,{"$f":"probCritDbl(R22,D22,'A dater'!$C$8,'A dater'!$D$8,Q22)","v":1.0472446843058351E-39},2.019131372625838,null,3.2385738413774237E-8,-10,null,8.6057528474918037E-3,9.3422571978508482E-3,1.0472446843058351E-39,6.1516669415968141E-39]
[710,30,8.8000000000000007,97.2,3.8,70.5,null,null,null,272.39999999999998,1076.9000000000001,1538,1284.5999999999999,17.5,2.24E-2,0.33779999999999999,5.6223949396065125,{"$f":"K_dansDir(L23,K23,E23,F23,J23,'A dater'!$B$8,'A dater'!$A$8)","v":1228.3138077307683},{"$f":"Q23-AngCritDbl95(R23,D23,'A dater'!$C$8,Nd)","v":4.6856861472225031},{"$f":"IF((A23=\"\"),0,Prob_crois_fish(Q23,R23,'A dater'!$C$8))","v":1.7990631320154389E-7},-10,{"$f":"probCritDbl(R23,D23,'A dater'!$C$8,'A dater'!$D$8,Q23)","v":3.5750017701927531E-34},1.5678762551172571,null,2.5078005316899637E-7,-10,null,1.7462889751005756E-2,1.895741260093918E-2,3.5750017701927531E-34,2.100007814355474E-33]
[720,19,8.5,89.3,5.2,70.8,null,null,null,255.6,1109,1398.6,1245.4000000000001,20,3.0099999999999998E-2,0.33229999999999998,5.4222113153627101,{"$f":"K_dansDir(L24,K24,E24,F24,J24,'A dater'!$B$8,'A dater'!$A$8)","v":1159.9968595009818},{"$f":"Q24-AngCritDbl95(R24,D24,'A dater'!$C$8,Nd)","v":4.456125038189966},{"$f":"IF((A24=\"\"),0,Prob_crois_fish(Q24,R24,'A dater'!$C$8))","v":7.2311499616296383E-7},-10,{"$f":"probCritDbl(R24,D24,'A dater'!$C$8,'A dater'!$D$8,Q24)","v":1.7245756444031841E-30},1.2451479317135927,null,1.0079847335979448E-6,-10,null,2.6934423187936988E-2,2.9239546307770582E-2,1.7245756444031841E-30,1.0130407094871304E-29]
[730,19.8,8.6999999999999993,90.9,5.5,70.8,null,null,null,252.5,1057.8,1401,1216.8,22,3.1899999999999998E-2,0.33310000000000001,5.346287376051194,{"$f":"K_dansDir(L25,K25,E25,F25,J25,'A dater'!$B$8,'A dater'!$A$8)","v":1108.7544640098226},{"$f":"Q25-AngCritDbl95(R25,D25,'A dater'!$C$8,Nd)","v":4.3617731798236514},{"$f":"IF((A25=\"\"),0,Prob_crois_fish(Q25,R25,'A dater'!$C$8))","v":1.338636785702957E-6},-10,{"$f":"probCritDbl(R25,D25,'A dater'!$C$8,'A dater'!$D$8,Q25)","v":3.6931210686556564E-29},1.0748112889560142,null,1.8659901274086086E-6,-10,null,3.2293497385752518E-2,3.5057265034488472E-2,3.6931210686556564E-29,2.1693928009214829E-28]
[740,20.6,8.8000000000000007,92.6,5.8,70.7,null,null,null,249.4,1006.7,1403.4,1188.2,24,3.3700000000000001E-2,0.33389999999999997,5.2061886690377204,{"$f":"K_dansDir(L26,K26,E26,F26,J26,'A dater'!$B$8,'A dater'!$A$8)","v":1051.8302861028114},{"$f":"Q26-AngCritDbl95(R26,D26,'A dater'!$C$8,Nd)","v":4.1993527566001747},{"$f":"IF((A26=\"\"),0,Prob_crois_fish(Q26,R26,'A dater'!$C$8))","v":3.4058689081134695E-6},-10,{"$f":"probCritDbl(R26,D26,'A dater'!$C$8,'A dater'!$D$8,Q26)","v":3.30414902986625E-27},0.82171564901860794,null,4.7476042983910008E-6,-10,null,4.2424448489463133E-2,4.6055251212687935E-2,3.30414902986625E-27,1.9409049920946103E-26]
[750,21.2,8.9,94.5,6.2,70.599999999999994,null,null,null,247.3,972.9,1445.6,1185.2,25,3.6299999999999999E-2,0.33510000000000001,5.0404739484181338,{"$f":"K_dansDir(L27,K27,E27,F27,J27,'A dater'!$B$8,'A dater'!$A$8)","v":1018.5395652368056},{"$f":"Q27-AngCritDbl95(R27,D27,'A dater'!$C$8,Nd)","v":4.0201755003801294},{"$f":"IF((A27=\"\"),0,Prob_crois_fish(Q27,R27,'A dater'!$C$8))","v":8.5203984101581103E-6},-10,{"$f":"probCritDbl(R27,D27,'A dater'!$C$8,'A dater'!$D$8,Q27)","v":1.7614054133078807E-25},0.58611179774739242,null,1.1876992687448093E-5,-10,null,5.3640935647333889E-2,5.8231676650673934E-2,1.7614054133078807E-25,1.0346750491245619E-24]
[760,21.6,8.9,96.6,6.7,70.5,null,null,null,246.2,956.6,1527.5,1207.7,25,3.9800000000000002E-2,0.33660000000000001,4.8493567973293796,{"$f":"K_dansDir(L28,K28,E28,F28,J28,'A dater'!$B$8,'A dater'!$A$8)","v":1010.3794719217125},{"$f":"Q28-AngCritDbl95(R28,D28,'A dater'!$C$8,Nd)","v":3.826612314983862},{"$f":"IF((A28=\"\"),0,Prob_crois_fish(Q28,R28,'A dater'!$C$8))","v":2.0896357279698097E-5},-10,{"$f":"probCritDbl(R28,D28,'A dater'!$C$8,'A dater'!$D$8,Q28)","v":5.2719749865271918E-24},0.37833533936664399,null,2.9128436331027329E-5,-10,null,6.5680204117790048E-2,7.1301299322647255E-2,5.2719749865271918E-24,3.0968344578460931E-23]
[770,22,8.9,98.7,7.3,70.400000000000006,null,null,null,245.1,940.3,1609.5,1230.2,25,4.3200000000000002E-2,0.3382,4.6335787628272724,{"$f":"K_dansDir(L29,K29,E29,F29,J29,'A dater'!$B$8,'A dater'!$A$8)","v":1004.7382948577682},{"$f":"Q29-AngCritDbl95(R29,D29,'A dater'!$C$8,Nd)","v":3.6094500025146825},{"$f":"IF((A29=\"\"),0,Prob_crois_fish(Q29,R29,'A dater'!$C$8))","v":5.4333561752968445E-5},-10,{"$f":"probCritDbl(R29,D29,'A dater'!$C$8,'A dater'!$D$8,Q29)","v":2.2273460700130389E-22},0.15126548480528967,null,7.5738162062194054E-5,-10,null,8.1429752585442064E-2,8.8398738110667591E-2,2.2273460700130389E-22,1.3083753388041379E-21]
[780,23.2,8.6999999999999993,98.9,8,70.400000000000006,null,null,null,247.9,928,1617.5,1225.0999999999999,25,4.7300000000000002E-2,0.3382,{"$f":"diff_ang((F30),(E30),Id,Dd,(-1))","v":4.4656073626511601},{"$f":"K_dansDir(L30,K30,E30,F30,J30,'A dater'!$B$8,'A dater'!$A$8)","v":1038.5109523238873},{"$f":"Q30-AngCritDbl95(R30,D30,'A dater'!$C$8,Nd)","v":3.4568083489086208},{"$f":"IF((A30=\"\"),0,Prob_crois_fish(Q30,R30,'A dater'!$C$8))","v":9.8627686603916114E-5},{"$f":"IF(S30<0,0.1,-10)","v":-10},{"$f":"probCritDbl(R30,D30,'A dater'!$C$8,'A dater'!$D$8,Q30)","v":1.262570790648929E-21},{"$f":"Q30-AngCrit95_isole( R30,D30)","v":5.6930982293914134E-2},null,1.3748187070431798E-4,-10,null,8.997208040147249E-2,9.7672142185823124E-2,1.262570790648929E-21,7.4165236746072E-21]
[790,24.4,8.5,99.1,8.6999999999999993,70.3,null,null,null,250.6,915.7,1625.4,1220,25,5.1400000000000001E-2,0.3382,4.2313892076742965,{"$f":"K_dansDir(L31,K31,E31,F31,J31,'A dater'!$B$8,'A dater'!$A$8)","v":1075.3186811163771},{"$f":"Q31-AngCritDbl95(R31,D31,'A dater'!$C$8,Nd)","v":3.2384404288466495},{"$f":"IF((A31=\"\"),0,Prob_crois_fish(Q31,R31,'A dater'!$C$8))","v":2.2879361865254017E-4},-10,{"$f":"probCritDbl(R31,D31,'A dater'!$C$8,'A dater'!$D$8,Q31)","v":2.3325733246840668E-20},-0.1010274921759482,null,3.1892641691864048E-4,-10,null,0.105524671149325,0.11455576706260552,2.3325733246840668E-20,1.3701873521392858E-19]
[800,26,8.4,99.5,9.6,70.3,null,null,null,251.9,909.8,1634.8,1219.5999999999999,25.8,5.67E-2,0.33760000000000001,4.035232536216542,{"$f":"K_dansDir(L32,K32,E32,F32,J32,'A dater'!$B$8,'A dater'!$A$8)","v":1132.5444822107045},{"$f":"Q32-AngCritDbl95(R32,D32,'A dater'!$C$8,Nd)","v":3.0653918578935562},{"$f":"IF((A32=\"\"),0,Prob_crois_fish(Q32,R32,'A dater'!$C$8))","v":4.2404034821718223E-4},-10,{"$f":"probCritDbl(R32,D32,'A dater'!$C$8,'A dater'!$D$8,Q32)","v":1.3339753643498585E-19},-0.18604181801017461,null,5.9109021345223208E-4,-10,null,0.11528774068754449,0.12515438734405282,1.3339753643498585E-19,7.8359644816101806E-19]
[810,28,8.5,100.2,10.7,70.3,null,null,null,251.8,910.2,1645.7,1223.9000000000001,27.5,6.3299999999999995E-2,0.33650000000000002,3.8196322183379321,{"$f":"K_dansDir(L33,K33,E33,F33,J33,'A dater'!$B$8,'A dater'!$A$8)","v":1201.416682297672},{"$f":"Q33-AngCritDbl95(R33,D33,'A dater'!$C$8,Nd)","v":2.8754673081836666},{"$f":"IF((A33=\"\"),0,Prob_crois_fish(Q33,R33,'A dater'!$C$8))","v":8.158311773712461E-4},-10,{"$f":"probCritDbl(R33,D33,'A dater'!$C$8,'A dater'!$D$8,Q33)","v":9.5345220366199032E-19},-0.27844464613582876,null,1.1372262729262034E-3,-10,null,0.12582773099005154,0.1365964194374534,9.5345220366199032E-19,5.6007163269087582E-18]
[820,30,8.5,100.9,11.8,70.3,null,null,null,251.7,910.6,1656.5,1228.2,29.2,6.9900000000000004E-2,0.33539999999999998,3.6350803959352982,{"$f":"K_dansDir(L34,K34,E34,F34,J34,'A dater'!$B$8,'A dater'!$A$8)","v":1281.8513746293615},{"$f":"Q34-AngCritDbl95(R34,D34,'A dater'!$C$8,Nd)","v":2.7181370789927639},{"$f":"IF((A34=\"\"),0,Prob_crois_fish(Q34,R34,'A dater'!$C$8))","v":1.3566083294706396E-3},-10,{"$f":"probCritDbl(R34,D34,'A dater'!$C$8,'A dater'!$D$8,Q34)","v":3.7381310069600516E-18},-0.33193756154708653,null,1.891041525669099E-3,-10,null,0.13376130971821262,0.14520897597856777,3.7381310069600516E-18,2.1958322905326425E-17]
[830,28.4,8.5,100.5,12.6,70.3,null,null,null,250.3,937,1719.7,1269.4000000000001,29,7.51E-2,0.33460000000000001,3.5232177598656689,{"$f":"K_dansDir(L35,K35,E35,F35,J35,'A dater'!$B$8,'A dater'!$A$8)","v":1371.2527542025434},{"$f":"Q35-AngCritDbl95(R35,D35,'A dater'!$C$8,Nd)","v":2.632923322736568},{"$f":"IF((A35=\"\"),0,Prob_crois_fish(Q35,R35,'A dater'!$C$8))","v":1.7091794250646477E-3},-10,{"$f":"probCritDbl(R35,D35,'A dater'!$C$8,'A dater'!$D$8,Q35)","v":4.2915657612234689E-18},-0.31244248034831479,null,2.3825073143091268E-3,-10,null,0.13260028344528713,0.14394858583637429,4.2915657612234689E-18,2.5209278802409559E-17]
[840,23.2,8.6,99,13.3,70.2,null,null,null,247.4,989.5,1835.2,1347.5,27,7.9000000000000001E-2,0.33429999999999999,3.3474196106747773,{"$f":"K_dansDir(L36,K36,E36,F36,J36,'A dater'!$B$8,'A dater'!$A$8)","v":1471.575269131511},{"$f":"Q36-AngCritDbl95(R36,D36,'A dater'!$C$8,Nd)","v":2.4832682093655047},{"$f":"IF((A36=\"\"),0,Prob_crois_fish(Q36,R36,'A dater'!$C$8))","v":2.6769240841707635E-3},-10,{"$f":"probCritDbl(R36,D36,'A dater'!$C$8,'A dater'!$D$8,Q36)","v":1.9157397976853493E-17},-0.35584513229274117,null,3.7314930877698064E-3,-10,null,0.13943691271226041,0.15137031291944222,1.9157397976853493E-17,1.1253333016375253E-16]
[850,18,8.6999999999999993,97.5,13.9,70.2,null,null,null,244.6,1041.9000000000001,1950.8,1425.7,25,8.2900000000000001E-2,0.33389999999999997,{"$f":"diff_ang((F37),(E37),Id,Dd,(-1))","v":3.2899748291340556},{"$f":"K_dansDir(L37,K37,E37,F37,J37,'A dater'!$B$8,'A dater'!$A$8)","v":1577.6519567884161},{"$f":"Q37-AngCritDbl95(R37,D37,'A dater'!$C$8,Nd)","v":2.4504698366832405},{"$f":"IF((A37=\"\"),0,Prob_crois_fish(Q37,R37,'A dater'!$C$8))","v":2.7492607599619119E-3},{"$f":"IF(S37<0,0.1,-10)","v":-10},{"$f":"probCritDbl(R37,D37,'A dater'!$C$8,'A dater'!$D$8,Q37)","v":9.5078995004480063E-18},{"$f":"Q37-AngCrit95_isole( R37,D37)","v":-0.28728532518229999},null,3.8323266554092603E-3,-10,null,0.1304074874180042,0.14156812420421469,9.5078995004480063E-18,5.5850778636036253E-17]
[860,17.2,8.9,100.3,14.1,70.2,null,null,null,243.1,1031.3,2056.6999999999998,1455.3,25,8.4099999999999994E-2,0.3342,3.2738377570935979,{"$f":"K_dansDir(L38,K38,E38,F38,J38,'A dater'!$B$8,'A dater'!$A$8)","v":1632.8275071477574},{"$f":"Q38-AngCritDbl95(R38,D38,'A dater'!$C$8,Nd)","v":2.4484743123602266},{"$f":"IF((A38=\"\"),0,Prob_crois_fish(Q38,R38,'A dater'!$C$8))","v":2.661715537582268E-3},-10,{"$f":"probCritDbl(R38,D38,'A dater'!$C$8,'A dater'!$D$8,Q38)","v":3.6949567785216211E-18},-0.2411707268050316,null,3.7102931640194191E-3,-10,null,0.12340894373847802,0.13397062562120773,3.6949567785216211E-18,2.1704711234822038E-17]
[870,16.399999999999999,9,103.1,14.3,70.099999999999994,null,null,null,241.6,1020.6,2162.6,1485,25,8.5199999999999998E-2,0.33450000000000002,3.1614117314282586,{"$f":"K_dansDir(L39,K39,E39,F39,J39,'A dater'!$B$8,'A dater'!$A$8)","v":1680.2700964311828},{"$f":"Q39-AngCritDbl95(R39,D39,'A dater'!$C$8,Nd)","v":2.3478976694400719},{"$f":"IF((A39=\"\"),0,Prob_crois_fish(Q39,R39,'A dater'!$C$8))","v":3.6946063380011739E-3},-10,{"$f":"probCritDbl(R39,D39,'A dater'!$C$8,'A dater'!$D$8,Q39)","v":1.2955331556807304E-17},-0.30241728390961509,null,5.1500892736569851E-3,-10,null,0.13230612137364453,0.14362924855353115,1.2955331556807304E-17,7.6101493805398937E-17]
[880,17.600000000000001,9.3000000000000007,107.6,14.9,69.8,null,null,null,233.7,890.7,1954.8,1319.5,25,9.0399999999999994E-2,0.33929999999999999,2.8290126108021982,{"$f":"K_dansDir(L40,K40,E40,F40,J40,'A dater'!$B$8,'A dater'!$A$8)","v":1421.9760817620136},{"$f":"Q40-AngCritDbl95(R40,D40,'A dater'!$C$8,Nd)","v":1.9568659861483224},{"$f":"IF((A40=\"\"),0,Prob_crois_fish(Q40,R40,'A dater'!$C$8))","v":1.5445260241787174E-2},-10,{"$f":"probCritDbl(R40,D40,'A dater'!$C$8,'A dater'!$D$8,Q40)","v":4.4429405261293601E-13},-0.93446704796388191,null,2.1529890284090004E-2,-10,null,0.23848958608905804,0.25890019057453467,4.4429405261293601E-13,2.6098476094139726E-12]
[890,20.8,9.6999999999999993,113.8,15.9,69.099999999999994,null,null,null,219.4,641.6,1433.2,958.8,25,9.9500000000000005E-2,0.34860000000000002,2.1003319257291255,{"$f":"K_dansDir(L41,K41,E41,F41,J41,'A dater'!$B$8,'A dater'!$A$8)","v":946.128639217574},{"$f":"Q41-AngCritDbl95(R41,D41,'A dater'!$C$8,Nd)","v":1.0551153723327362},{"$f":"IF((A41=\"\"),0,Prob_crois_fish(Q41,R41,'A dater'!$C$8))","v":0.13817092282922913},-10,{"$f":"probCritDbl(R41,D41,'A dater'!$C$8,'A dater'!$D$8,Q41)","v":8.2767516534456299E-6},-2.5109632240814537,null,0.19260308744532714,0.05,null,0.57241274305676881,0.62140142341204274,8.2767516534456299E-6,4.8618837883199896E-5]
[900,24,10.1,120,16.899999999999999,68.400000000000006,null,null,null,205.1,392.5,911.6,598.1,25,0.1086,0.3579,1.4410128722314812,{"$f":"K_dansDir(L42,K42,E42,F42,J42,'A dater'!$B$8,'A dater'!$A$8)","v":600.08884397202291},{"$f":"Q42-AngCritDbl95(R42,D42,'A dater'!$C$8,Nd)","v":0.14939305127636349},{"$f":"IF((A42=\"\"),0,Prob_crois_fish(Q42,R42,'A dater'!$C$8))","v":0.43942359882274501},-10,{"$f":"probCritDbl(R42,D42,'A dater'!$C$8,'A dater'!$D$8,Q42)","v":2.4257354495173383E-2},-4.346740821489119,null,0.61253366552527422,0.05,null,0.84278549619925758,0.91491343147352833,2.4257354495173383E-2,0.14249121334759066]
[910,20.8,9.3000000000000007,110.4,17.7,67.599999999999994,null,null,null,196.7,378.7,841.9,564.4,25,0.11840000000000001,0.36930000000000002,0.88898290479290265,{"$f":"K_dansDir(L43,K43,E43,F43,J43,'A dater'!$B$8,'A dater'!$A$8)","v":759.42368126520398},{"$f":"Q43-AngCritDbl95(R43,D43,'A dater'!$C$8,Nd)","v":-0.2701245930498547},{"$f":"IF((A43=\"\"),0,Prob_crois_fish(Q43,R43,'A dater'!$C$8))","v":0.71738685325307006},0.1,{"$f":"probCritDbl(R43,D43,'A dater'!$C$8,'A dater'!$D$8,Q43)","v":0.17023754605836924},-4.2601453966395653,null,1,0.05,null,0.92116419675017347,1,0.17023754605836924,1]
[920,17.600000000000001,8.5,100.8,18.600000000000001,66.8,null,null,null,188.4,365,772.2,530.70000000000005,25,0.12809999999999999,0.38059999999999999,1.0394164345657697,{"$f":"K_dansDir(L44,K44,E44,F44,J44,'A dater'!$B$8,'A dater'!$A$8)","v":721.38439666324552},{"$f":"Q44-AngCritDbl95(R44,D44,'A dater'!$C$8,Nd)","v":-0.15222769500699029},{"$f":"IF((A44=\"\"),0,Prob_crois_fish(Q44,R44,'A dater'!$C$8))","v":0.63903393486464655},0.1,{"$f":"probCritDbl(R44,D44,'A dater'!$C$8,'A dater'!$D$8,Q44)","v":0.10166826084204214},-4.2495859760147745,null,0.89078010276725372,0.05,null,0.89992059165903571,0.97693830788681946,0.10166826084204214,0.59721408817290633]
[930,15.6,8.1999999999999993,99.3,19,66.099999999999994,null,null,null,179.8,408,780.9,563.20000000000005,26.4,0.1351,0.3916,1.4948235641983634,{"$f":"K_dansDir(L45,K45,E45,F45,J45,'A dater'!$B$8,'A dater'!$A$8)","v":638.41223110856902},{"$f":"Q45-AngCritDbl95(R45,D45,'A dater'!$C$8,Nd)","v":0.23228881519411582},{"$f":"IF((A45=\"\"),0,Prob_crois_fish(Q45,R45,'A dater'!$C$8))","v":0.40742885459625983},-10,{"$f":"probCritDbl(R45,D45,'A dater'!$C$8,'A dater'!$D$8,Q45)","v":1.5323398550362645E-2},-4.1287100588402001,null,0.56793465443188518,0.05,null,0.8260839429689284,0.89678251269786213,1.5323398550362645E-2,9.0011862278070676E-2]
[940,14.7,8.4,105.9,19.100000000000001,65.400000000000006,null,null,null,170.9,507.9,867.9,661.7,29.3,0.13930000000000001,0.40210000000000001,2.0305140957693637,{"$f":"K_dansDir(L46,K46,E46,F46,J46,'A dater'!$B$8,'A dater'!$A$8)","v":692.36095058992623},{"$f":"Q46-AngCritDbl95(R46,D46,'A dater'!$C$8,Nd)","v":0.81813960766822391},{"$f":"IF((A46=\"\"),0,Prob_crois_fish(Q46,R46,'A dater'!$C$8))","v":0.18442053160247271},-10,{"$f":"probCritDbl(R46,D46,'A dater'!$C$8,'A dater'!$D$8,Q46)","v":2.6729953386813029E-4},-3.3650286218641443,null,0.25707263907360084,0.05,null,0.68483185494892684,0.7434416767010521,2.6729953386813029E-4,1.5701561732831926E-3]
[950,13.9,8.6,112.5,19.100000000000001,64.8,null,null,null,162,607.79999999999995,954.9,760.2,32.1,0.14349999999999999,0.41260000000000002,2.5374864611444434,{"$f":"K_dansDir(L47,K47,E47,F47,J47,'A dater'!$B$8,'A dater'!$A$8)","v":790.47760667967179},{"$f":"Q47-AngCritDbl95(R47,D47,'A dater'!$C$8,Nd)","v":1.4007433732747598},{"$f":"IF((A47=\"\"),0,Prob_crois_fish(Q47,R47,'A dater'!$C$8))","v":6.4819478927251678E-2},-10,{"$f":"probCritDbl(R47,D47,'A dater'!$C$8,'A dater'!$D$8,Q47)","v":6.2138372970813177E-7},-2.508341121912649,null,9.0354985783919206E-2,0.05,null,0.51460010075777285,0.55864101380976294,6.2138372970813177E-7,3.6500980194761402E-6]
[960,13,8.8000000000000007,119.1,19.2,64.099999999999994,null,null,null,153.1,707.7,1041.9000000000001,858.7,35,0.1477,0.42309999999999998,3.1871698142668672,{"$f":"K_dansDir(L48,K48,E48,F48,J48,'A dater'!$B$8,'A dater'!$A$8)","v":903.80419307583657},{"$f":"Q48-AngCritDbl95(R48,D48,'A dater'!$C$8,Nd)","v":2.1217130760408693},{"$f":"IF((A48=\"\"),0,Prob_crois_fish(Q48,R48,'A dater'!$C$8))","v":1.1203931993265453E-2},-10,{"$f":"probCritDbl(R48,D48,'A dater'!$C$8,'A dater'!$D$8,Q48)","v":1.8030468617033976E-11},-1.528594153808541,null,1.5617699073324224E-2,-10,null,0.31227387382028354,0.33899914360759131,1.8030468617033976E-11,1.0591358389794857E-10]
[970,14.1,8.8000000000000007,117.7,19.2,64,null,null,null,156.5,747,1084.0999999999999,899.9,35,0.14829999999999999,0.4244,3.2793878597152113,{"$f":"K_dansDir(L49,K49,E49,F49,J49,'A dater'!$B$8,'A dater'!$A$8)","v":920.92148767598951},{"$f":"Q49-AngCritDbl95(R49,D49,'A dater'!$C$8,Nd)","v":2.2226294276812291},{"$f":"IF((A49=\"\"),0,Prob_crois_fish(Q49,R49,'A dater'!$C$8))","v":8.3698119235666932E-3},-10,{"$f":"probCritDbl(R49,D49,'A dater'!$C$8,'A dater'!$D$8,Q49)","v":3.3159853247102081E-12},-1.3929081985241054,null,1.1667082949196595E-2,-10,null,0.28692061476842862,0.31147608187625164,3.3159853247102081E-12,1.9478578031037044E-11]
[980,15.3,8.6999999999999993,116.3,19.3,63.9,null,null,null,160,786.3,1126.3,941,35,0.14879999999999999,0.42559999999999998,3.3885769004584656,{"$f":"K_dansDir(L50,K50,E50,F50,J50,'A dater'!$B$8,'A dater'!$A$8)","v":940.69419683388389},{"$f":"Q50-AngCritDbl95(R50,D50,'A dater'!$C$8,Nd)","v":2.3416070809602587},{"$f":"IF((A50=\"\"),0,Prob_crois_fish(Q50,R50,'A dater'!$C$8))","v":5.8494038933360731E-3},-10,{"$f":"probCritDbl(R50,D50,'A dater'!$C$8,'A dater'!$D$8,Q50)","v":4.1978548374319102E-13},-1.2349236497559879,null,8.153765108478506E-3,-10,null,0.25936923235792958,0.28156677525350288,4.1978548374319102E-13,2.465880726448321E-12]
[990,16.399999999999999,8.6,114.9,19.3,63.8,null,null,null,163.4,825.6,1168.5,982.2,35,0.14940000000000001,0.4269,3.4812615398755469,{"$f":"K_dansDir(L51,K51,E51,F51,J51,'A dater'!$B$8,'A dater'!$A$8)","v":957.55491444814413},{"$f":"Q51-AngCritDbl95(R51,D51,'A dater'!$C$8,Nd)","v":2.4422763953173323},{"$f":"IF((A51=\"\"),0,Prob_crois_fish(Q51,R51,'A dater'!$C$8))","v":4.2640151305286776E-3},-10,{"$f":"probCritDbl(R51,D51,'A dater'!$C$8,'A dater'!$D$8,Q51)","v":6.9338257233190568E-14},-1.1019365071882135,null,5.9438155455358976E-3,-10,null,0.23745903981721048,0.25778144727612673,6.9338257233190568E-14,4.0730296481962097E-13]
[null,25.4,9.1,107.6,17.7,67.7,null,null,null,197.4,371.7,851.2,562.29999999999995,25,0.1179,0.36899999999999999,0.9583687698966582,{"$f":"K_dansDir(L52,K52,E52,F52,J52,'A dater'!$B$8,'A dater'!$A$8)","v":740.41072649308592},{"$f":"Q52-AngCritDbl95(R52,D52,'A dater'!$C$8,Nd)","v":-0.21576274109900806},{"$f":"IF((A52=\"\"),0,Prob_crois_fish(Q52,R52,'A dater'!$C$8))","v":0},0.1,{"$f":"probCritDbl(R52,D52,'A dater'!$C$8,'A dater'!$D$8,Q52)","v":0.13482661295989712},-4.2580515738306088,null,0,-10,null,0,0,0,0]
[null,25,8.6,101.4,18.600000000000001,66.900000000000006,null,null,null,191,339.9,748.4,504.3,25,0.12740000000000001,0.3795,1.0228130981545174,{"$f":"K_dansDir(L53,K53,E53,F53,J53,'A dater'!$B$8,'A dater'!$A$8)","v":710.20251596600076},{"$f":"Q53-AngCritDbl95(R53,D53,'A dater'!$C$8,Nd)","v":-0.17726048685230844},{"$f":"IF((A53=\"\"),0,Prob_crois_fish(Q53,R53,'A dater'!$C$8))","v":0},0.1,{"$f":"probCritDbl(R53,D53,'A dater'!$C$8,'A dater'!$D$8,Q53)","v":0.11264595592303475},-4.3072981504479015,null,0,-10,null,0,0,0,0]
[null,23.3,8.8000000000000007,107.5,18.8,66.2,null,null,null,184.8,397.2,796.7,561.4,27.9,0.13250000000000001,0.39,1.369681049440937,{"$f":"K_dansDir(L54,K54,E54,F54,J54,'A dater'!$B$8,'A dater'!$A$8)","v":619.13886030981041},{"$f":"Q54-AngCritDbl95(R54,D54,'A dater'!$C$8,Nd)","v":9.2473345671157725E-2},{"$f":"IF((A54=\"\"),0,Prob_crois_fish(Q54,R54,'A dater'!$C$8))","v":0},-10,{"$f":"probCritDbl(R54,D54,'A dater'!$C$8,'A dater'!$D$8,Q54)","v":3.2091794295362332E-2},-4.335239213964341,null,0,-10,null,0,0,0,0]
[null,21.6,8.9,113.6,18.899999999999999,65.5,null,null,null,178.7,454.6,845.1,618.6,30.7,0.13750000000000001,0.40050000000000002,1.9006877997409506,{"$f":"K_dansDir(L55,K55,E55,F55,J55,'A dater'!$B$8,'A dater'!$A$8)","v":601.85623330329724},{"$f":"Q55-AngCritDbl95(R55,D55,'A dater'!$C$8,Nd)","v":0.60863302430947841},{"$f":"IF((A55=\"\"),0,Prob_crois_fish(Q55,R55,'A dater'!$C$8))","v":0},-10,{"$f":"probCritDbl(R55,D55,'A dater'!$C$8,'A dater'!$D$8,Q55)","v":1.6626681853820389E-3},-3.8819817055530814,null,0,-10,null,0,0,0,0]
[null,19.899999999999999,9.1,119.8,19.100000000000001,64.8,null,null,null,172.5,511.9,893.4,675.7,33.6,0.1426,0.41099999999999998,2.5374864611444434,{"$f":"K_dansDir(L56,K56,E56,F56,J56,'A dater'!$B$8,'A dater'!$A$8)","v":643.75180174666787},{"$f":"Q56-AngCritDbl95(R56,D56,'A dater'!$C$8,Nd)","v":1.2882064765942141},{"$f":"IF((A56=\"\"),0,Prob_crois_fish(Q56,R56,'A dater'!$C$8))","v":0},-10,{"$f":"probCritDbl(R56,D56,'A dater'!$C$8,'A dater'!$D$8,Q56)","v":6.3855578100228499E-6},-3.0504759743033092,null,0,-10,null,0,0,0,0]
[null,18.7,9,120.6,19.2,64.400000000000006,null,null,null,167.9,591.79999999999995,956,751.4,34.200000000000003,0.14560000000000001,0.41789999999999999,2.9135944200805506,{"$f":"K_dansDir(L57,K57,E57,F57,J57,'A dater'!$B$8,'A dater'!$A$8)","v":726.83394162495927},{"$f":"Q57-AngCritDbl95(R57,D57,'A dater'!$C$8,Nd)","v":1.7342854525983946},{"$f":"IF((A57=\"\"),0,Prob_crois_fish(Q57,R57,'A dater'!$C$8))","v":0},-10,{"$f":"probCritDbl(R57,D57,'A dater'!$C$8,'A dater'!$D$8,Q57)","v":2.9032477619305179E-8},-2.3446981411690828,null,0,-10,null,0,0,0,0]
[null,18,8.6,116.1,19.2,64.2,null,null,null,165,694.3,1033,845.6,32.5,0.1467,0.42120000000000002,3.095434531701061,{"$f":"K_dansDir(L58,K58,E58,F58,J58,'A dater'!$B$8,'A dater'!$A$8)","v":827.41888882393755},{"$f":"Q58-AngCritDbl95(R58,D58,'A dater'!$C$8,Nd)","v":1.9840864036133607},{"$f":"IF((A58=\"\"),0,Prob_crois_fish(Q58,R58,'A dater'!$C$8))","v":0},-10,{"$f":"probCritDbl(R58,D58,'A dater'!$C$8,'A dater'!$D$8,Q58)","v":3.9118079372565921E-10},-1.8346794799256818,null,0,-10,null,0,0,0,0]
[null,17.3,8.1999999999999993,111.6,19.2,64,null,null,null,162.1,796.8,1109.9000000000001,939.8,30.8,0.14779999999999999,0.42449999999999999,3.2793878597152113,{"$f":"K_dansDir(L59,K59,E59,F59,J59,'A dater'!$B$8,'A dater'!$A$8)","v":927.85210349269607},{"$f":"Q59-AngCritDbl95(R59,D59,'A dater'!$C$8,Nd)","v":2.2237764837261711},{"$f":"IF((A59=\"\"),0,Prob_crois_fish(Q59,R59,'A dater'!$C$8))","v":0},-10,{"$f":"probCritDbl(R59,D59,'A dater'!$C$8,'A dater'!$D$8,Q59)","v":3.476642891368223E-12},-1.3781455162229022,null,0,-10,null,0,0,0,0]
[null,17.600000000000001,8.1,108.4,19.2,63.8,null,null,null,161,836.2,1166.8,987.1,30.7,0.1487,0.42780000000000001,3.4651178661207718,{"$f":"K_dansDir(L60,K60,E60,F60,J60,'A dater'!$B$8,'A dater'!$A$8)","v":973.66885018986943},{"$f":"Q60-AngCritDbl95(R60,D60,'A dater'!$C$8,Nd)","v":2.4312273309518879},{"$f":"IF((A60=\"\"),0,Prob_crois_fish(Q60,R60,'A dater'!$C$8))","v":0},-10,{"$f":"probCritDbl(R60,D60,'A dater'!$C$8,'A dater'!$D$8,Q60)","v":7.9081749320662324E-14},-1.0829723206533899,null,0,-10,null,0,0,0,0]
[null,18.7,8.1,106.6,19.2,63.6,null,null,null,161.5,812.3,1203.9000000000001,987.5,32.1,0.14949999999999999,0.43099999999999999,3.6523535169932697,{"$f":"K_dansDir(L61,K61,E61,F61,J61,'A dater'!$B$8,'A dater'!$A$8)","v":964.20558038443392},{"$f":"Q61-AngCritDbl95(R61,D61,'A dater'!$C$8,Nd)","v":2.6129696937899922},{"$f":"IF((A61=\"\"),0,Prob_crois_fish(Q61,R61,'A dater'!$C$8))","v":0},-10,{"$f":"probCritDbl(R61,D61,'A dater'!$C$8,'A dater'!$D$8,Q61)","v":5.9467380495752288E-15},-0.91891235875994548,null,0,-10,null,0,0,0,0]
[null,19.899999999999999,8.1999999999999993,104.7,19.100000000000001,63.4,null,null,null,162.1,788.4,1241,988,33.6,0.15040000000000001,0.43409999999999999,3.8264958549944099,{"$f":"K_dansDir(L62,K62,E62,F62,J62,'A dater'!$B$8,'A dater'!$A$8)","v":947.47291241185474},{"$f":"Q62-AngCritDbl95(R62,D62,'A dater'!$C$8,Nd)","v":2.7778106721630831},{"$f":"IF((A62=\"\"),0,Prob_crois_fish(Q62,R62,'A dater'!$C$8))","v":0},-10,{"$f":"probCritDbl(R62,D62,'A dater'!$C$8,'A dater'!$D$8,Q62)","v":6.7729516749062544E-16},-0.78597232754339696,null,0,-10,null,0,0,0,0]
[null,21,8.3000000000000007,102.9,19.100000000000001,63.2,null,null,null,162.6,764.5,1278.0999999999999,988.4,35,0.1512,0.43730000000000002,4.0167042783640703,{"$f":"K_dansDir(L63,K63,E63,F63,J63,'A dater'!$B$8,'A dater'!$A$8)","v":933.10852568980931},{"$f":"Q63-AngCritDbl95(R63,D63,'A dater'!$C$8,Nd)","v":2.9597469807661954},{"$f":"IF((A63=\"\"),0,Prob_crois_fish(Q63,R63,'A dater'!$C$8))","v":0},-10,{"$f":"probCritDbl(R63,D63,'A dater'!$C$8,'A dater'!$D$8,Q63)","v":5.6719963781981833E-17},-0.63213188376477891,null,0,-10,null,0,0,0,0]
[null,19,8.4,103.3,19.2,63.1,null,null,null,164.9,736.1,1271.3,966.9,36.200000000000003,0.15279999999999999,0.43980000000000002,4.1256807418578081,{"$f":"K_dansDir(L64,K64,E64,F64,J64,'A dater'!$B$8,'A dater'!$A$8)","v":892.71041245849847},{"$f":"Q64-AngCritDbl95(R64,D64,'A dater'!$C$8,Nd)","v":3.047231529937529},{"$f":"IF((A64=\"\"),0,Prob_crois_fish(Q64,R64,'A dater'!$C$8))","v":0},-10,{"$f":"probCritDbl(R64,D64,'A dater'!$C$8,'A dater'!$D$8,Q64)","v":3.6339523598805164E-17},-0.62701332355377737,null,0,-10,null,0,0,0,0]
[null,17,8.5,103.7,19.2,62.9,null,null,null,167.2,707.8,1264.5,945.5,37.5,0.15440000000000001,0.44219999999999998,4.3166933510823409,{"$f":"K_dansDir(L65,K65,E65,F65,J65,'A dater'!$B$8,'A dater'!$A$8)","v":843.99465111851862},{"$f":"Q65-AngCritDbl95(R65,D65,'A dater'!$C$8,Nd)","v":3.2101760098234902},{"$f":"IF((A65=\"\"),0,Prob_crois_fish(Q65,R65,'A dater'!$C$8))","v":0},-10,{"$f":"probCritDbl(R65,D65,'A dater'!$C$8,'A dater'!$D$8,Q65)","v":9.8239791144995509E-18},-0.57109218465672829,null,0,-10,null,0,0,0,0]
[null,15,8.6,104.1,19.3,62.7,null,null,null,169.4,679.4,1257.7,924,38.799999999999997,0.156,0.4446,4.5213905393478431,{"$f":"K_dansDir(L66,K66,E66,F66,J66,'A dater'!$B$8,'A dater'!$A$8)","v":800.04794736437259},{"$f":"Q66-AngCritDbl95(R66,D66,'A dater'!$C$8,Nd)","v":3.3873212211869181},{"$f":"IF((A66=\"\"),0,Prob_crois_fish(Q66,R66,'A dater'!$C$8))","v":0},-10,{"$f":"probCritDbl(R66,D66,'A dater'!$C$8,'A dater'!$D$8,Q66)","v":2.1978429852460564E-18},-0.49869382438606369,null,0,-10,null,0,0,0,0]
[null,13,8.6999999999999993,104.5,19.399999999999999,62.6,null,null,null,171.7,651.1,1250.9000000000001,902.5,40,0.15759999999999999,0.4471,4.6303561571136429,{"$f":"K_dansDir(L67,K67,E67,F67,J67,'A dater'!$B$8,'A dater'!$A$8)","v":758.08000457847174},{"$f":"Q67-AngCritDbl95(R67,D67,'A dater'!$C$8,Nd)","v":3.4676987212236083},{"$f":"IF((A67=\"\"),0,Prob_crois_fish(Q67,R67,'A dater'!$C$8))","v":0},-10,{"$f":"probCritDbl(R67,D67,'A dater'!$C$8,'A dater'!$D$8,Q67)","v":2.3280636176850298E-18},-0.526667900768512,null,0,-10,null,0,0,0,0]
[null,13.6,8.6,103.4,19.3,62.4,null,null,null,167.6,654.4,1196.5,884.2,38.6,0.15790000000000001,0.45100000000000001,4.8096804580085557,{"$f":"K_dansDir(L68,K68,E68,F68,J68,'A dater'!$B$8,'A dater'!$A$8)","v":773.57013320995395},{"$f":"Q68-AngCritDbl95(R68,D68,'A dater'!$C$8,Nd)","v":3.6574060525470404},{"$f":"IF((A68=\"\"),0,Prob_crois_fish(Q68,R68,'A dater'!$C$8))","v":0},-10,{"$f":"probCritDbl(R68,D68,'A dater'!$C$8,'A dater'!$D$8,Q68)","v":8.5725978455531604E-20},-0.29607160352418749,null,0,-10,null,0,0,0,0]
[null,14.1,8.4,102.4,19.2,62.1,null,null,null,163.5,657.7,1142.0999999999999,865.8,37.1,0.15809999999999999,0.45490000000000003,5.0876432584395328,{"$f":"K_dansDir(L69,K69,E69,F69,J69,'A dater'!$B$8,'A dater'!$A$8)","v":784.2452527304257},{"$f":"Q69-AngCritDbl95(R69,D69,'A dater'!$C$8,Nd)","v":3.9422041664135046},{"$f":"IF((A69=\"\"),0,Prob_crois_fish(Q69,R69,'A dater'!$C$8))","v":0},-10,{"$f":"probCritDbl(R69,D69,'A dater'!$C$8,'A dater'!$D$8,Q69)","v":7.6587517191222022E-22},1.6177779706755935E-2,null,0,-10,null,0,0,0,0]
[null,14.7,8.1999999999999993,101.3,19.100000000000001,61.9,null,null,null,159.4,661,1087.7,847.5,35.700000000000003,0.15840000000000001,0.45879999999999999,5.2707305108311457,{"$f":"K_dansDir(L70,K70,E70,F70,J70,'A dater'!$B$8,'A dater'!$A$8)","v":793.72647557844323},{"$f":"Q70-AngCritDbl95(R70,D70,'A dater'!$C$8,Nd)","v":4.1311189310485377},{"$f":"IF((A70=\"\"),0,Prob_crois_fish(Q70,R70,'A dater'!$C$8))","v":0},-10,{"$f":"probCritDbl(R70,D70,'A dater'!$C$8,'A dater'!$D$8,Q70)","v":2.9857860551383964E-23},0.22899006037304659,null,{"$f":"T70/$Y$5","v":0},-10,null,0,0,0,0]
[null,15.3,8.1999999999999993,100.8,18.8,61.7,null,null,null,156.69999999999999,643.5,1036.5,816.6,35,0.15759999999999999,0.46339999999999998,5.4354509559787321,{"$f":"K_dansDir(L71,K71,E71,F71,J71,'A dater'!$B$8,'A dater'!$A$8)","v":772.30858097467399},{"$f":"Q71-AngCritDbl95(R71,D71,'A dater'!$C$8,Nd)","v":4.2810371256281661},{"$f":"IF((A71=\"\"),0,Prob_crois_fish(Q71,R71,'A dater'!$C$8))","v":0},-10,{"$f":"probCritDbl(R71,D71,'A dater'!$C$8,'A dater'!$D$8,Q71)","v":6.7917264942791095E-24},0.32391596781947296,null,0,{"$f":"IF(Y71>$Z$5,0.05,-10)","v":-10},null,{"$f":"IF((A71=\"\"),0,ProbCrit_Isol(R71,C71,Q71))","v":0},{"$f":"AB71/$AC$5","v":0},{"$f":"IF((A71=\"\"),0,V71)","v":0},{"$f":"AD71/$AE$5","v":0}]
[null,15.9,8.1999999999999993,100.9,18.399999999999999,61.4,null,null,null,155.30000000000001,605.20000000000005,988.4,773.3,35,0.15570000000000001,0.46860000000000002,5.6955191425967584,{"$f":"K_dansDir(L72,K72,E72,F72,J72,'A dater'!$B$8,'A dater'!$A$8)","v":726.20356194020201},{"$f":"Q72-AngCritDbl95(R72,D72,'A dater'!$C$8,Nd)","v":4.5076180669677743},{"$f":"IF((A72=\"\"),0,Prob_crois_fish(Q72,R72,'A dater'!$C$8))","v":0},-10,{"$f":"probCritDbl(R72,D72,'A dater'!$C$8,'A dater'!$D$8,Q72)","v":1.3908815709215809E-24},0.42417334312466259,null,0,-10,null,0,0,0,0]
[null,16.399999999999999,8.3000000000000007,101,18,61.2,null,null,null,153.80000000000001,566.79999999999995,940.3,730,35,0.15379999999999999,0.47389999999999999,5.864654293160112,{"$f":"K_dansDir(L73,K73,E73,F73,J73,'A dater'!$B$8,'A dater'!$A$8)","v":682.8030428593737},{"$f":"Q73-AngCritDbl95(R73,D73,'A dater'!$C$8,Nd)","v":4.6421026617010428},{"$f":"IF((A73=\"\"),0,Prob_crois_fish(Q73,R73,'A dater'!$C$8))","v":0},-10,{"$f":"probCritDbl(R73,D73,'A dater'!$C$8,'A dater'!$D$8,Q73)","v":1.3209147225601758E-24},0.42830302165930423,null,0,-10,null,0,0,0,0]
[null,17,8.3000000000000007,101.1,17.600000000000001,60.9,null,null,null,152.4,528.5,892.2,686.7,35,0.15190000000000001,0.47910000000000003,6.1398177574032538,{"$f":"K_dansDir(L74,K74,E74,F74,J74,'A dater'!$B$8,'A dater'!$A$8)","v":639.03027553571224},{"$f":"Q74-AngCritDbl95(R74,D74,'A dater'!$C$8,Nd)","v":4.8787142543165398},{"$f":"IF((A74=\"\"),0,Prob_crois_fish(Q74,R74,'A dater'!$C$8))","v":0},-10,{"$f":"probCritDbl(R74,D74,'A dater'!$C$8,'A dater'!$D$8,Q74)","v":3.5158369321018296E-25},0.52028093975446499,null,0,-10,null,0,0,0,0]
[null,18,8.4,102.2,17.2,60.7,null,null,null,149.80000000000001,467.6,796.1,610.20000000000005,36.200000000000003,0.14899999999999999,0.4834,6.3218588957969422,{"$f":"K_dansDir(L75,K75,E75,F75,J75,'A dater'!$B$8,'A dater'!$A$8)","v":572.78335229861261},{"$f":"Q75-AngCritDbl95(R75,D75,'A dater'!$C$8,Nd)","v":4.9944429879798298},{"$f":"IF((A75=\"\"),0,Prob_crois_fish(Q75,R75,'A dater'!$C$8))","v":0},-10,{"$f":"probCritDbl(R75,D75,'A dater'!$C$8,'A dater'!$D$8,Q75)","v":2.2669653058035292E-24},0.38675803153272614,null,0,-10,null,0,0,0,0]
[null,19,8.5,103.2,16.7,60.5,null,null,null,147.30000000000001,406.8,700.1,533.6,37.5,0.1462,0.48759999999999998,6.5072636445002097,{"$f":"K_dansDir(L76,K76,E76,F76,J76,'A dater'!$B$8,'A dater'!$A$8)","v":503.84191521446485},{"$f":"Q76-AngCritDbl95(R76,D76,'A dater'!$C$8,Nd)","v":5.09690625902455},{"$f":"IF((A76=\"\"),0,Prob_crois_fish(Q76,R76,'A dater'!$C$8))","v":0},-10,{"$f":"probCritDbl(R76,D76,'A dater'!$C$8,'A dater'!$D$8,Q76)","v":3.2172799735529349E-23},0.17948663256814701,null,0,-10,null,0,0,0,0]
[null,20,8.6999999999999993,104.2,16.3,60.3,null,null,null,144.69999999999999,345.9,604,457.1,38.799999999999997,0.14330000000000001,0.49180000000000001,6.7013030778188316,{"$f":"K_dansDir(L77,K77,E77,F77,J77,'A dater'!$B$8,'A dater'!$A$8)","v":436.37836419770127},{"$f":"Q77-AngCritDbl95(R77,D77,'A dater'!$C$8,Nd)","v":5.1909768960142157},{"$f":"IF((A77=\"\"),0,Prob_crois_fish(Q77,R77,'A dater'!$C$8))","v":0},-10,{"$f":"probCritDbl(R77,D77,'A dater'!$C$8,'A dater'!$D$8,Q77)","v":7.542977238647904E-22},-9.7781148637572812E-2,null,0,-10,null,0,0,0,0]
[null,21,8.8000000000000007,105.2,15.8,60.1,null,null,null,142.19999999999999,285,507.9,380.5,40,0.1404,0.49609999999999999,6.9005659075553423,{"$f":"K_dansDir(L78,K78,E78,F78,J78,'A dater'!$B$8,'A dater'!$A$8)","v":366.28994605857577},{"$f":"Q78-AngCritDbl95(R78,D78,'A dater'!$C$8,Nd)","v":5.2577566791064152},{"$f":"IF((A78=\"\"),0,Prob_crois_fish(Q78,R78,'A dater'!$C$8))","v":0},-10,{"$f":"probCritDbl(R78,D78,'A dater'!$C$8,'A dater'!$D$8,Q78)","v":4.9832748723294685E-20},-0.52054858212508925,null,0,-10,null,0,0,0,0]
[null,14.6,8.5,84.9,6.1,59.5,null,null,null,-17.3,161.69999999999999,589.4,308.10000000000002,54,5.5399999999999998E-2,0.52270000000000005,8.7007614865840495,{"$f":"K_dansDir(L79,K79,E79,F79,J79,'A dater'!$B$8,'A dater'!$A$8)","v":172.31615320311812},{"$f":"Q79-AngCritDbl95(R79,D79,'A dater'!$C$8,Nd)","v":6.3178997558971606},{"$f":"IF((A79=\"\"),0,Prob_crois_fish(Q79,R79,'A dater'!$C$8))","v":0},-10,{"$f":"probCritDbl(R79,D79,'A dater'!$C$8,'A dater'!$D$8,Q79)","v":1.4547899847841593E-15},-2.1590427545038509,null,0,-10,null,0,0,0,0]
[null,14.2,8.4,83.6,6.7,60.6,null,null,null,-16.5,167.4,574.5,309.2,53,5.8400000000000001E-2,0.50409999999999999,7.5864908420684749,{"$f":"K_dansDir(L80,K80,E80,F80,J80,'A dater'!$B$8,'A dater'!$A$8)","v":185.20952502099479},{"$f":"Q80-AngCritDbl95(R80,D80,'A dater'!$C$8,Nd)","v":5.2857623384878147},{"$f":"IF((A80=\"\"),0,Prob_crois_fish(Q80,R80,'A dater'!$C$8))","v":0},-10,{"$f":"probCritDbl(R80,D80,'A dater'!$C$8,'A dater'!$D$8,Q80)","v":3.7229458126520206E-13},-2.8898127393834283,null,0,-10,null,0,0,0,0]
[null,13.8,8.4,82.3,7.4,61.6,null,null,null,-15.6,173,559.6,310.39999999999998,52,6.1499999999999999E-2,0.48559999999999998,{"$f":"diff_ang((F81),(E81),Id,Dd,(-1))","v":6.5501264640464472},{"$f":"K_dansDir(L81,K81,E81,F81,J81,'A dater'!$B$8,'A dater'!$A$8)","v":199.61235038584664},{"$f":"Q81-AngCritDbl95(R81,D81,'A dater'!$C$8,Nd)","v":4.3314634928300499},{"$f":"IF((A81=\"\"),0,Prob_crois_fish(Q81,R81,'A dater'!$C$8))","v":0},{"$f":"IF(S81<0,0.1,-10)","v":-10},{"$f":"probCritDbl(R81,D81,'A dater'!$C$8,'A dater'!$D$8,Q81)","v":6.0984139329003926E-11},{"$f":"Q81-AngCrit95_isole( R81,D81)","v":-3.5425324408320789},null,0,-10,null,0,0,0,0]
[null,13.4,8.3000000000000007,81,8,62.7,null,null,null,-14.8,178.7,544.70000000000005,311.5,51,6.4500000000000002E-2,0.46700000000000003,5.4731002647510403,{"$f":"K_dansDir(L82,K82,E82,F82,J82,'A dater'!$B$8,'A dater'!$A$8)","v":221.35035585408022},{"$f":"Q82-AngCritDbl95(R82,D82,'A dater'!$C$8,Nd)","v":3.3628395700707792},{"$f":"IF((A82=\"\"),0,Prob_crois_fish(Q82,R82,'A dater'!$C$8))","v":0},-10,{"$f":"probCritDbl(R82,D82,'A dater'!$C$8,'A dater'!$D$8,Q82)","v":8.3552469992067821E-9},-4.1123008254178943,null,0,-10,null,0,0,0,0]
[null,13,8.3000000000000007,79.7,8.6,63.8,null,null,null,-13.9,184.4,529.79999999999995,312.60000000000002,50,6.7599999999999993E-2,0.44840000000000002,4.4362931123486478,{"$f":"K_dansDir(L83,K83,E83,F83,J83,'A dater'!$B$8,'A dater'!$A$8)","v":254.06911689629632},{"$f":"Q83-AngCritDbl95(R83,D83,'A dater'!$C$8,Nd)","v":2.4620483644502276},{"$f":"IF((A83=\"\"),0,Prob_crois_fish(Q83,R83,'A dater'!$C$8))","v":0},-10,{"$f":"probCritDbl(R83,D83,'A dater'!$C$8,'A dater'!$D$8,Q83)","v":6.3520398049843686E-7},-4.511557086569117,null,0,-10,null,0,0,0,0]
[null,13.9,8.4,101.4,18.399999999999999,61.4,null,null,null,153,590.4,993.5,765.9,35.6,0.15629999999999999,0.46820000000000001,5.6955191425967584,{"$f":"K_dansDir(L84,K84,E84,F84,J84,'A dater'!$B$8,'A dater'!$A$8)","v":732.95348211294527},{"$f":"Q84-AngCritDbl95(R84,D84,'A dater'!$C$8,Nd)","v":4.5129732686110522},{"$f":"IF((A84=\"\"),0,Prob_crois_fish(Q84,R84,'A dater'!$C$8))","v":0},-10,{"$f":"probCritDbl(R84,D84,'A dater'!$C$8,'A dater'!$D$8,Q84)","v":8.9325653115691761E-25},0.44884353394217236,null,0,-10,null,0,0,0,0]
[null,13.6,8.5,103.6,18.100000000000001,61.2,null,null,null,151.69999999999999,550.29999999999995,913.9,709.1,36.9,0.15429999999999999,0.47210000000000002,5.8712405315835605,{"$f":"K_dansDir(L85,K85,E85,F85,J85,'A dater'!$B$8,'A dater'!$A$8)","v":678.01317877521296},{"$f":"Q85-AngCritDbl95(R85,D85,'A dater'!$C$8,Nd)","v":4.6458635226734621},{"$f":"IF((A85=\"\"),0,Prob_crois_fish(Q85,R85,'A dater'!$C$8))","v":0},-10,{"$f":"probCritDbl(R85,D85,'A dater'!$C$8,'A dater'!$D$8,Q85)","v":1.1778618412584159E-24},0.4174193204153358,null,0,-10,null,0,0,0,0]
[null,13.4,8.6999999999999993,105.9,17.7,61.1,null,null,null,150.4,510.1,834.4,652.4,38.1,0.1522,0.47610000000000002,5.946146808793511,{"$f":"K_dansDir(L86,K86,E86,F86,J86,'A dater'!$B$8,'A dater'!$A$8)","v":622.2748918533548},{"$f":"Q86-AngCritDbl95(R86,D86,'A dater'!$C$8,Nd)","v":4.6713137174607544},{"$f":"IF((A86=\"\"),0,Prob_crois_fish(Q86,R86,'A dater'!$C$8))","v":0},-10,{"$f":"probCritDbl(R86,D86,'A dater'!$C$8,'A dater'!$D$8,Q86)","v":1.0355241013943806E-23},0.25462113761746075,null,0,-10,null,0,0,0,0]
[null,13.1,8.9,108.1,17.399999999999999,60.9,null,null,null,149.1,470,754.8,595.6,39.4,0.1502,0.48,6.1305090493272063,{"$f":"K_dansDir(L87,K87,E87,F87,J87,'A dater'!$B$8,'A dater'!$A$8)","v":568.53116006207892},{"$f":"Q87-AngCritDbl95(R87,D87,'A dater'!$C$8,Nd)","v":4.8008870530275889},{"$f":"IF((A87=\"\"),0,Prob_crois_fish(Q87,R87,'A dater'!$C$8))","v":0},-10,{"$f":"probCritDbl(R87,D87,'A dater'!$C$8,'A dater'!$D$8,Q87)","v":2.388205924411362E-23},0.17725516120789031,null,0,-10,null,0,0,0,0]
[null,14,9,110.1,17,60.6,null,null,null,147.5,424.1,685.3,538.9,40,0.1477,0.4849,6.4149985888014003,{"$f":"K_dansDir(L88,K88,E88,F88,J88,'A dater'!$B$8,'A dater'!$A$8)","v":514.33859777839621},{"$f":"Q88-AngCritDbl95(R88,D88,'A dater'!$C$8,Nd)","v":5.0211872451708022},{"$f":"IF((A88=\"\"),0,Prob_crois_fish(Q88,R88,'A dater'!$C$8))","v":0},-10,{"$f":"probCritDbl(R88,D88,'A dater'!$C$8,'A dater'!$D$8,Q88)","v":2.4350221718983746E-23},0.15699642253419022,null,0,-10,null,0,0,0,0]
[null,16,9.1,111.7,16.5,60.3,null,null,null,145.5,372.5,626,482.4,40,0.1447,0.49070000000000003,{"$f":"diff_ang((F89),(E89),Id,Dd,(-1))","v":6.7036190233403801},{"$f":"K_dansDir(L89,K89,E89,F89,J89,'A dater'!$B$8,'A dater'!$A$8)","v":460.81422546496782},{"$f":"Q89-AngCritDbl95(R89,D89,'A dater'!$C$8,Nd)","v":5.2350853175525236},{"$f":"IF((A89=\"\"),0,Prob_crois_fish(Q89,R89,'A dater'!$C$8))","v":0},{"$f":"IF(S89<0,0.1,-10)","v":-10},{"$f":"probCritDbl(R89,D89,'A dater'!$C$8,'A dater'!$D$8,Q89)","v":4.4352090031394634E-23},{"$f":"Q89-AngCrit95_isole( R89,D89)","v":9.2858075150232366E-2},null,0,-10,null,0,0,0,0]
[null,18,9.1999999999999993,113.2,16,60,null,null,null,143.5,320.89999999999998,566.6,425.8,40,0.14180000000000001,0.49659999999999999,6.9999999999998899,{"$f":"K_dansDir(L90,K90,E90,F90,J90,'A dater'!$B$8,'A dater'!$A$8)","v":407.83213607481554},{"$f":"Q90-AngCritDbl95(R90,D90,'A dater'!$C$8,Nd)","v":5.4430531508002078},{"$f":"IF((A90=\"\"),0,Prob_crois_fish(Q90,R90,'A dater'!$C$8))","v":0},-10,{"$f":"probCritDbl(R90,D90,'A dater'!$C$8,'A dater'!$D$8,Q90)","v":1.4619333831386268E-22},-2.652216793465989E-2,null,0,-10,null,0,0,0,0]
[null,20,9.3000000000000007,114.8,15.4,59.7,null,null,null,141.5,269.3,507.3,369.3,40,0.13880000000000001,0.50239999999999996,7.3048723686170902,{"$f":"K_dansDir(L91,K91,E91,F91,J91,'A dater'!$B$8,'A dater'!$A$8)","v":354.12758937634084},{"$f":"Q91-AngCritDbl95(R91,D91,'A dater'!$C$8,Nd)","v":5.6383609443334546},{"$f":"IF((A91=\"\"),0,Prob_crois_fish(Q91,R91,'A dater'!$C$8))","v":0},-10,{"$f":"probCritDbl(R91,D91,'A dater'!$C$8,'A dater'!$D$8,Q91)","v":1.0822284255247769E-21},-0.23520319763195818,null,0,-10,null,0,0,0,0]
[null,20.5,9.1999999999999993,114.7,14.9,59.4,null,null,null,139.9,244.9,473.3,340.4,38.299999999999997,0.1353,0.50849999999999995,7.6158629345305409,{"$f":"K_dansDir(L92,K92,E92,F92,J92,'A dater'!$B$8,'A dater'!$A$8)","v":327.06857679167473},{"$f":"Q92-AngCritDbl95(R92,D92,'A dater'!$C$8,Nd)","v":5.8837171519000462},{"$f":"IF((A92=\"\"),0,Prob_crois_fish(Q92,R92,'A dater'!$C$8))","v":0},-10,{"$f":"probCritDbl(R92,D92,'A dater'!$C$8,'A dater'!$D$8,Q92)","v":8.5238792192533659E-22},-0.23047038263680886,null,0,-10,null,0,0,0,0]
[null,19.5,8.9,112.7,14.3,59.1,null,null,null,138.80000000000001,247.7,464.8,339.2,35,0.13139999999999999,0.51500000000000001,7.9367313717662942,{"$f":"K_dansDir(L93,K93,E93,F93,J93,'A dater'!$B$8,'A dater'!$A$8)","v":324.09463121729283},{"$f":"Q93-AngCritDbl95(R93,D93,'A dater'!$C$8,Nd)","v":6.1962290245042926},{"$f":"IF((A93=\"\"),0,Prob_crois_fish(Q93,R93,'A dater'!$C$8))","v":0},-10,{"$f":"probCritDbl(R93,D93,'A dater'!$C$8,'A dater'!$D$8,Q93)","v":4.6364154776639371E-23},5.2880446228003031E-2,null,0,-10,null,0,0,0,0]
[null,18.5,8.6999999999999993,110.8,13.8,58.9,null,null,null,137.6,250.5,456.2,338,31.7,0.1275,0.52159999999999995,8.1602697005046156,{"$f":"K_dansDir(L94,K94,E94,F94,J94,'A dater'!$B$8,'A dater'!$A$8)","v":322.71060979480535},{"$f":"Q94-AngCritDbl95(R94,D94,'A dater'!$C$8,Nd)","v":6.4155103530912072},{"$f":"IF((A94=\"\"),0,Prob_crois_fish(Q94,R94,'A dater'!$C$8))","v":0},-10,{"$f":"probCritDbl(R94,D94,'A dater'!$C$8,'A dater'!$D$8,Q94)","v":5.921656262428249E-24},0.25798283272778288,null,0,-10,null,0,0,0,0]
[null,17.600000000000001,8.5,109.4,13.3,58.6,null,null,null,136.19999999999999,262.60000000000002,450.2,343.5,29,0.1239,0.52710000000000001,8.4881782445779361,{"$f":"K_dansDir(L95,K95,E95,F95,J95,'A dater'!$B$8,'A dater'!$A$8)","v":329.40399064228365},{"$f":"Q95-AngCritDbl95(R95,D95,'A dater'!$C$8,Nd)","v":6.7602550535243298},{"$f":"IF((A95=\"\"),0,Prob_crois_fish(Q95,R95,'A dater'!$C$8))","v":0},-10,{"$f":"probCritDbl(R95,D95,'A dater'!$C$8,'A dater'!$D$8,Q95)","v":7.8528659622888238E-26},0.66557479470414549,null,0,-10,null,0,0,0,0]
[null,16.8,8.4,108.7,12.8,58.3,null,null,null,134.5,284,446.7,355.7,27,0.1206,0.53180000000000005,8.8204378181652174,{"$f":"K_dansDir(L96,K96,E96,F96,J96,'A dater'!$B$8,'A dater'!$A$8)","v":343.80828555948716},{"$f":"Q96-AngCritDbl95(R96,D96,'A dater'!$C$8,Nd)","v":7.1277822965258659},{"$f":"IF((A96=\"\"),0,Prob_crois_fish(Q96,R96,'A dater'!$C$8))","v":0},-10,{"$f":"probCritDbl(R96,D96,'A dater'!$C$8,'A dater'!$D$8,Q96)","v":2.8313030509766454E-28},1.1631405206064258,null,0,-10,null,0,0,0,0]
[null,16,8.4,107.9,12.3,58.1,null,null,null,132.9,305.39999999999998,443.3,367.9,25,0.1173,0.53639999999999999,9.057996041953432,{"$f":"K_dansDir(L97,K97,E97,F97,J97,'A dater'!$B$8,'A dater'!$A$8)","v":357.398187412006},{"$f":"Q97-AngCritDbl95(R97,D97,'A dater'!$C$8,Nd)","v":7.396549174028106},{"$f":"IF((A97=\"\"),0,Prob_crois_fish(Q97,R97,'A dater'!$C$8))","v":0},-10,{"$f":"probCritDbl(R97,D97,'A dater'!$C$8,'A dater'!$D$8,Q97)","v":3.0079559218475883E-30},1.5472608244618957,null,0,-10,null,0,0,0,0]
[null,18.5,8.5,105.7,11.8,57.8,null,null,null,146.19999999999999,341.1,436.2,385,22.5,0.1142,0.54320000000000002,9.3982643507852366,{"$f":"K_dansDir(L98,K98,E98,F98,J98,'A dater'!$B$8,'A dater'!$A$8)","v":356.4733682203817},{"$f":"Q98-AngCritDbl95(R98,D98,'A dater'!$C$8,Nd)","v":7.733923185668214},{"$f":"IF((A98=\"\"),0,Prob_crois_fish(Q98,R98,'A dater'!$C$8))","v":0},-10,{"$f":"probCritDbl(R98,D98,'A dater'!$C$8,'A dater'!$D$8,Q98)","v":9.2665356942352504E-32},1.8759426727486845,null,0,-10,null,0,0,0,0]
[null,21,8.6,103.4,11.4,57.4,null,null,null,159.5,376.7,429.2,402.1,20,0.11119999999999999,0.55010000000000003,9.8302341465233258,{"$f":"K_dansDir(L99,K99,E99,F99,J99,'A dater'!$B$8,'A dater'!$A$8)","v":378.2592741334521},{"$f":"Q99-AngCritDbl95(R99,D99,'A dater'!$C$8,Nd)","v":8.2120427540856635},{"$f":"IF((A99=\"\"),0,Prob_crois_fish(Q99,R99,'A dater'!$C$8))","v":0},-10,{"$f":"probCritDbl(R99,D99,'A dater'!$C$8,'A dater'!$D$8,Q99)","v":3.4754330885205515E-35},2.5261127654943296,null,0,-10,null,0,0,0,0]
[null,19,8.6,104.3,11.3,57.2,null,null,null,146.80000000000001,397.2,457.1,426.1,20,0.1114,0.5544,10.036753566520801,{"$f":"K_dansDir(L100,K100,E100,F100,J100,'A dater'!$B$8,'A dater'!$A$8)","v":406.05689929363814},{"$f":"Q100-AngCritDbl95(R100,D100,'A dater'!$C$8,Nd)","v":8.4732745409536108},{"$f":"IF((A100=\"\"),0,Prob_crois_fish(Q100,R100,'A dater'!$C$8))","v":0},-10,{"$f":"probCritDbl(R100,D100,'A dater'!$C$8,'A dater'!$D$8,Q100)","v":3.8875380369573414E-38},2.9881524915749322,null,0,-10,null,0,0,0,0]
[null,17,8.6999999999999993,105.2,11.3,56.9,null,null,null,134.19999999999999,417.7,484.9,450,20,0.1115,0.55879999999999996,10.331793522791825,{"$f":"K_dansDir(L101,K101,E101,F101,J101,'A dater'!$B$8,'A dater'!$A$8)","v":440.37960672369292},{"$f":"Q101-AngCritDbl95(R101,D101,'A dater'!$C$8,Nd)","v":8.8284661516120515},{"$f":"IF((A101=\"\"),0,Prob_crois_fish(Q101,R101,'A dater'!$C$8))","v":0},-10,{"$f":"probCritDbl(R101,D101,'A dater'!$C$8,'A dater'!$D$8,Q101)","v":5.1234332400695906E-42},3.5644854257844019,null,0,-10,null,0,0,0,0]
[null,19.5,8.6,112.3,10.199999999999999,56.8,null,null,null,128.80000000000001,393.2,495.8,441.1,20,0.10059999999999999,0.56210000000000004,10.548487508889284,{"$f":"K_dansDir(L102,K102,E102,F102,J102,'A dater'!$B$8,'A dater'!$A$8)","v":433.38613892205859},{"$f":"Q102-AngCritDbl95(R102,D102,'A dater'!$C$8,Nd)","v":9.0361896072847561},{"$f":"IF((A102=\"\"),0,Prob_crois_fish(Q102,R102,'A dater'!$C$8))","v":0},-10,{"$f":"probCritDbl(R102,D102,'A dater'!$C$8,'A dater'!$D$8,Q102)","v":1.4450207460866939E-43},3.7319134921739883,null,0,-10,null,0,0,0,0]
[null,22,8.6,119.4,9,56.7,null,null,null,123.5,368.7,506.7,432.2,20,8.9599999999999999E-2,0.5655,10.800371389398011,{"$f":"K_dansDir(L103,K103,E103,F103,J103,'A dater'!$B$8,'A dater'!$A$8)","v":429.95792490199409},{"$f":"Q103-AngCritDbl95(R103,D103,'A dater'!$C$8,Nd)","v":9.2846079966860593},{"$f":"IF((A103=\"\"),0,Prob_crois_fish(Q103,R103,'A dater'!$C$8))","v":0},-10,{"$f":"probCritDbl(R103,D103,'A dater'!$C$8,'A dater'!$D$8,Q103)","v":1.5288101253588493E-45},3.9612209215013712,null,0,-10,null,0,0,0,0]
[null,18.399999999999999,8.8000000000000007,123.1,8.5,56.5,null,null,null,153.5,411.2,512.20000000000005,458.2,22,8.5000000000000006E-2,0.57030000000000003,11.065050935667742,{"$f":"K_dansDir(L104,K104,E104,F104,J104,'A dater'!$B$8,'A dater'!$A$8)","v":414.93648026862684},{"$f":"Q104-AngCritDbl95(R104,D104,'A dater'!$C$8,Nd)","v":9.5241334496012851},{"$f":"IF((A104=\"\"),0,Prob_crois_fish(Q104,R104,'A dater'!$C$8))","v":0},-10,{"$f":"probCritDbl(R104,D104,'A dater'!$C$8,'A dater'!$D$8,Q104)","v":2.2488951429356907E-46},4.1052675530153984,null,0,-10,null,0,0,0,0]
[null,14.8,9,126.7,8,56.2,null,null,null,183.5,453.7,517.70000000000005,484.1,24,8.0399999999999999E-2,0.57509999999999994,11.428741827265068,{"$f":"K_dansDir(L105,K105,E105,F105,J105,'A dater'!$B$8,'A dater'!$A$8)","v":460.78108545563936},{"$f":"Q105-AngCritDbl95(R105,D105,'A dater'!$C$8,Nd)","v":9.9649043211113728},{"$f":"IF((A105=\"\"),0,Prob_crois_fish(Q105,R105,'A dater'!$C$8))","v":0},-10,{"$f":"probCritDbl(R105,D105,'A dater'!$C$8,'A dater'!$D$8,Q105)","v":2.219732942661085E-52},4.8265882464208181,null,0,-10,null,0,0,0,0]
[null,13.4,9.1,124.1,7.5,56,null,null,null,193.3,466.7,513.79999999999995,489.6,26.4,7.5800000000000006E-2,0.57950000000000002,11.698755606023916,{"$f":"K_dansDir(L106,K106,E106,F106,J106,'A dater'!$B$8,'A dater'!$A$8)","v":478.36741971603084},{"$f":"Q106-AngCritDbl95(R106,D106,'A dater'!$C$8,Nd)","v":10.260366869411763},{"$f":"IF((A106=\"\"),0,Prob_crois_fish(Q106,R106,'A dater'!$C$8))","v":0},-10,{"$f":"probCritDbl(R106,D106,'A dater'!$C$8,'A dater'!$D$8,Q106)","v":5.3841056134510106E-55},5.2178778162642958,null,0,-10,null,0,0,0,0]
[null,14.3,9.1,115.3,7,55.8,null,null,null,183,450,500.6,474.5,29.3,7.1300000000000002E-2,0.58350000000000002,11.971409661616406,{"$f":"K_dansDir(L107,K107,E107,F107,J107,'A dater'!$B$8,'A dater'!$A$8)","v":455.99787720836036},{"$f":"Q107-AngCritDbl95(R107,D107,'A dater'!$C$8,Nd)","v":10.496688636173277},{"$f":"IF((A107=\"\"),0,Prob_crois_fish(Q107,R107,'A dater'!$C$8))","v":0},-10,{"$f":"probCritDbl(R107,D107,'A dater'!$C$8,'A dater'!$D$8,Q107)","v":9.9655886841330008E-54},5.3281358579590989,null,0,-10,null,0,0,0,0]
[null,15.1,9,106.5,6.5,55.6,null,null,null,172.7,433.3,487.3,459.5,32.1,6.6799999999999998E-2,0.58750000000000002,12.246593822352072,{"$f":"K_dansDir(L108,K108,E108,F108,J108,'A dater'!$B$8,'A dater'!$A$8)","v":435.05950492611959},{"$f":"Q108-AngCritDbl95(R108,D108,'A dater'!$C$8,Nd)","v":10.73497532241851},{"$f":"IF((A108=\"\"),0,Prob_crois_fish(Q108,R108,'A dater'!$C$8))","v":0},-10,{"$f":"probCritDbl(R108,D108,'A dater'!$C$8,'A dater'!$D$8,Q108)","v":2.2304634663406604E-52},5.4389844409299908,null,0,-10,null,0,0,0,0]
[null,16,8.9,97.8,6,55.4,null,null,null,162.4,416.6,474.1,444.4,35,6.2300000000000001E-2,0.59150000000000003,12.524205540835075,{"$f":"K_dansDir(L109,K109,E109,F109,J109,'A dater'!$B$8,'A dater'!$A$8)","v":416.60702195516421},{"$f":"Q109-AngCritDbl95(R109,D109,'A dater'!$C$8,Nd)","v":10.977165066995497},{"$f":"IF((A109=\"\"),0,Prob_crois_fish(Q109,R109,'A dater'!$C$8))","v":0},-10,{"$f":"probCritDbl(R109,D109,'A dater'!$C$8,'A dater'!$D$8,Q109)","v":4.9118423527156726E-51},5.559924925740777,null,0,-10,null,0,0,0,0]
[null,15.1,8.6999999999999993,96,5.6,55.5,null,null,null,163.5,382.8,494.2,432.6,35,5.7799999999999997E-2,0.59,12.501890526927841,{"$f":"K_dansDir(L110,K110,E110,F110,J110,'A dater'!$B$8,'A dater'!$A$8)","v":383.01472119691539},{"$f":"Q110-AngCritDbl95(R110,D110,'A dater'!$C$8,Nd)","v":10.89028253889099},{"$f":"IF((A110=\"\"),0,Prob_crois_fish(Q110,R110,'A dater'!$C$8))","v":0},-10,{"$f":"probCritDbl(R110,D110,'A dater'!$C$8,'A dater'!$D$8,Q110)","v":4.2138445745374114E-48},5.2364623139116917,null,0,-10,null,0,0,0,0]
[null,14.3,8.6,94.2,5.2,55.6,null,null,null,164.6,349.1,514.29999999999995,420.7,35,5.3400000000000003E-2,0.58850000000000002,12.482761776035662,{"$f":"K_dansDir(L111,K111,E111,F111,J111,'A dater'!$B$8,'A dater'!$A$8)","v":350.07220015643145},{"$f":"Q111-AngCritDbl95(R111,D111,'A dater'!$C$8,Nd)","v":10.798982876214097},{"$f":"IF((A111=\"\"),0,Prob_crois_fish(Q111,R111,'A dater'!$C$8))","v":0},-10,{"$f":"probCritDbl(R111,D111,'A dater'!$C$8,'A dater'!$D$8,Q111)","v":3.8274310845692863E-45},4.8807657058298313,null,0,-10,null,0,0,0,0]
[null,13.4,8.4,92.4,4.8,55.7,null,null,null,165.7,315.3,534.4,408.9,35,4.8899999999999999E-2,0.58699999999999997,12.466808195605919,{"$f":"K_dansDir(L112,K112,E112,F112,J112,'A dater'!$B$8,'A dater'!$A$8)","v":317.92413310582242},{"$f":"Q112-AngCritDbl95(R112,D112,'A dater'!$C$8,Nd)","v":10.702003176321773},{"$f":"IF((A112=\"\"),0,Prob_crois_fish(Q112,R112,'A dater'!$C$8))","v":0},-10,{"$f":"probCritDbl(R112,D112,'A dater'!$C$8,'A dater'!$D$8,Q112)","v":3.6495553336478111E-42},4.4870177721481239,null,0,-10,null,0,0,0,0]
[null,14.1,8.8000000000000007,117.7,19.2,64,null,null,null,-23.5,747,1084.0999999999999,899.9,35,0.14829999999999999,0.4244,3.2793878597152113,{"$f":"K_dansDir(L113,K113,E113,F113,J113,'A dater'!$B$8,'A dater'!$A$8)","v":920.92148767598871},{"$f":"Q113-AngCritDbl95(R113,D113,'A dater'!$C$8,Nd)","v":2.2226294276812291},{"$f":"IF((A113=\"\"),0,Prob_crois_fish(Q113,R113,'A dater'!$C$8))","v":0},-10,{"$f":"probCritDbl(R113,D113,'A dater'!$C$8,'A dater'!$D$8,Q113)","v":3.3159853247102081E-12},-1.3929081985241054,null,0,-10,null,0,0,0,0]
[null,15.3,8.6999999999999993,116.3,19.3,63.9,null,null,null,-20,786.3,1126.3,941,35,0.14879999999999999,0.42559999999999998,3.3885769004584656,{"$f":"K_dansDir(L114,K114,E114,F114,J114,'A dater'!$B$8,'A dater'!$A$8)","v":940.6941968338831},{"$f":"Q114-AngCritDbl95(R114,D114,'A dater'!$C$8,Nd)","v":2.3416070809602587},{"$f":"IF((A114=\"\"),0,Prob_crois_fish(Q114,R114,'A dater'!$C$8))","v":0},-10,{"$f":"probCritDbl(R114,D114,'A dater'!$C$8,'A dater'!$D$8,Q114)","v":4.1978548374319102E-13},-1.2349236497559879,null,0,-10,null,0,0,0,0]
[null,16.399999999999999,8.6,114.9,19.3,63.8,null,null,null,-16.600000000000001,825.6,1168.5,982.2,35,0.14940000000000001,0.4269,3.4812615398755469,{"$f":"K_dansDir(L115,K115,E115,F115,J115,'A dater'!$B$8,'A dater'!$A$8)","v":957.55491444814299},{"$f":"Q115-AngCritDbl95(R115,D115,'A dater'!$C$8,Nd)","v":2.4422763953173323},{"$f":"IF((A115=\"\"),0,Prob_crois_fish(Q115,R115,'A dater'!$C$8))","v":0},-10,{"$f":"probCritDbl(R115,D115,'A dater'!$C$8,'A dater'!$D$8,Q115)","v":6.9338257233190568E-14},-1.1019365071882135,null,0,-10,null,0,0,0,0]
[null,17.5,8.5,113,19.3,63.7,null,null,null,-15,828.7,1207.7,999.3,35.6,0.15010000000000001,0.42930000000000001,3.5743400831634604,{"$f":"K_dansDir(L116,K116,E116,F116,J116,'A dater'!$B$8,'A dater'!$A$8)","v":960.57226330099513},{"$f":"Q116-AngCritDbl95(R116,D116,'A dater'!$C$8,Nd)","v":2.5360595553690821},{"$f":"IF((A116=\"\"),0,Prob_crois_fish(Q116,R116,'A dater'!$C$8))","v":0},-10,{"$f":"probCritDbl(R116,D116,'A dater'!$C$8,'A dater'!$D$8,Q116)","v":1.6205008326642354E-14},-1.002495495363168,null,0,-10,null,0,0,0,0]
[null,18.5,8.5,110.6,19.2,63.5,null,null,null,-15.2,795.5,1243.8,992.4,36.9,0.15079999999999999,0.43290000000000001,3.7464654865206879,{"$f":"K_dansDir(L117,K117,E117,F117,J117,'A dater'!$B$8,'A dater'!$A$8)","v":940.78288646862688},{"$f":"Q117-AngCritDbl95(R117,D117,'A dater'!$C$8,Nd)","v":2.6971297155428049},{"$f":"IF((A117=\"\"),0,Prob_crois_fish(Q117,R117,'A dater'!$C$8))","v":0},-10,{"$f":"probCritDbl(R117,D117,'A dater'!$C$8,'A dater'!$D$8,Q117)","v":2.0898449564046595E-15},-0.87940435699956021,null,0,-10,null,0,0,0,0]
[null,19.5,8.5,108.2,19.2,63.3,null,null,null,-15.3,762.3,1280,985.4,38.1,0.1515,0.43640000000000001,{"$f":"diff_ang((F118),(E118),Id,Dd,(-1))","v":3.9355595495111215},{"$f":"K_dansDir(L118,K118,E118,F118,J118,'A dater'!$B$8,'A dater'!$A$8)","v":922.75387123920609},{"$f":"Q118-AngCritDbl95(R118,D118,'A dater'!$C$8,Nd)","v":2.8757415834354223},{"$f":"IF((A118=\"\"),0,Prob_crois_fish(Q118,R118,'A dater'!$C$8))","v":0},{"$f":"IF(S118<0,0.1,-10)","v":-10},{"$f":"probCritDbl(R118,D118,'A dater'!$C$8,'A dater'!$D$8,Q118)","v":2.0347607754486072E-16},{"$f":"Q118-AngCrit95_isole( R118,D118)","v":-0.73649096554859916},null,{"$f":"T118/$Y$5","v":0},-10,null,0,0,0,0]
[null,20.5,8.4,105.8,19.100000000000001,63.1,null,null,null,-15.5,729.1,1316.1,978.5,39.4,0.1522,0.44,4.1121563871113445,{"$f":"K_dansDir(L119,K119,E119,F119,J119,'A dater'!$B$8,'A dater'!$A$8)","v":899.8401733720018},{"$f":"Q119-AngCritDbl95(R119,D119,'A dater'!$C$8,Nd)","v":3.038863917977964},{"$f":"IF((A119=\"\"),0,Prob_crois_fish(Q119,R119,'A dater'!$C$8))","v":0},-10,{"$f":"probCritDbl(R119,D119,'A dater'!$C$8,'A dater'!$D$8,Q119)","v":2.9828302918689256E-17},-0.62029245439369429,null,0,-10,null,0,0,0,0]
[null,20.399999999999999,8.4,103.6,19.100000000000001,62.9,null,null,null,-14.8,701.7,1313.6,960.1,39.299999999999997,0.15329999999999999,0.443,4.3036792385170184,{"$f":"K_dansDir(L120,K120,E120,F120,J120,'A dater'!$B$8,'A dater'!$A$8)","v":865.47238745437312},{"$f":"Q120-AngCritDbl95(R120,D120,'A dater'!$C$8,Nd)","v":3.2098767368874732},{"$f":"IF((A120=\"\"),0,Prob_crois_fish(Q120,R120,'A dater'!$C$8))","v":0},-10,{"$f":"probCritDbl(R120,D120,'A dater'!$C$8,'A dater'!$D$8,Q120)","v":5.5459404113639132E-18},-0.52309691927460911,null,0,-10,null,0,0,0,0]
[null,19.3,8.3000000000000007,101.7,19.2,62.7,null,null,null,-13.3,680.2,1272.5,930.3,37.9,0.15479999999999999,0.44550000000000001,4.5084840773675925,{"$f":"K_dansDir(L121,K121,E121,F121,J121,'A dater'!$B$8,'A dater'!$A$8)","v":823.01953500521688},{"$f":"Q121-AngCritDbl95(R121,D121,'A dater'!$C$8,Nd)","v":3.3880290010341652},{"$f":"IF((A121=\"\"),0,Prob_crois_fish(Q121,R121,'A dater'!$C$8))","v":0},-10,{"$f":"probCritDbl(R121,D121,'A dater'!$C$8,'A dater'!$D$8,Q121)","v":1.2960856310093404E-18},-0.4424192184955027,null,0,-10,null,0,0,0,0]
[null,18.100000000000001,8.1999999999999993,99.7,19.2,62.6,null,null,null,-11.8,658.6,1231.4000000000001,900.6,36.4,0.15629999999999999,0.44800000000000001,4.6046408656112252,{"$f":"K_dansDir(L122,K122,E122,F122,J122,'A dater'!$B$8,'A dater'!$A$8)","v":781.25936786903208},{"$f":"Q122-AngCritDbl95(R122,D122,'A dater'!$C$8,Nd)","v":3.4558272126371721},{"$f":"IF((A122=\"\"),0,Prob_crois_fish(Q122,R122,'A dater'!$C$8))","v":0},-10,{"$f":"probCritDbl(R122,D122,'A dater'!$C$8,'A dater'!$D$8,Q122)","v":1.8738137517488324E-18},-0.47821240702186696,null,0,-10,null,0,0,0,0]
[null,17,8.1,97.7,19.3,62.4,null,null,null,-10.3,637.1,1190.3,870.8,35,0.1578,0.45050000000000001,4.8096804580085557,{"$f":"K_dansDir(L123,K123,E123,F123,J123,'A dater'!$B$8,'A dater'!$A$8)","v":742.34778102643145},{"$f":"Q123-AngCritDbl95(R123,D123,'A dater'!$C$8,Nd)","v":3.6322645952139032},{"$f":"IF((A123=\"\"),0,Prob_crois_fish(Q123,R123,'A dater'!$C$8))","v":0},-10,{"$f":"probCritDbl(R123,D123,'A dater'!$C$8,'A dater'!$D$8,Q123)","v":5.5292475938848979E-19},-0.40613093988242177,null,0,-10,null,0,0,0,0]
[null,16.100000000000001,8.1,98.4,19.100000000000001,62.1,null,null,null,-14.9,629.5,1145.4000000000001,848.9,35,0.15770000000000001,0.45500000000000002,5.0763013084327877,{"$f":"K_dansDir(L124,K124,E124,F124,J124,'A dater'!$B$8,'A dater'!$A$8)","v":748.59693549114502},{"$f":"Q124-AngCritDbl95(R124,D124,'A dater'!$C$8,Nd)","v":3.9038239081281474},{"$f":"IF((A124=\"\"),0,Prob_crois_fish(Q124,R124,'A dater'!$C$8))","v":0},-10,{"$f":"probCritDbl(R124,D124,'A dater'!$C$8,'A dater'!$D$8,Q124)","v":7.371625595210772E-21},-0.11720052711602769,null,0,-10,null,0,0,0,0]
[null,15.3,8.1999999999999993,99.1,18.899999999999999,61.9,null,null,null,-19.399999999999999,621.9,1100.5999999999999,827.1,35,0.1575,0.45950000000000002,5.2497184604200742,{"$f":"K_dansDir(L125,K125,E125,F125,J125,'A dater'!$B$8,'A dater'!$A$8)","v":755.40597983151338},{"$f":"Q125-AngCritDbl95(R125,D125,'A dater'!$C$8,Nd)","v":4.0825201376049502},{"$f":"IF((A125=\"\"),0,Prob_crois_fish(Q125,R125,'A dater'!$C$8))","v":0},-10,{"$f":"probCritDbl(R125,D125,'A dater'!$C$8,'A dater'!$D$8,Q125)","v":3.5151287202114222E-22},8.0161713265756163E-2,null,0,-10,null,0,0,0,0]
[null,14.4,8.1999999999999993,99.9,18.7,61.6,null,null,null,-24,614.29999999999995,1055.7,805.2,35,0.15740000000000001,0.46400000000000002,5.5241819002554671,{"$f":"K_dansDir(L126,K126,E126,F126,J126,'A dater'!$B$8,'A dater'!$A$8)","v":759.68107289637817},{"$f":"Q126-AngCritDbl95(R126,D126,'A dater'!$C$8,Nd)","v":4.3604443953567511},{"$f":"IF((A126=\"\"),0,Prob_crois_fish(Q126,R126,'A dater'!$C$8))","v":0},-10,{"$f":"probCritDbl(R126,D126,'A dater'!$C$8,'A dater'!$D$8,Q126)","v":3.6220423056872007E-24},0.36972826822412408,null,0,-10,null,0,0,0,0]
[null,13.9,8.4,101.4,18.399999999999999,61.4,null,null,null,-27,590.4,993.5,765.9,35.6,0.15629999999999999,0.46820000000000001,5.6955191425967584,{"$f":"K_dansDir(L127,K127,E127,F127,J127,'A dater'!$B$8,'A dater'!$A$8)","v":732.95348211294368},{"$f":"Q127-AngCritDbl95(R127,D127,'A dater'!$C$8,Nd)","v":4.5129732686110522},{"$f":"IF((A127=\"\"),0,Prob_crois_fish(Q127,R127,'A dater'!$C$8))","v":0},-10,{"$f":"probCritDbl(R127,D127,'A dater'!$C$8,'A dater'!$D$8,Q127)","v":8.9325653115691761E-25},0.44884353394217236,null,0,-10,null,0,0,0,0]
[null,13.6,8.5,103.6,18.100000000000001,61.2,null,null,null,-28.3,550.29999999999995,913.9,709.1,36.9,0.15429999999999999,0.47210000000000002,5.8712405315835605,{"$f":"K_dansDir(L128,K128,E128,F128,J128,'A dater'!$B$8,'A dater'!$A$8)","v":678.01317877521194},{"$f":"Q128-AngCritDbl95(R128,D128,'A dater'!$C$8,Nd)","v":4.6458635226734621},{"$f":"IF((A128=\"\"),0,Prob_crois_fish(Q128,R128,'A dater'!$C$8))","v":0},-10,{"$f":"probCritDbl(R128,D128,'A dater'!$C$8,'A dater'!$D$8,Q128)","v":1.1778618412584159E-24},0.4174193204153358,null,0,-10,null,0,0,0,0]
[null,13.4,8.6999999999999993,105.9,17.7,61.1,null,null,null,-29.6,510.1,834.4,652.4,38.1,0.1522,0.47610000000000002,5.946146808793511,{"$f":"K_dansDir(L129,K129,E129,F129,J129,'A dater'!$B$8,'A dater'!$A$8)","v":622.27489185335389},{"$f":"Q129-AngCritDbl95(R129,D129,'A dater'!$C$8,Nd)","v":4.6713137174607544},{"$f":"IF((A129=\"\"),0,Prob_crois_fish(Q129,R129,'A dater'!$C$8))","v":0},-10,{"$f":"probCritDbl(R129,D129,'A dater'!$C$8,'A dater'!$D$8,Q129)","v":1.0355241013943806E-23},0.25462113761746075,null,0,-10,null,0,0,0,0]
[null,13.1,8.9,108.1,17.399999999999999,60.9,null,null,null,-30.9,470,754.8,595.6,39.4,0.1502,0.48,6.1305090493272063,{"$f":"K_dansDir(L130,K130,E130,F130,J130,'A dater'!$B$8,'A dater'!$A$8)","v":568.53116006207824},{"$f":"Q130-AngCritDbl95(R130,D130,'A dater'!$C$8,Nd)","v":4.8008870530275889},{"$f":"IF((A130=\"\"),0,Prob_crois_fish(Q130,R130,'A dater'!$C$8))","v":0},-10,{"$f":"probCritDbl(R130,D130,'A dater'!$C$8,'A dater'!$D$8,Q130)","v":2.388205924411362E-23},0.17725516120789031,null,0,-10,null,0,0,0,0]
[null,14,9,110.1,17,60.6,null,null,null,-32.5,424.1,685.3,538.9,40,0.1477,0.4849,6.4149985888014003,{"$f":"K_dansDir(L131,K131,E131,F131,J131,'A dater'!$B$8,'A dater'!$A$8)","v":514.3385977783953},{"$f":"Q131-AngCritDbl95(R131,D131,'A dater'!$C$8,Nd)","v":5.0211872451708022},{"$f":"IF((A131=\"\"),0,Prob_crois_fish(Q131,R131,'A dater'!$C$8))","v":0},-10,{"$f":"probCritDbl(R131,D131,'A dater'!$C$8,'A dater'!$D$8,Q131)","v":2.4350221718983746E-23},0.15699642253419022,null,0,-10,null,0,0,0,0]
[null,16,9.1,111.7,16.5,60.3,null,null,null,-34.5,372.5,626,482.4,40,0.1447,0.49070000000000003,6.7036190233403801,{"$f":"K_dansDir(L132,K132,E132,F132,J132,'A dater'!$B$8,'A dater'!$A$8)","v":460.81422546496708},{"$f":"Q132-AngCritDbl95(R132,D132,'A dater'!$C$8,Nd)","v":5.2350853175525236},{"$f":"IF((A132=\"\"),0,Prob_crois_fish(Q132,R132,'A dater'!$C$8))","v":0},-10,{"$f":"probCritDbl(R132,D132,'A dater'!$C$8,'A dater'!$D$8,Q132)","v":4.4352090031394634E-23},9.2858075150232366E-2,null,0,-10,null,0,0,0,0]
[null,18,9.1999999999999993,113.2,16,60,null,null,null,-36.5,320.89999999999998,566.6,425.8,40,0.14180000000000001,0.49659999999999999,6.9999999999998899,{"$f":"K_dansDir(L133,K133,E133,F133,J133,'A dater'!$B$8,'A dater'!$A$8)","v":407.8321360748148},{"$f":"Q133-AngCritDbl95(R133,D133,'A dater'!$C$8,Nd)","v":5.4430531508002078},{"$f":"IF((A133=\"\"),0,Prob_crois_fish(Q133,R133,'A dater'!$C$8))","v":0},-10,{"$f":"probCritDbl(R133,D133,'A dater'!$C$8,'A dater'!$D$8,Q133)","v":1.4619333831386268E-22},-2.652216793465989E-2,null,0,-10,null,0,0,0,0]
[null,20,9.3000000000000007,114.8,15.4,59.7,null,null,null,-38.5,269.3,507.3,369.3,40,0.13880000000000001,0.50239999999999996,7.3048723686170902,{"$f":"K_dansDir(L134,K134,E134,F134,J134,'A dater'!$B$8,'A dater'!$A$8)","v":354.1275893763401},{"$f":"Q134-AngCritDbl95(R134,D134,'A dater'!$C$8,Nd)","v":5.6383609443334546},{"$f":"IF((A134=\"\"),0,Prob_crois_fish(Q134,R134,'A dater'!$C$8))","v":0},-10,{"$f":"probCritDbl(R134,D134,'A dater'!$C$8,'A dater'!$D$8,Q134)","v":1.0822284255247769E-21},-0.23520319763195818,null,0,-10,null,0,0,0,0]
[null,20.5,9.1999999999999993,114.7,14.9,59.4,null,null,null,-40.1,244.9,473.3,340.4,38.299999999999997,0.1353,0.50849999999999995,7.6158629345305409,{"$f":"K_dansDir(L135,K135,E135,F135,J135,'A dater'!$B$8,'A dater'!$A$8)","v":327.06857679167405},{"$f":"Q135-AngCritDbl95(R135,D135,'A dater'!$C$8,Nd)","v":5.8837171519000462},{"$f":"IF((A135=\"\"),0,Prob_crois_fish(Q135,R135,'A dater'!$C$8))","v":0},-10,{"$f":"probCritDbl(R135,D135,'A dater'!$C$8,'A dater'!$D$8,Q135)","v":8.5238792192533659E-22},-0.23047038263680886,null,0,{"$f":"IF(Y135>$Z$5,0.05,-10)","v":-10},null,{"$f":"IF((A135=\"\"),0,ProbCrit_Isol(R135,C135,Q135))","v":0},{"$f":"AB135/$AC$5","v":0},{"$f":"IF((A135=\"\"),0,V135)","v":0},{"$f":"AD135/$AE$5","v":0}]
[null,19.5,8.9,112.7,14.3,59.1,null,null,null,-41.2,247.7,464.8,339.2,35,0.13139999999999999,0.51500000000000001,7.9367313717662942,{"$f":"K_dansDir(L136,K136,E136,F136,J136,'A dater'!$B$8,'A dater'!$A$8)","v":324.0946312172922},{"$f":"Q136-AngCritDbl95(R136,D136,'A dater'!$C$8,Nd)","v":6.1962290245042926},{"$f":"IF((A136=\"\"),0,Prob_crois_fish(Q136,R136,'A dater'!$C$8))","v":0},-10,{"$f":"probCritDbl(R136,D136,'A dater'!$C$8,'A dater'!$D$8,Q136)","v":4.6364154776639371E-23},5.2880446228003031E-2,null,0,-10,null,0,0,0,0]
[null,18.5,8.6999999999999993,110.8,13.8,58.9,null,null,null,-42.4,250.5,456.2,338,31.7,0.1275,0.52159999999999995,8.1602697005046156,{"$f":"K_dansDir(L137,K137,E137,F137,J137,'A dater'!$B$8,'A dater'!$A$8)","v":322.71060979480472},{"$f":"Q137-AngCritDbl95(R137,D137,'A dater'!$C$8,Nd)","v":6.4155103530912072},{"$f":"IF((A137=\"\"),0,Prob_crois_fish(Q137,R137,'A dater'!$C$8))","v":0},-10,{"$f":"probCritDbl(R137,D137,'A dater'!$C$8,'A dater'!$D$8,Q137)","v":5.921656262428249E-24},0.25798283272778288,null,0,-10,null,0,0,0,0]
[null,17.600000000000001,8.5,109.4,13.3,58.6,null,null,null,-43.8,262.60000000000002,450.2,343.5,29,0.1239,0.52710000000000001,8.4881782445779361,{"$f":"K_dansDir(L138,K138,E138,F138,J138,'A dater'!$B$8,'A dater'!$A$8)","v":329.40399064228296},{"$f":"Q138-AngCritDbl95(R138,D138,'A dater'!$C$8,Nd)","v":6.7602550535243298},{"$f":"IF((A138=\"\"),0,Prob_crois_fish(Q138,R138,'A dater'!$C$8))","v":0},-10,{"$f":"probCritDbl(R138,D138,'A dater'!$C$8,'A dater'!$D$8,Q138)","v":7.8528659622888238E-26},0.66557479470414549,null,0,-10,null,0,0,0,0]
[null,16.8,8.4,108.7,12.8,58.3,null,null,null,-45.5,284,446.7,355.7,27,0.1206,0.53180000000000005,8.8204378181652174,{"$f":"K_dansDir(L139,K139,E139,F139,J139,'A dater'!$B$8,'A dater'!$A$8)","v":343.80828555948665},{"$f":"Q139-AngCritDbl95(R139,D139,'A dater'!$C$8,Nd)","v":7.1277822965258659},{"$f":"IF((A139=\"\"),0,Prob_crois_fish(Q139,R139,'A dater'!$C$8))","v":0},-10,{"$f":"probCritDbl(R139,D139,'A dater'!$C$8,'A dater'!$D$8,Q139)","v":2.8313030509766454E-28},1.1631405206064258,null,0,-10,null,0,0,0,0]
[null,16,8.4,107.9,12.3,58.1,null,null,null,-47.1,305.39999999999998,443.3,367.9,25,0.1173,0.53639999999999999,9.057996041953432,{"$f":"K_dansDir(L140,K140,E140,F140,J140,'A dater'!$B$8,'A dater'!$A$8)","v":357.39818741200554},{"$f":"Q140-AngCritDbl95(R140,D140,'A dater'!$C$8,Nd)","v":7.396549174028106},{"$f":"IF((A140=\"\"),0,Prob_crois_fish(Q140,R140,'A dater'!$C$8))","v":0},-10,{"$f":"probCritDbl(R140,D140,'A dater'!$C$8,'A dater'!$D$8,Q140)","v":3.0079559218475883E-30},1.5472608244618957,null,0,-10,null,0,0,0,0]
[null,18.5,8.5,105.7,11.8,57.8,null,null,null,-33.799999999999997,341.1,436.2,385,22.5,0.1142,0.54320000000000002,9.3982643507852366,{"$f":"K_dansDir(L141,K141,E141,F141,J141,'A dater'!$B$8,'A dater'!$A$8)","v":356.47336822038142},{"$f":"Q141-AngCritDbl95(R141,D141,'A dater'!$C$8,Nd)","v":7.733923185668214},{"$f":"IF((A141=\"\"),0,Prob_crois_fish(Q141,R141,'A dater'!$C$8))","v":0},-10,{"$f":"probCritDbl(R141,D141,'A dater'!$C$8,'A dater'!$D$8,Q141)","v":9.2665356942352504E-32},1.8759426727486845,null,0,-10,null,0,0,0,0]
[null,21,8.6,103.4,11.4,57.4,null,null,null,-20.5,376.7,429.2,402.1,20,0.11119999999999999,0.55010000000000003,9.8302341465233258,{"$f":"K_dansDir(L142,K142,E142,F142,J142,'A dater'!$B$8,'A dater'!$A$8)","v":378.25927413345204},{"$f":"Q142-AngCritDbl95(R142,D142,'A dater'!$C$8,Nd)","v":8.2120427540856635},{"$f":"IF((A142=\"\"),0,Prob_crois_fish(Q142,R142,'A dater'!$C$8))","v":0},-10,{"$f":"probCritDbl(R142,D142,'A dater'!$C$8,'A dater'!$D$8,Q142)","v":3.4754330885205515E-35},2.5261127654943296,null,0,-10,null,0,0,0,0]
[null,19,8.6,104.3,11.3,57.2,null,null,null,-33.200000000000003,397.2,457.1,426.1,20,0.1114,0.5544,10.036753566520801,{"$f":"K_dansDir(L143,K143,E143,F143,J143,'A dater'!$B$8,'A dater'!$A$8)","v":406.05689929363803},{"$f":"Q143-AngCritDbl95(R143,D143,'A dater'!$C$8,Nd)","v":8.4732745409536108},{"$f":"IF((A143=\"\"),0,Prob_crois_fish(Q143,R143,'A dater'!$C$8))","v":0},-10,{"$f":"probCritDbl(R143,D143,'A dater'!$C$8,'A dater'!$D$8,Q143)","v":3.8875380369573414E-38},2.9881524915749322,null,0,-10,null,0,0,0,0]
[null,17,8.6999999999999993,105.2,11.3,56.9,null,null,null,-45.8,417.7,484.9,450,20,0.1115,0.55879999999999996,10.331793522791825,{"$f":"K_dansDir(L144,K144,E144,F144,J144,'A dater'!$B$8,'A dater'!$A$8)","v":440.37960672369263},{"$f":"Q144-AngCritDbl95(R144,D144,'A dater'!$C$8,Nd)","v":8.8284661516120515},{"$f":"IF((A144=\"\"),0,Prob_crois_fish(Q144,R144,'A dater'!$C$8))","v":0},-10,{"$f":"probCritDbl(R144,D144,'A dater'!$C$8,'A dater'!$D$8,Q144)","v":5.1234332400695906E-42},3.5644854257844019,null,0,-10,null,0,0,0,0]
[null,19.5,8.6,112.3,10.199999999999999,56.8,null,null,null,-51.2,393.2,495.8,441.1,20,0.10059999999999999,0.56210000000000004,10.548487508889284,{"$f":"K_dansDir(L145,K145,E145,F145,J145,'A dater'!$B$8,'A dater'!$A$8)","v":433.38613892205819},{"$f":"Q145-AngCritDbl95(R145,D145,'A dater'!$C$8,Nd)","v":9.0361896072847561},{"$f":"IF((A145=\"\"),0,Prob_crois_fish(Q145,R145,'A dater'!$C$8))","v":0},-10,{"$f":"probCritDbl(R145,D145,'A dater'!$C$8,'A dater'!$D$8,Q145)","v":1.4450207460866939E-43},3.7319134921739883,null,0,-10,null,0,0,0,0]
[null,22,8.6,119.4,9,56.7,null,null,null,-56.5,368.7,506.7,432.2,20,8.9599999999999999E-2,0.5655,{"$f":"diff_ang((F146),(E146),Id,Dd,(-1))","v":10.800371389398011},{"$f":"K_dansDir(L146,K146,E146,F146,J146,'A dater'!$B$8,'A dater'!$A$8)","v":429.95792490199369},{"$f":"Q146-AngCritDbl95(R146,D146,'A dater'!$C$8,Nd)","v":9.2846079966860593},{"$f":"IF((A146=\"\"),0,Prob_crois_fish(Q146,R146,'A dater'!$C$8))","v":0},{"$f":"IF(S146<0,0.1,-10)","v":-10},{"$f":"probCritDbl(R146,D146,'A dater'!$C$8,'A dater'!$D$8,Q146)","v":1.5288101253588493E-45},{"$f":"Q146-AngCrit95_isole( R146,D146)","v":3.9612209215013712},null,{"$f":"T146/$Y$5","v":0},-10,null,0,0,0,0]
[null,18.399999999999999,8.8000000000000007,123.1,8.5,56.5,null,null,null,-26.5,411.2,512.20000000000005,458.2,22,8.5000000000000006E-2,0.57030000000000003,11.065050935667742,{"$f":"K_dansDir(L147,K147,E147,F147,J147,'A dater'!$B$8,'A dater'!$A$8)","v":414.93648026862661},{"$f":"Q147-AngCritDbl95(R147,D147,'A dater'!$C$8,Nd)","v":9.5241334496012851},{"$f":"IF((A147=\"\"),0,Prob_crois_fish(Q147,R147,'A dater'!$C$8))","v":0},-10,{"$f":"probCritDbl(R147,D147,'A dater'!$C$8,'A dater'!$D$8,Q147)","v":2.2488951429356907E-46},4.1052675530153984,null,0,-10,null,0,0,0,0]
[null,14.8,9,126.7,8,56.2,null,null,null,3.5,453.7,517.70000000000005,484.1,24,8.0399999999999999E-2,0.57509999999999994,11.428741827265068,{"$f":"K_dansDir(L148,K148,E148,F148,J148,'A dater'!$B$8,'A dater'!$A$8)","v":460.78108545563947},{"$f":"Q148-AngCritDbl95(R148,D148,'A dater'!$C$8,Nd)","v":9.9649043211113728},{"$f":"IF((A148=\"\"),0,Prob_crois_fish(Q148,R148,'A dater'!$C$8))","v":0},-10,{"$f":"probCritDbl(R148,D148,'A dater'!$C$8,'A dater'!$D$8,Q148)","v":2.219732942661085E-52},4.8265882464208181,null,0,-10,null,0,0,0,0]
[null,13.4,9.1,124.1,7.5,56,null,null,null,13.3,466.7,513.79999999999995,489.6,26.4,7.5800000000000006E-2,0.57950000000000002,11.698755606023916,{"$f":"K_dansDir(L149,K149,E149,F149,J149,'A dater'!$B$8,'A dater'!$A$8)","v":478.36741971603101},{"$f":"Q149-AngCritDbl95(R149,D149,'A dater'!$C$8,Nd)","v":10.260366869411763},{"$f":"IF((A149=\"\"),0,Prob_crois_fish(Q149,R149,'A dater'!$C$8))","v":0},-10,{"$f":"probCritDbl(R149,D149,'A dater'!$C$8,'A dater'!$D$8,Q149)","v":5.3841056134510106E-55},5.2178778162642958,null,0,-10,null,0,0,0,0]
[null,14.3,9.1,115.3,7,55.8,null,null,null,3,450,500.6,474.5,29.3,7.1300000000000002E-2,0.58350000000000002,11.971409661616406,{"$f":"K_dansDir(L150,K150,E150,F150,J150,'A dater'!$B$8,'A dater'!$A$8)","v":455.99787720836053},{"$f":"Q150-AngCritDbl95(R150,D150,'A dater'!$C$8,Nd)","v":10.496688636173277},{"$f":"IF((A150=\"\"),0,Prob_crois_fish(Q150,R150,'A dater'!$C$8))","v":0},-10,{"$f":"probCritDbl(R150,D150,'A dater'!$C$8,'A dater'!$D$8,Q150)","v":9.9655886841330008E-54},5.3281358579590989,null,0,-10,null,0,0,0,0]
[null,15.1,9,106.5,6.5,55.6,null,null,null,-7.3,433.3,487.3,459.5,32.1,6.6799999999999998E-2,0.58750000000000002,12.246593822352072,{"$f":"K_dansDir(L151,K151,E151,F151,J151,'A dater'!$B$8,'A dater'!$A$8)","v":435.05950492611964},{"$f":"Q151-AngCritDbl95(R151,D151,'A dater'!$C$8,Nd)","v":10.73497532241851},{"$f":"IF((A151=\"\"),0,Prob_crois_fish(Q151,R151,'A dater'!$C$8))","v":0},-10,{"$f":"probCritDbl(R151,D151,'A dater'!$C$8,'A dater'!$D$8,Q151)","v":2.2304634663406604E-52},5.4389844409299908,null,0,-10,null,0,0,0,0]
[null,16,8.9,97.8,6,55.4,null,null,null,-17.600000000000001,416.6,474.1,444.4,35,6.2300000000000001E-2,0.59150000000000003,12.524205540835075,{"$f":"K_dansDir(L152,K152,E152,F152,J152,'A dater'!$B$8,'A dater'!$A$8)","v":416.60702195516427},{"$f":"Q152-AngCritDbl95(R152,D152,'A dater'!$C$8,Nd)","v":10.977165066995497},{"$f":"IF((A152=\"\"),0,Prob_crois_fish(Q152,R152,'A dater'!$C$8))","v":0},-10,{"$f":"probCritDbl(R152,D152,'A dater'!$C$8,'A dater'!$D$8,Q152)","v":4.9118423527156726E-51},5.559924925740777,null,0,-10,null,0,0,0,0]
[null,15.1,8.6999999999999993,96,5.6,55.5,null,null,null,-16.5,382.8,494.2,432.6,35,5.7799999999999997E-2,0.59,12.501890526927841,{"$f":"K_dansDir(L153,K153,E153,F153,J153,'A dater'!$B$8,'A dater'!$A$8)","v":383.01472119691545},{"$f":"Q153-AngCritDbl95(R153,D153,'A dater'!$C$8,Nd)","v":10.89028253889099},{"$f":"IF((A153=\"\"),0,Prob_crois_fish(Q153,R153,'A dater'!$C$8))","v":0},-10,{"$f":"probCritDbl(R153,D153,'A dater'!$C$8,'A dater'!$D$8,Q153)","v":4.2138445745374114E-48},5.2364623139116917,null,0,-10,null,0,0,0,0]
[null,14.3,8.6,94.2,5.2,55.6,null,null,null,-15.4,349.1,514.29999999999995,420.7,35,5.3400000000000003E-2,0.58850000000000002,12.482761776035662,{"$f":"K_dansDir(L154,K154,E154,F154,J154,'A dater'!$B$8,'A dater'!$A$8)","v":350.07220015643156},{"$f":"Q154-AngCritDbl95(R154,D154,'A dater'!$C$8,Nd)","v":10.798982876214097},{"$f":"IF((A154=\"\"),0,Prob_crois_fish(Q154,R154,'A dater'!$C$8))","v":0},-10,{"$f":"probCritDbl(R154,D154,'A dater'!$C$8,'A dater'!$D$8,Q154)","v":3.8274310845692863E-45},4.8807657058298313,null,0,-10,null,0,0,0,0]
[null,13.4,8.4,92.4,4.8,55.7,null,null,null,-14.3,315.3,534.4,408.9,35,4.8899999999999999E-2,0.58699999999999997,12.466808195605919,{"$f":"K_dansDir(L155,K155,E155,F155,J155,'A dater'!$B$8,'A dater'!$A$8)","v":317.92413310582259},{"$f":"Q155-AngCritDbl95(R155,D155,'A dater'!$C$8,Nd)","v":10.702003176321773},{"$f":"IF((A155=\"\"),0,Prob_crois_fish(Q155,R155,'A dater'!$C$8))","v":0},-10,{"$f":"probCritDbl(R155,D155,'A dater'!$C$8,'A dater'!$D$8,Q155)","v":3.6495553336478111E-42},4.4870177721481239,null,0,-10,null,0,0,0,0]
[null,13.5,8.3000000000000007,90.9,4.7,56.1,null,null,null,-14.1,284.3,548.5,392.8,36.799999999999997,4.7500000000000001E-2,0.5806,12.113424284540105,{"$f":"K_dansDir(L156,K156,E156,F156,J156,'A dater'!$B$8,'A dater'!$A$8)","v":288.56347909349711},{"$f":"Q156-AngCritDbl95(R156,D156,'A dater'!$C$8,Nd)","v":10.26312206836816},{"$f":"IF((A156=\"\"),0,Prob_crois_fish(Q156,R156,'A dater'!$C$8))","v":0},-10,{"$f":"probCritDbl(R156,D156,'A dater'!$C$8,'A dater'!$D$8,Q156)","v":6.3417721427656752E-38},3.7349015658644333,null,0,-10,null,0,0,0,0]
[null,14.6,8.3000000000000007,89.6,5,56.8,null,null,null,-14.9,256.10000000000002,556.6,372.3,40.5,4.9200000000000001E-2,0.56930000000000003,11.401863939733571,{"$f":"K_dansDir(L157,K157,E157,F157,J157,'A dater'!$B$8,'A dater'!$A$8)","v":260.89392227810521},{"$f":"Q157-AngCritDbl95(R157,D157,'A dater'!$C$8,Nd)","v":9.4581242283569118},{"$f":"IF((A157=\"\"),0,Prob_crois_fish(Q157,R157,'A dater'!$C$8))","v":0},-10,{"$f":"probCritDbl(R157,D157,'A dater'!$C$8,'A dater'!$D$8,Q157)","v":1.8946134826201063E-32},2.5875986095087011,null,0,-10,null,0,0,0,0]
[null,15.7,8.3000000000000007,88.4,5.3,57.4,null,null,null,-15.7,227.9,564.79999999999995,351.9,44.1,5.0799999999999998E-2,0.55810000000000004,10.785151576832217,{"$f":"K_dansDir(L158,K158,E158,F158,J158,'A dater'!$B$8,'A dater'!$A$8)","v":233.06188744489887},{"$f":"Q158-AngCritDbl95(R158,D158,'A dater'!$C$8,Nd)","v":8.7310857716113599},{"$f":"IF((A158=\"\"),0,Prob_crois_fish(Q158,R158,'A dater'!$C$8))","v":0},-10,{"$f":"probCritDbl(R158,D158,'A dater'!$C$8,'A dater'!$D$8,Q158)","v":1.4715476072341845E-27},1.4565104525326564,null,0,-10,null,0,0,0,0]
[null,16.8,8.3000000000000007,87.1,5.6,58.1,null,null,null,-16.5,199.6,573,331.4,47.7,5.2400000000000002E-2,0.54690000000000005,10.078882727208027,{"$f":"K_dansDir(L159,K159,E159,F159,J159,'A dater'!$B$8,'A dater'!$A$8)","v":205.57735708262672},{"$f":"Q159-AngCritDbl95(R159,D159,'A dater'!$C$8,Nd)","v":7.8943961479291413},{"$f":"IF((A159=\"\"),0,Prob_crois_fish(Q159,R159,'A dater'!$C$8))","v":0},-10,{"$f":"probCritDbl(R159,D159,'A dater'!$C$8,'A dater'!$D$8,Q159)","v":1.2868215931697017E-22},0.14256977855636244,null,0,-10,null,0,0,0,0]
[null,17.899999999999999,8.4,85.9,5.8,58.7,null,null,null,-17.3,171.4,581.1,311,51.4,5.4100000000000002E-2,0.53559999999999997,9.4888786603711335,{"$f":"K_dansDir(L160,K160,E160,F160,J160,'A dater'!$B$8,'A dater'!$A$8)","v":178.41078231958915},{"$f":"Q160-AngCritDbl95(R160,D160,'A dater'!$C$8,Nd)","v":7.1467972631982164},{"$f":"IF((A160=\"\"),0,Prob_crois_fish(Q160,R160,'A dater'!$C$8))","v":0},-10,{"$f":"probCritDbl(R160,D160,'A dater'!$C$8,'A dater'!$D$8,Q160)","v":2.0376841007294511E-18},-1.1814037501578074,null,0,-10,null,0,0,0,0]
[null,19,8.4,84.6,6.1,59.4,null,null,null,-18.100000000000001,143.19999999999999,589.29999999999995,290.5,55,5.57E-2,0.52439999999999998,8.7904714072428529,{"$f":"K_dansDir(L161,K161,E161,F161,J161,'A dater'!$B$8,'A dater'!$A$8)","v":151.79217189512758},{"$f":"Q161-AngCritDbl95(R161,D161,'A dater'!$C$8,Nd)","v":6.25429002734748},{"$f":"IF((A161=\"\"),0,Prob_crois_fish(Q161,R161,'A dater'!$C$8))","v":0},-10,{"$f":"probCritDbl(R161,D161,'A dater'!$C$8,'A dater'!$D$8,Q161)","v":2.7341241053015354E-14},-2.7832665641581862,null,0,-10,null,0,0,0,0]
[null,17.899999999999999,8.4,83.4,6.7,60.5,null,null,null,-16.600000000000001,155.6,579,299,52.8,5.8200000000000002E-2,0.50570000000000004,7.6744598127275951,{"$f":"K_dansDir(L162,K162,E162,F162,J162,'A dater'!$B$8,'A dater'!$A$8)","v":172.77169885534201},{"$f":"Q162-AngCritDbl95(R162,D162,'A dater'!$C$8,Nd)","v":5.2939010384108212},{"$f":"IF((A162=\"\"),0,Prob_crois_fish(Q162,R162,'A dater'!$C$8))","v":0},-10,{"$f":"probCritDbl(R162,D162,'A dater'!$C$8,'A dater'!$D$8,Q162)","v":1.1356223796795436E-12},-3.1738977930162848,null,0,-10,null,0,0,0,0]
[null,16.8,8.4,82.2,7.2,61.6,null,null,null,-15.2,168,568.70000000000005,307.5,50.6,6.0699999999999997E-2,0.48699999999999999,6.5992285447042667,{"$f":"K_dansDir(L163,K163,E163,F163,J163,'A dater'!$B$8,'A dater'!$A$8)","v":198.97029788624175},{"$f":"Q163-AngCritDbl95(R163,D163,'A dater'!$C$8,Nd)","v":4.377015744202077},{"$f":"IF((A163=\"\"),0,Prob_crois_fish(Q163,R163,'A dater'!$C$8))","v":0},-10,{"$f":"probCritDbl(R163,D163,'A dater'!$C$8,'A dater'!$D$8,Q163)","v":4.7733831562974402E-11},-3.5099344717840504,null,0,-10,null,0,0,0,0]
[null,15.7,8.4,81,7.8,62.7,null,null,null,-13.7,180.5,558.4,316,48.3,6.3200000000000006E-2,0.46829999999999999,5.525795839821793,{"$f":"K_dansDir(L164,K164,E164,F164,J164,'A dater'!$B$8,'A dater'!$A$8)","v":231.99293551299778},{"$f":"Q164-AngCritDbl95(R164,D164,'A dater'!$C$8,Nd)","v":3.4632222999878146},{"$f":"IF((A164=\"\"),0,Prob_crois_fish(Q164,R164,'A dater'!$C$8))","v":0},-10,{"$f":"probCritDbl(R164,D164,'A dater'!$C$8,'A dater'!$D$8,Q164)","v":2.6965888620630455E-9},-3.8366469735403985,null,0,-10,null,0,0,0,0]
[null,14.6,8.4,79.8,8.3000000000000007,63.8,null,null,null,-12.2,192.9,548.1,324.5,46.1,6.5699999999999995E-2,0.4496,4.5233506729811017,{"$f":"K_dansDir(L165,K165,E165,F165,J165,'A dater'!$B$8,'A dater'!$A$8)","v":278.45606745870896},{"$f":"Q165-AngCritDbl95(R165,D165,'A dater'!$C$8,Nd)","v":2.6348449836065448},{"$f":"IF((A165=\"\"),0,Prob_crois_fish(Q165,R165,'A dater'!$C$8))","v":0},-10,{"$f":"probCritDbl(R165,D165,'A dater'!$C$8,'A dater'!$D$8,Q165)","v":1.0569094692889719E-7},-4.0227491337375918,null,0,-10,null,0,0,0,0]
[null,15,8.6,83.1,8.6999999999999993,64.5,null,null,null,-8.6,228.2,564.1,357.3,42.5,6.7199999999999996E-2,0.436,3.8996008446007981,{"$f":"K_dansDir(L166,K166,E166,F166,J166,'A dater'!$B$8,'A dater'!$A$8)","v":357.16447587779726},{"$f":"Q166-AngCritDbl95(R166,D166,'A dater'!$C$8,Nd)","v":2.2262431623577186},{"$f":"IF((A166=\"\"),0,Prob_crois_fish(Q166,R166,'A dater'!$C$8))","v":0},-10,{"$f":"probCritDbl(R166,D166,'A dater'!$C$8,'A dater'!$D$8,Q166)","v":2.2678118818310517E-7},-3.6399731536334889,null,0,-10,null,0,0,0,0]
[null,17,9,90.8,9,65,null,null,null,-2.7,286.39999999999998,606.5,414.5,37.5,6.7799999999999999E-2,0.4274,3.4762934953904514,{"$f":"K_dansDir(L167,K167,E167,F167,J167,'A dater'!$B$8,'A dater'!$A$8)","v":469.00143161653051},{"$f":"Q167-AngCritDbl95(R167,D167,'A dater'!$C$8,Nd)","v":2.0110387039839597},{"$f":"IF((A167=\"\"),0,Prob_crois_fish(Q167,R167,'A dater'!$C$8))","v":0},-10,{"$f":"probCritDbl(R167,D167,'A dater'!$C$8,'A dater'!$D$8,Q167)","v":1.2643533229609254E-7},-3.0935572093955654,null,0,-10,null,0,0,0,0]
[null,19,9.5,98.6,9.3000000000000007,65.5,null,null,null,3.2,344.5,648.79999999999995,471.7,32.5,6.83E-2,0.41899999999999998,3.0850563079998081,{"$f":"K_dansDir(L168,K168,E168,F168,J168,'A dater'!$B$8,'A dater'!$A$8)","v":577.69257481297996},{"$f":"Q168-AngCritDbl95(R168,D168,'A dater'!$C$8,Nd)","v":1.7613294794376089},{"$f":"IF((A168=\"\"),0,Prob_crois_fish(Q168,R168,'A dater'!$C$8))","v":0},-10,{"$f":"probCritDbl(R168,D168,'A dater'!$C$8,'A dater'!$D$8,Q168)","v":2.0084611388500857E-7},-2.8274209226028666,null,0,-10,null,0,0,0,0]
[null,19.5,9.9,105,9.4,65.8,null,null,null,7,415.2,718.4,545.9,27.5,6.8199999999999997E-2,0.41220000000000001,2.9001764201362707,{"$f":"K_dansDir(L169,K169,E169,F169,J169,'A dater'!$B$8,'A dater'!$A$8)","v":681.47196804859595},{"$f":"Q169-AngCritDbl95(R169,D169,'A dater'!$C$8,Nd)","v":1.6783503454949671},{"$f":"IF((A169=\"\"),0,Prob_crois_fish(Q169,R169,'A dater'!$C$8))","v":0},-10,{"$f":"probCritDbl(R169,D169,'A dater'!$C$8,'A dater'!$D$8,Q169)","v":1.1225073746616057E-7},-2.5388912555778997,null,0,-10,null,0,0,0,0]
[null,18.5,10.4,110.1,9.4,66.2,null,null,null,8.9,498.3,815.1,637.20000000000005,22.5,6.7500000000000004E-2,0.4073,2.7390267906406423,{"$f":"K_dansDir(L170,K170,E170,F170,J170,'A dater'!$B$8,'A dater'!$A$8)","v":803.39151679677445},{"$f":"Q170-AngCritDbl95(R170,D170,'A dater'!$C$8,Nd)","v":1.6098475708326812},{"$f":"IF((A170=\"\"),0,Prob_crois_fish(Q170,R170,'A dater'!$C$8))","v":0},-10,{"$f":"probCritDbl(R170,D170,'A dater'!$C$8,'A dater'!$D$8,Q170)","v":5.5800771509279639E-8},-2.2672810976292381,null,0,-10,null,0,0,0,0]
[null,18,10.3,112.7,9.5,66.5,null,null,null,8.9,525.70000000000005,908.8,690.2,18.3,6.7100000000000007E-2,0.40210000000000001,2.6128202478191502,{"$f":"K_dansDir(L171,K171,E171,F171,J171,'A dater'!$B$8,'A dater'!$A$8)","v":905.77034016091955},{"$f":"Q171-AngCritDbl95(R171,D171,'A dater'!$C$8,Nd)","v":1.5458706945078025},{"$f":"IF((A171=\"\"),0,Prob_crois_fish(Q171,R171,'A dater'!$C$8))","v":0},-10,{"$f":"probCritDbl(R171,D171,'A dater'!$C$8,'A dater'!$D$8,Q171)","v":4.0585631447589569E-8},-2.1006558801342043,null,0,-10,null,0,0,0,0]
[null,18,9.6999999999999993,112.8,9.6,66.8,null,null,null,7,497.4,999.3,705,15,6.7199999999999996E-2,0.3967,2.5177867853913489,{"$f":"K_dansDir(L172,K172,E172,F172,J172,'A dater'!$B$8,'A dater'!$A$8)","v":999.26280693878891},{"$f":"Q172-AngCritDbl95(R172,D172,'A dater'!$C$8,Nd)","v":1.4981038305384884},{"$f":"IF((A172=\"\"),0,Prob_crois_fish(Q172,R172,'A dater'!$C$8))","v":0},-10,{"$f":"probCritDbl(R172,D172,'A dater'!$C$8,'A dater'!$D$8,Q172)","v":3.1088087893096774E-8},-1.9696105303344447,null,0,-10,null,0,0,0,0]
[null,20,8.1999999999999993,95.3,9.1,66.900000000000006,null,null,null,-3.5,301.60000000000002,975.4,542.4,10,6.3399999999999998E-2,0.3962,2.7020491755872644,{"$f":"K_dansDir(L173,K173,E173,F173,J173,'A dater'!$B$8,'A dater'!$A$8)","v":959.65679053387339},{"$f":"Q173-AngCritDbl95(R173,D173,'A dater'!$C$8,Nd)","v":1.65437672341911},{"$f":"IF((A173=\"\"),0,Prob_crois_fish(Q173,R173,'A dater'!$C$8))","v":0},-10,{"$f":"probCritDbl(R173,D173,'A dater'!$C$8,'A dater'!$D$8,Q173)","v":8.4428856011836126E-9},-1.8864911582097124,null,0,-10,null,0,0,0,0]
[null,16.7,8.5,102.6,8.9,67,null,null,null,-2.8,319.8,935.8,546.70000000000005,13.3,6.1600000000000002E-2,0.39489999999999997,2.7726869014420754,{"$f":"K_dansDir(L174,K174,E174,F174,J174,'A dater'!$B$8,'A dater'!$A$8)","v":928.91563885727112},{"$f":"Q174-AngCritDbl95(R174,D174,'A dater'!$C$8,Nd)","v":1.7133932844271491},{"$f":"IF((A174=\"\"),0,Prob_crois_fish(Q174,R174,'A dater'!$C$8))","v":0},-10,{"$f":"probCritDbl(R174,D174,'A dater'!$C$8,'A dater'!$D$8,Q174)","v":4.6777885743705708E-9},-1.8868024918700335,null,0,-10,null,0,0,0,0]
[null,16.7,8.6999999999999993,100,8.1999999999999993,67.900000000000006,null,null,null,4.4000000000000004,384.8,1069.9000000000001,641.70000000000005,15,5.5E-2,0.37969999999999998,3.1212533170331667,{"$f":"K_dansDir(L175,K175,E175,F175,J175,'A dater'!$B$8,'A dater'!$A$8)","v":1007.8257389872651},{"$f":"Q175-AngCritDbl95(R175,D175,'A dater'!$C$8,Nd)","v":2.0992734820169794},{"$f":"IF((A175=\"\"),0,Prob_crois_fish(Q175,R175,'A dater'!$C$8))","v":0},-10,{"$f":"probCritDbl(R175,D175,'A dater'!$C$8,'A dater'!$D$8,Q175)","v":9.4817147922675273E-12},-1.3534402315857617,null,0,-10,null,0,0,0,0]
[null,20,8.6999999999999993,87.5,7.1,69.7,null,null,null,18,496.7,1377.6,827.2,15,4.3700000000000003E-2,0.35049999999999998,4.2441614496733706,{"$f":"K_dansDir(L176,K176,E176,F176,J176,'A dater'!$B$8,'A dater'!$A$8)","v":812.3141714560868},{"$f":"Q176-AngCritDbl95(R176,D176,'A dater'!$C$8,Nd)","v":3.1087451833589776},{"$f":"IF((A176=\"\"),0,Prob_crois_fish(Q176,R176,'A dater'!$C$8))","v":0},-10,{"$f":"probCritDbl(R176,D176,'A dater'!$C$8,'A dater'!$D$8,Q176)","v":3.0822503457560717E-16},-0.74935200643185773,null,0,-10,null,0,0,0,0]
[null,14.7,8.6999999999999993,85.6,6.2,70.400000000000006,null,null,null,28.7,873,1525.7,1144.3,15,3.6700000000000003E-2,0.33939999999999998,4.9121093897968846,{"$f":"K_dansDir(L177,K177,E177,F177,J177,'A dater'!$B$8,'A dater'!$A$8)","v":966.64973485478049},{"$f":"Q177-AngCritDbl95(R177,D177,'A dater'!$C$8,Nd)","v":3.8614805066939679},{"$f":"IF((A177=\"\"),0,Prob_crois_fish(Q177,R177,'A dater'!$C$8))","v":0},-10,{"$f":"probCritDbl(R177,D177,'A dater'!$C$8,'A dater'!$D$8,Q177)","v":4.7158032781637758E-23},0.33331903373044369,null,0,-10,null,0,0,0,0]
[null,12.3,8.8000000000000007,83.7,4.9000000000000004,70.7,null,null,null,28.3,1072.0999999999999,1540.5,1284.4000000000001,15,2.86E-2,0.3337,5.4377702899918026,{"$f":"K_dansDir(L178,K178,E178,F178,J178,'A dater'!$B$8,'A dater'!$A$8)","v":1151.066982142964},{"$f":"Q178-AngCritDbl95(R178,D178,'A dater'!$C$8,Nd)","v":4.4641161934416127},{"$f":"IF((A178=\"\"),0,Prob_crois_fish(Q178,R178,'A dater'!$C$8))","v":0},-10,{"$f":"probCritDbl(R178,D178,'A dater'!$C$8,'A dater'!$D$8,Q178)","v":7.003673143792479E-30},1.2405479644550539,null,0,-10,null,0,0,0,0]
[null,13,9,81.7,3.3,70.8,null,null,null,16.8,1094.2,1422.1,1247.4000000000001,15,1.9300000000000001E-2,0.33360000000000001,5.9250972834940043,{"$f":"K_dansDir(L179,K179,E179,F179,J179,'A dater'!$B$8,'A dater'!$A$8)","v":1226.9770391241427},{"$f":"Q179-AngCritDbl95(R179,D179,'A dater'!$C$8,Nd)","v":4.9765640007158174},{"$f":"IF((A179=\"\"),0,Prob_crois_fish(Q179,R179,'A dater'!$C$8))","v":0},-10,{"$f":"probCritDbl(R179,D179,'A dater'!$C$8,'A dater'!$D$8,Q179)","v":9.4017542565496879E-35},1.8583344856173332,null,0,-10,null,0,0,0,0]
[null,12.3,8.6,68.400000000000006,2.2999999999999998,71,null,null,null,30.3,1136.0999999999999,1427.6,1273.5,15,1.34E-2,0.3301,6.308416707126149,{"$f":"K_dansDir(L180,K180,E180,F180,J180,'A dater'!$B$8,'A dater'!$A$8)","v":1196.4770688013332},{"$f":"Q180-AngCritDbl95(R180,D180,'A dater'!$C$8,Nd)","v":5.3359278076927321},{"$f":"IF((A180=\"\"),0,Prob_crois_fish(Q180,R180,'A dater'!$C$8))","v":0},-10,{"$f":"probCritDbl(R180,D180,'A dater'!$C$8,'A dater'!$D$8,Q180)","v":5.5160560739092605E-35},2.1776666670681664,null,0,-10,null,0,0,0,0]
[null,13,9,64,0.5,71.400000000000006,null,null,null,50.3,1101.5,1440.9,1258.8,15,3.3999999999999998E-3,0.32350000000000001,7.0122313488435006,{"$f":"K_dansDir(L181,K181,E181,F181,J181,'A dater'!$B$8,'A dater'!$A$8)","v":1108.9063526993259},{"$f":"Q181-AngCritDbl95(R181,D181,'A dater'!$C$8,Nd)","v":6.0021619187944353},{"$f":"IF((A181=\"\"),0,Prob_crois_fish(Q181,R181,'A dater'!$C$8))","v":0},-10,{"$f":"probCritDbl(R181,D181,'A dater'!$C$8,'A dater'!$D$8,Q181)","v":1.9284909295856753E-37},2.7159137355783916,null,0,-10,null,0,0,0,0]
[null,15,10.199999999999999,68.7,-2,71.900000000000006,null,null,null,77,990.6,1462,1203.4000000000001,15,-1.0699999999999999E-2,0.314,7.9438429719556778,{"$f":"K_dansDir(L182,K182,E182,F182,J182,'A dater'!$B$8,'A dater'!$A$8)","v":1026.9079697905884},{"$f":"Q182-AngCritDbl95(R182,D182,'A dater'!$C$8,Nd)","v":6.9057260850266129},{"$f":"IF((A182=\"\"),0,Prob_crois_fish(Q182,R182,'A dater'!$C$8))","v":0},-10,{"$f":"probCritDbl(R182,D182,'A dater'!$C$8,'A dater'!$D$8,Q182)","v":5.7284837600222176E-43},3.4852680066683197,null,0,-10,null,0,0,0,0]
[null,15,10.9,68.400000000000006,-3,72,null,null,null,80.900000000000006,1169.0999999999999,1799.6,1450.5,10,-1.61E-2,0.31259999999999999,8.2639298099946519,{"$f":"K_dansDir(L183,K183,E183,F183,J183,'A dater'!$B$8,'A dater'!$A$8)","v":1233.5342425202334},{"$f":"Q183-AngCritDbl95(R183,D183,'A dater'!$C$8,Nd)","v":7.3039294627596885},{"$f":"IF((A183=\"\"),0,Prob_crois_fish(Q183,R183,'A dater'!$C$8))","v":0},-10,{"$f":"probCritDbl(R183,D183,'A dater'!$C$8,'A dater'!$D$8,Q183)","v":3.9394024206457303E-49},4.1957269948821798,null,0,-10,null,0,0,0,0]
[null,12,8.1999999999999993,52.6,-4.4000000000000004,72.099999999999994,null,null,null,89.9,1240,2398,1724.4,10,-2.41E-2,0.31069999999999998,8.6942653543367516,{"$f":"K_dansDir(L184,K184,E184,F184,J184,'A dater'!$B$8,'A dater'!$A$8)","v":1456.3416250323132},{"$f":"Q184-AngCritDbl95(R184,D184,'A dater'!$C$8,Nd)","v":7.7724897141973468},{"$f":"IF((A184=\"\"),0,Prob_crois_fish(Q184,R184,'A dater'!$C$8))","v":0},-10,{"$f":"probCritDbl(R184,D184,'A dater'!$C$8,'A dater'!$D$8,Q184)","v":1.8279684080766119E-49},4.9292927025881452,null,0,-10,null,0,0,0,0]
[null,13.5,10.1,94.2,-6.8,72.3,null,null,null,92,1636.5,2707.3,2100.5,15,-3.5999999999999997E-2,0.30570000000000003,9.4454065033302435,{"$f":"K_dansDir(L185,K185,E185,F185,J185,'A dater'!$B$8,'A dater'!$A$8)","v":1823.2348668225629},{"$f":"Q185-AngCritDbl95(R185,D185,'A dater'!$C$8,Nd)","v":8.6535790727413815},{"$f":"IF((A185=\"\"),0,Prob_crois_fish(Q185,R185,'A dater'!$C$8))","v":0},-10,{"$f":"probCritDbl(R185,D185,'A dater'!$C$8,'A dater'!$D$8,Q185)","v":6.4356596553225082E-78},6.1163404742860328,null,0,-10,null,0,0,0,0]
[null,15,12,135.80000000000001,-9.1,72.5,null,null,null,94.1,2033.1,3016.7,2476.5,20,-4.8000000000000001E-2,0.30080000000000001,10.165845953457787,{"$f":"K_dansDir(L186,K186,E186,F186,J186,'A dater'!$B$8,'A dater'!$A$8)","v":2198.385523252929},{"$f":"Q186-AngCritDbl95(R186,D186,'A dater'!$C$8,Nd)","v":9.4563892280022124},{"$f":"IF((A186=\"\"),0,Prob_crois_fish(Q186,R186,'A dater'!$C$8))","v":0},-10,{"$f":"probCritDbl(R186,D186,'A dater'!$C$8,'A dater'!$D$8,Q186)","v":5.9823060053606126E-109},7.1465986278866627,null,0,-10,null,0,0,0,0]
[null,14.3,12,145.9,-10.4,72.599999999999994,null,null,null,147.80000000000001,3453.4,3852.3,3636.5,16.7,-5.3999999999999999E-2,0.29670000000000002,10.566764594408145,{"$f":"K_dansDir(L187,K187,E187,F187,J187,'A dater'!$B$8,'A dater'!$A$8)","v":3830.4615910898528},{"$f":"Q187-AngCritDbl95(R187,D187,'A dater'!$C$8,Nd)","v":10.006636966079368},{"$f":"IF((A187=\"\"),0,Prob_crois_fish(Q187,R187,'A dater'!$C$8))","v":0},-10,{"$f":"probCritDbl(R187,D187,'A dater'!$C$8,'A dater'!$D$8,Q187)","v":4.4149867381200411E-145},8.2810364355332915,null,0,-10,null,0,0,0,0]
[null,12,10.1,125.9,-11.4,72.7,null,null,null,180.5,4197.3,4976.6000000000004,4560.1000000000004,12.5,-5.9499999999999997E-2,0.2944,{"$f":"diff_ang((F188),(E188),Id,Dd,(-1))","v":10.881282784840151},{"$f":"K_dansDir(L188,K188,E188,F188,J188,'A dater'!$B$8,'A dater'!$A$8)","v":4900.3838588748658},{"$f":"Q188-AngCritDbl95(R188,D188,'A dater'!$C$8,Nd)","v":10.361133690875524},{"$f":"IF((A188=\"\"),0,Prob_crois_fish(Q188,R188,'A dater'!$C$8))","v":0},{"$f":"IF(S188<0,0.1,-10)","v":-10},{"$f":"probCritDbl(R188,D188,'A dater'!$C$8,'A dater'!$D$8,Q188)","v":2.4180531937975463E-146},{"$f":"Q188-AngCrit95_isole( R188,D188)","v":8.8576845479402948},null,{"$f":"T188/$Y$5","v":0},-10,null,0,0,0,0]
[null,11,8.9,115,-13.1,72.5,null,null,null,171.3,4075.6,5973.6,4924.8999999999996,11.7,-6.88E-2,0.29559999999999997,11.314496348149722,{"$f":"K_dansDir(L189,K189,E189,F189,J189,'A dater'!$B$8,'A dater'!$A$8)","v":5954.8460630563768},{"$f":"Q189-AngCritDbl95(R189,D189,'A dater'!$C$8,Nd)","v":10.820812485279889},{"$f":"IF((A189=\"\"),0,Prob_crois_fish(Q189,R189,'A dater'!$C$8))","v":0},-10,{"$f":"probCritDbl(R189,D189,'A dater'!$C$8,'A dater'!$D$8,Q189)","v":2.9369910540027621E-149},9.4770602672058999,null,0,-10,null,0,0,0,0]
[null,13,10.6,143.1,-15.5,72.2,null,null,null,141.4,3764.7,6554.7,4967.6000000000004,15,-8.2500000000000004E-2,0.29830000000000001,11.962615448866252,{"$f":"K_dansDir(L190,K190,E190,F190,J190,'A dater'!$B$8,'A dater'!$A$8)","v":5913.2926583770268},{"$f":"Q190-AngCritDbl95(R190,D190,'A dater'!$C$8,Nd)","v":11.485456566827457},{"$f":"IF((A190=\"\"),0,Prob_crois_fish(Q190,R190,'A dater'!$C$8))","v":0},-10,{"$f":"probCritDbl(R190,D190,'A dater'!$C$8,'A dater'!$D$8,Q190)","v":1.5044009157392147E-179},10.122697377390173,null,0,-10,null,0,0,0,0]
[null,10,8.1,101.2,-16.7,71.900000000000006,null,null,null,143.30000000000001,6006.6,7288.2,6616.4,10,-9.0499999999999997E-2,0.30180000000000001,12.28370013169234,{"$f":"K_dansDir(L191,K191,E191,F191,J191,'A dater'!$B$8,'A dater'!$A$8)","v":6976.8621730518271},{"$f":"Q191-AngCritDbl95(R191,D191,'A dater'!$C$8,Nd)","v":11.801829209237848},{"$f":"IF((A191=\"\"),0,Prob_crois_fish(Q191,R191,'A dater'!$C$8))","v":0},-10,{"$f":"probCritDbl(R191,D191,'A dater'!$C$8,'A dater'!$D$8,Q191)","v":1.1941279813592519E-149},10.58363855231034,null,0,-10,null,0,0,0,0]
[null,11.3,9.6,130.80000000000001,-17.600000000000001,71.599999999999994,null,null,null,146.6,4687.2,6908.6,5673.4,13.3,-9.6799999999999997E-2,0.30499999999999999,12.532678455133381,{"$f":"K_dansDir(L192,K192,E192,F192,J192,'A dater'!$B$8,'A dater'!$A$8)","v":6400.4021821180049},{"$f":"Q192-AngCritDbl95(R192,D192,'A dater'!$C$8,Nd)","v":12.061480660395807},{"$f":"IF((A192=\"\"),0,Prob_crois_fish(Q192,R192,'A dater'!$C$8))","v":0},-10,{"$f":"probCritDbl(R192,D192,'A dater'!$C$8,'A dater'!$D$8,Q192)","v":6.5963249087778797E-178},10.762701915647835,null,0,-10,null,0,0,0,0]
[null,12,10.199999999999999,153,-18.7,71.099999999999994,null,null,null,148.4,3759.5,6332.4,4878.8999999999996,16.2,-0.1046,0.31019999999999998,12.856473590188255,{"$f":"K_dansDir(L193,K193,E193,F193,J193,'A dater'!$B$8,'A dater'!$A$8)","v":5684.5362306960578},{"$f":"Q193-AngCritDbl95(R193,D193,'A dater'!$C$8,Nd)","v":12.377292540045701},{"$f":"IF((A193=\"\"),0,Prob_crois_fish(Q193,R193,'A dater'!$C$8))","v":0},-10,{"$f":"probCritDbl(R193,D193,'A dater'!$C$8,'A dater'!$D$8,Q193)","v":1.1500027334501714E-195},10.98096413692411,null,0,-10,null,0,0,0,0]
[null,12,9.9,167.8,-19.7,70.599999999999994,null,null,null,148.6,3223.4,5559.7,4233.1000000000004,18.8,-0.114,0.31740000000000002,13.185199207474685,{"$f":"K_dansDir(L194,K194,E194,F194,J194,'A dater'!$B$8,'A dater'!$A$8)","v":4865.7757282069042},{"$f":"Q194-AngCritDbl95(R194,D194,'A dater'!$C$8,Nd)","v":12.683269537114988},{"$f":"IF((A194=\"\"),0,Prob_crois_fish(Q194,R194,'A dater'!$C$8))","v":0},-10,{"$f":"probCritDbl(R194,D194,'A dater'!$C$8,'A dater'!$D$8,Q194)","v":4.9044339359008346E-203},11.159480612896241,null,0,-10,null,0,0,0,0]
[null,11.8,9.6,173.9,-20.6,70,null,null,null,150.80000000000001,3080.3,5114.6000000000004,3965.3,20,-0.12230000000000001,0.32469999999999999,13.52242616805804,{"$f":"K_dansDir(L195,K195,E195,F195,J195,'A dater'!$B$8,'A dater'!$A$8)","v":4474.4545716718903},{"$f":"Q195-AngCritDbl95(R195,D195,'A dater'!$C$8,Nd)","v":13.005818768745659},{"$f":"IF((A195=\"\"),0,Prob_crois_fish(Q195,R195,'A dater'!$C$8))","v":0},-10,{"$f":"probCritDbl(R195,D195,'A dater'!$C$8,'A dater'!$D$8,Q195)","v":1.3624514631684793E-206},11.41052807695884,null,0,-10,null,0,0,0,0]
[null,11.2,9.3000000000000007,171.4,-21.4,69.5,null,null,null,155.19999999999999,3330.2,4997.3,4075.6,20,-0.1298,0.33210000000000001,13.852201864818344,{"$f":"K_dansDir(L196,K196,E196,F196,J196,'A dater'!$B$8,'A dater'!$A$8)","v":4518.9277805010715},{"$f":"Q196-AngCritDbl95(R196,D196,'A dater'!$C$8,Nd)","v":13.336797185145475},{"$f":"IF((A196=\"\"),0,Prob_crois_fish(Q196,R196,'A dater'!$C$8))","v":0},-10,{"$f":"probCritDbl(R196,D196,'A dater'!$C$8,'A dater'!$D$8,Q196)","v":6.5474814992525786E-209},11.750501201383909,null,0,-10,null,0,0,0,0]
[null,11.2,9.3000000000000007,171.5,-21.7,68.900000000000006,null,null,null,162.5,3279.7,4677.3999999999996,3916.7,20,-0.13500000000000001,0.33989999999999998,14.050219743312619,{"$f":"K_dansDir(L197,K197,E197,F197,J197,'A dater'!$B$8,'A dater'!$A$8)","v":4375.5817405237949},{"$f":"Q197-AngCritDbl95(R197,D197,'A dater'!$C$8,Nd)","v":13.528217506706987},{"$f":"IF((A197=\"\"),0,Prob_crois_fish(Q197,R197,'A dater'!$C$8))","v":0},-10,{"$f":"probCritDbl(R197,D197,'A dater'!$C$8,'A dater'!$D$8,Q197)","v":3.4147310277250994E-209},11.914375344105489,null,0,-10,null,0,0,0,0]
[null,11.8,9.8000000000000007,174.1,-21.6,68.400000000000006,null,null,null,173,2929,4155.1000000000004,3488.6,20,-0.13800000000000001,0.34810000000000002,14.111075536521525,{"$f":"K_dansDir(L198,K198,E198,F198,J198,'A dater'!$B$8,'A dater'!$A$8)","v":4024.067761374682},{"$f":"Q198-AngCritDbl95(R198,D198,'A dater'!$C$8,Nd)","v":13.572051618175955},{"$f":"IF((A198=\"\"),0,Prob_crois_fish(Q198,R198,'A dater'!$C$8))","v":0},-10,{"$f":"probCritDbl(R198,D198,'A dater'!$C$8,'A dater'!$D$8,Q198)","v":1.0282244643571845E-206},11.884130272276376,null,0,-10,null,0,0,0,0]
[null,12.2,9.9,174.6,-21.4,67.900000000000006,null,null,null,184.5,2591.6999999999998,3916.6,3180.1,20,-0.13950000000000001,0.35659999999999997,14.150935228192642,{"$f":"K_dansDir(L199,K199,E199,F199,J199,'A dater'!$B$8,'A dater'!$A$8)","v":3881.2772710669537},{"$f":"Q199-AngCritDbl95(R199,D199,'A dater'!$C$8,Nd)","v":13.604077628695137},{"$f":"IF((A199=\"\"),0,Prob_crois_fish(Q199,R199,'A dater'!$C$8))","v":0},-10,{"$f":"probCritDbl(R199,D199,'A dater'!$C$8,'A dater'!$D$8,Q199)","v":2.9078267456268646E-205},11.883437362277379,null,0,{"$f":"IF(Y199>$Z$5,0.05,-10)","v":-10},null,{"$f":"IF((A199=\"\"),0,ProbCrit_Isol(R199,C199,Q199))","v":0},{"$f":"AB199/$AC$5","v":0},{"$f":"IF((A199=\"\"),0,V199)","v":0},{"$f":"AD199/$AE$5","v":0}]
[null,12.8,9.6999999999999993,172.9,-20.9,67.400000000000006,null,null,null,197.2,2267.9,3962.1,2991.3,20,-0.1394,0.36549999999999999,{"$f":"diff_ang((F200),(E200),Id,Dd,(-1))","v":14.094110596895812},{"$f":"K_dansDir(L200,K200,E200,F200,J200,'A dater'!$B$8,'A dater'!$A$8)","v":3960.6938950951317},{"$f":"Q200-AngCritDbl95(R200,D200,'A dater'!$C$8,Nd)","v":13.551226692222025},{"$f":"IF((A200=\"\"),0,Prob_crois_fish(Q200,R200,'A dater'!$C$8))","v":0},{"$f":"IF(S200<0,0.1,-10)","v":-10},{"$f":"probCritDbl(R200,D200,'A dater'!$C$8,'A dater'!$D$8,Q200)","v":1.2103196102386931E-204},{"$f":"Q200-AngCrit95_isole( R200,D200)","v":11.849304904305978},null,0,{"$f":"IF(Y200>$Z$5,0.05,-10)","v":-10},null,{"$f":"IF((A200=\"\"),0,ProbCrit_Isol(R200,C200,Q200))","v":0},{"$f":"AB200/$AC$5","v":0},{"$f":"IF((A200=\"\"),0,V200)","v":0},{"$f":"AD200/$AE$5","v":0}]
[null,12.5,9.3000000000000007,169.8,-20.2,66.900000000000006,null,null,null,208.2,2119.5,4511,3079.4,20,-0.13769999999999999,0.37569999999999998,13.973902911114104,{"$f":"K_dansDir(L201,K201,E201,F201,J201,'A dater'!$B$8,'A dater'!$A$8)","v":4422.8271036598726},{"$f":"Q201-AngCritDbl95(R201,D201,'A dater'!$C$8,Nd)","v":13.453557870545852},{"$f":"IF((A201=\"\"),0,Prob_crois_fish(Q201,R201,'A dater'!$C$8))","v":0},-10,{"$f":"probCritDbl(R201,D201,'A dater'!$C$8,'A dater'!$D$8,Q201)","v":1.1224000511085406E-207},11.849342248439392,null,0,-10,null,0,0,0,0]
[null,11.5,8.6999999999999993,165.3,-19.100000000000001,66.400000000000006,null,null,null,217.8,2146.6,5563.3,3444.3,20,-0.1343,0.38719999999999999,13.712230317212406,{"$f":"K_dansDir(L202,K202,E202,F202,J202,'A dater'!$B$8,'A dater'!$A$8)","v":5193.5427904995522},{"$f":"Q202-AngCritDbl95(R202,D202,'A dater'!$C$8,Nd)","v":13.221793143488531},{"$f":"IF((A202=\"\"),0,Prob_crois_fish(Q202,R202,'A dater'!$C$8))","v":0},-10,{"$f":"probCritDbl(R202,D202,'A dater'!$C$8,'A dater'!$D$8,Q202)","v":1.6376018444048986E-210},11.751259723800683,null,0,-10,null,0,0,0,0]
[null,10.8,8.4,163,-18.100000000000001,65.900000000000006,null,null,null,224.5,2414.8000000000002,6106.8,3826.3,20,-0.12959999999999999,0.3972,13.49674478534437,{"$f":"K_dansDir(L203,K203,E203,F203,J203,'A dater'!$B$8,'A dater'!$A$8)","v":5480.7526628654105},{"$f":"Q203-AngCritDbl95(R203,D203,'A dater'!$C$8,Nd)","v":13.015281748896355},{"$f":"IF((A203=\"\"),0,Prob_crois_fish(Q203,R203,'A dater'!$C$8))","v":0},-10,{"$f":"probCritDbl(R203,D203,'A dater'!$C$8,'A dater'!$D$8,Q203)","v":3.2157312047531302E-209},11.587646286064402,null,0,-10,null,0,0,0,0]
[null,10.199999999999999,8.4,162.9,-16.899999999999999,65.5,null,null,null,228.6,2924.1,6141.5,4225.2,20,-0.1236,0.40579999999999999,13.177032538092973,{"$f":"K_dansDir(L204,K204,E204,F204,J204,'A dater'!$B$8,'A dater'!$A$8)","v":5469.5399094799404},{"$f":"Q204-AngCritDbl95(R204,D204,'A dater'!$C$8,Nd)","v":12.695161704104148},{"$f":"IF((A204=\"\"),0,Prob_crois_fish(Q204,R204,'A dater'!$C$8))","v":0},-10,{"$f":"probCritDbl(R204,D204,'A dater'!$C$8,'A dater'!$D$8,Q204)","v":1.5845947037060583E-205},11.265968945021301,null,0,-10,null,0,0,0,0]
[null,10,8.4,162.80000000000001,-15.9,65.2,null,null,null,233.9,3345.6,6065.3,4497.7,20,-0.1174,0.41289999999999999,12.901825852771163,{"$f":"K_dansDir(L205,K205,E205,F205,J205,'A dater'!$B$8,'A dater'!$A$8)","v":5321.5667512472555},{"$f":"Q205-AngCritDbl95(R205,D205,'A dater'!$C$8,Nd)","v":12.414934012257142},{"$f":"IF((A205=\"\"),0,Prob_crois_fish(Q205,R205,'A dater'!$C$8))","v":0},-10,{"$f":"probCritDbl(R205,D205,'A dater'!$C$8,'A dater'!$D$8,Q205)","v":7.0111761553401665E-201},10.964362904312354,null,0,-10,null,0,0,0,0]
[null,10,8.4,162.80000000000001,-14.8,65,null,null,null,240.6,3679.3,5878,4643.7,20,-0.111,0.41870000000000002,12.551554826553309,{"$f":"K_dansDir(L206,K206,E206,F206,J206,'A dater'!$B$8,'A dater'!$A$8)","v":5058.7526007239012},{"$f":"Q206-AngCritDbl95(R206,D206,'A dater'!$C$8,Nd)","v":12.055236542361012},{"$f":"IF((A206=\"\"),0,Prob_crois_fish(Q206,R206,'A dater'!$C$8))","v":0},-10,{"$f":"probCritDbl(R206,D206,'A dater'!$C$8,'A dater'!$D$8,Q206)","v":3.921824491972502E-194},10.564396226478767,null,0,-10,null,0,0,0,0]
[null,10,8.4,162.80000000000001,-13.7,64.900000000000006,null,null,null,251.8,3540.5,5846.1,4532.1000000000004,20,-0.1031,0.4234,12.162406457222358,{"$f":"K_dansDir(L207,K207,E207,F207,J207,'A dater'!$B$8,'A dater'!$A$8)","v":4550.3435176397124},{"$f":"Q207-AngCritDbl95(R207,D207,'A dater'!$C$8,Nd)","v":11.645396021138017},{"$f":"IF((A207=\"\"),0,Prob_crois_fish(Q207,R207,'A dater'!$C$8))","v":0},-10,{"$f":"probCritDbl(R207,D207,'A dater'!$C$8,'A dater'!$D$8,Q207)","v":8.8165180231751123E-184},10.067162386132791,null,0,-10,null,0,0,0,0]
[null,10,8.4,162.80000000000001,-12.3,64.7,null,null,null,267.5,2929.4,5969.6,4162.8,20,-9.3700000000000006E-2,0.42720000000000002,11.696198782052827,{"$f":"K_dansDir(L208,K208,E208,F208,J208,'A dater'!$B$8,'A dater'!$A$8)","v":3533.3568665436683},{"$f":"Q208-AngCritDbl95(R208,D208,'A dater'!$C$8,Nd)","v":11.124053154402269},{"$f":"IF((A208=\"\"),0,Prob_crois_fish(Q208,R208,'A dater'!$C$8))","v":0},-10,{"$f":"probCritDbl(R208,D208,'A dater'!$C$8,'A dater'!$D$8,Q208)","v":4.154643510078336E-164},9.3184278669057292,null,0,-10,null,0,0,0,0]
[null,10,8.4,162.5,-10.9,64.7,null,null,null,275.2,2671.5,6119.4,4043.3,20,-8.3199999999999996E-2,0.43,11.149334883777936,{"$f":"K_dansDir(L209,K209,E209,F209,J209,'A dater'!$B$8,'A dater'!$A$8)","v":3026.0813542982196},{"$f":"Q209-AngCritDbl95(R209,D209,'A dater'!$C$8,Nd)","v":10.538999601668547},{"$f":"IF((A209=\"\"),0,Prob_crois_fish(Q209,R209,'A dater'!$C$8))","v":0},-10,{"$f":"probCritDbl(R209,D209,'A dater'!$C$8,'A dater'!$D$8,Q209)","v":1.0441983446881161E-148},8.5799158017636046,null,0,-10,null,0,0,0,0]
[null,10,8.3000000000000007,162,-9.4,64.7,null,null,null,274.89999999999998,2766.9,6295.6,4173.6000000000004,20,-7.1800000000000003E-2,0.43180000000000002,10.563252462017143,{"$f":"K_dansDir(L210,K210,E210,F210,J210,'A dater'!$B$8,'A dater'!$A$8)","v":3141.0268292632572},{"$f":"Q210-AngCritDbl95(R210,D210,'A dater'!$C$8,Nd)","v":9.9622345031816444},{"$f":"IF((A210=\"\"),0,Prob_crois_fish(Q210,R210,'A dater'!$C$8))","v":0},-10,{"$f":"probCritDbl(R210,D210,'A dater'!$C$8,'A dater'!$D$8,Q210)","v":2.1543414147234308E-143},8.0412329051432341,null,0,-10,null,0,0,0,0]
[null,10,8.1999999999999993,161.4,-8.1,64.599999999999994,null,null,null,269.5,3077.6,6454.2,4448.3,20,-6.13E-2,0.43419999999999997,10.096468969427528,{"$f":"K_dansDir(L211,K211,E211,F211,J211,'A dater'!$B$8,'A dater'!$A$8)","v":3679.7670714587039},{"$f":"Q211-AngCritDbl95(R211,D211,'A dater'!$C$8,Nd)","v":9.5332619100370692},{"$f":"IF((A211=\"\"),0,Prob_crois_fish(Q211,R211,'A dater'!$C$8))","v":0},-10,{"$f":"probCritDbl(R211,D211,'A dater'!$C$8,'A dater'!$D$8,Q211)","v":9.2445733622443278E-146},7.766332009228158,null,0,-10,null,0,0,0,0]
[null,10,8.1,160.69999999999999,-6.8,64.5,null,null,null,259.2,3603.4,6595.3,4867.2,20,-5.1900000000000002E-2,0.43690000000000001,9.6313969785033802,{"$f":"K_dansDir(L212,K212,E212,F212,J212,'A dater'!$B$8,'A dater'!$A$8)","v":4635.9306026214263},{"$f":"Q212-AngCritDbl95(R212,D212,'A dater'!$C$8,Nd)","v":9.1173374050823721},{"$f":"IF((A212=\"\"),0,Prob_crois_fish(Q212,R212,'A dater'!$C$8))","v":0},-10,{"$f":"probCritDbl(R212,D212,'A dater'!$C$8,'A dater'!$D$8,Q212)","v":2.5310049276708837E-151},7.5553764443498057,null,0,-10,null,0,0,0,0]
[null,null,null,null,null,null,null,null,null,null,null,null,null,null,null,null,{"$f":"diff_ang((F213),(E213),Id,Dd,(-1))","v":67.93891596951174},{"$f":"K_dansDir(L213,K213,E213,F213,J213,'A dater'!$B$8,'A dater'!$A$8)","v":0},{"$f":"Q213-AngCritDbl95(R213,D213,'A dater'!$C$8,Nd)","v":{"$error":"#VALUE!"}},{"$f":"IF((A213=\"\"),0,Prob_crois_fish(Q213,R213,'A dater'!$C$8))","v":0},{"$f":"IF(S213<0,0.1,-10)","v":{"$error":"#VALUE!"}},{"$f":"probCritDbl(R213,D213,'A dater'!$C$8,'A dater'!$D$8,Q213)","v":{"$error":"#VALUE!"}},{"$f":"Q213-AngCrit95_isole( R213,D213)","v":{"$error":"#VALUE!"}},null,{"$f":"T213/$Y$5","v":0},-10,null,{"$f":"IF((A213=\"\"),0,ProbCrit_Isol(R213,C213,Q213))","v":0},0,{"$f":"IF((A213=\"\"),0,V213)","v":0},0]
[null,null,null,null,null,null,null,null,null,null,null,null,null,null,null,null,67.93891596951174,{"$f":"K_dansDir(L214,K214,E214,F214,J214,'A dater'!$B$8,'A dater'!$A$8)","v":0},{"$f":"Q214-AngCritDbl95(R214,D214,'A dater'!$C$8,Nd)","v":{"$error":"#VALUE!"}},{"$f":"IF((A214=\"\"),0,Prob_crois_fish(Q214,R214,'A dater'!$C$8))","v":0},{"$error":"#VALUE!"},{"$f":"probCritDbl(R214,D214,'A dater'!$C$8,'A dater'!$D$8,Q214)","v":{"$error":"#VALUE!"}},{"$error":"#VALUE!"},null,0,-10,null,0,0,0,0]
[null,null,null,null,null,null,null,null,null,null,null,null,null,null,null,null,67.93891596951174,{"$f":"K_dansDir(L215,K215,E215,F215,J215,'A dater'!$B$8,'A dater'!$A$8)","v":0},{"$f":"Q215-AngCritDbl95(R215,D215,'A dater'!$C$8,Nd)","v":{"$error":"#VALUE!"}},{"$f":"IF((A215=\"\"),0,Prob_crois_fish(Q215,R215,'A dater'!$C$8))","v":0},{"$error":"#VALUE!"},{"$f":"probCritDbl(R215,D215,'A dater'!$C$8,'A dater'!$D$8,Q215)","v":{"$error":"#VALUE!"}},{"$error":"#VALUE!"},null,0,-10,null,0,0,0,0]
[null,null,null,null,null,null,null,null,null,null,null,null,null,null,null,null,67.93891596951174,{"$f":"K_dansDir(L216,K216,E216,F216,J216,'A dater'!$B$8,'A dater'!$A$8)","v":0},{"$f":"Q216-AngCritDbl95(R216,D216,'A dater'!$C$8,Nd)","v":{"$error":"#VALUE!"}},{"$f":"IF((A216=\"\"),0,Prob_crois_fish(Q216,R216,'A dater'!$C$8))","v":0},{"$error":"#VALUE!"},{"$f":"probCritDbl(R216,D216,'A dater'!$C$8,'A dater'!$D$8,Q216)","v":{"$error":"#VALUE!"}},{"$error":"#VALUE!"},null,0,-10,null,0,0,0,0]
[null,null,null,null,null,null,null,null,null,null,null,null,null,null,null,null,67.93891596951174,{"$f":"K_dansDir(L217,K217,E217,F217,J217,'A dater'!$B$8,'A dater'!$A$8)","v":0},{"$f":"Q217-AngCritDbl95(R217,D217,'A dater'!$C$8,Nd)","v":{"$error":"#VALUE!"}},{"$f":"IF((A217=\"\"),0,Prob_crois_fish(Q217,R217,'A dater'!$C$8))","v":0},{"$error":"#VALUE!"},{"$f":"probCritDbl(R217,D217,'A dater'!$C$8,'A dater'!$D$8,Q217)","v":{"$error":"#VALUE!"}},{"$error":"#VALUE!"},null,0,-10,null,0,0,0,0]
[null,null,null,null,null,null,null,null,null,null,null,null,null,null,null,null,67.93891596951174,{"$f":"K_dansDir(L218,K218,E218,F218,J218,'A dater'!$B$8,'A dater'!$A$8)","v":0},{"$f":"Q218-AngCritDbl95(R218,D218,'A dater'!$C$8,Nd)","v":{"$error":"#VALUE!"}},{"$f":"IF((A218=\"\"),0,Prob_crois_fish(Q218,R218,'A dater'!$C$8))","v":0},{"$error":"#VALUE!"},{"$f":"probCritDbl(R218,D218,'A dater'!$C$8,'A dater'!$D$8,Q218)","v":{"$error":"#VALUE!"}},{"$error":"#VALUE!"},null,0,-10,null,0,0,0,0]
[null,null,null,null,null,null,null,null,null,null,null,null,null,null,null,null,67.93891596951174,{"$f":"K_dansDir(L219,K219,E219,F219,J219,'A dater'!$B$8,'A dater'!$A$8)","v":0},{"$f":"Q219-AngCritDbl95(R219,D219,'A dater'!$C$8,Nd)","v":{"$error":"#VALUE!"}},{"$f":"IF((A219=\"\"),0,Prob_crois_fish(Q219,R219,'A dater'!$C$8))","v":0},{"$error":"#VALUE!"},{"$f":"probCritDbl(R219,D219,'A dater'!$C$8,'A dater'!$D$8,Q219)","v":{"$error":"#VALUE!"}},{"$error":"#VALUE!"},null,0,-10,null,0,0,0,0]
[null,null,null,null,null,null,null,null,null,null,null,null,null,null,null,null,67.93891596951174,{"$f":"K_dansDir(L220,K220,E220,F220,J220,'A dater'!$B$8,'A dater'!$A$8)","v":0},{"$f":"Q220-AngCritDbl95(R220,D220,'A dater'!$C$8,Nd)","v":{"$error":"#VALUE!"}},{"$f":"IF((A220=\"\"),0,Prob_crois_fish(Q220,R220,'A dater'!$C$8))","v":0},{"$error":"#VALUE!"},{"$f":"probCritDbl(R220,D220,'A dater'!$C$8,'A dater'!$D$8,Q220)","v":{"$error":"#VALUE!"}},{"$error":"#VALUE!"},null,0,-10,null,0,0,0,0]
[null,null,null,null,null,null,null,null,null,null,null,null,null,null,null,null,67.93891596951174,{"$f":"K_dansDir(L221,K221,E221,F221,J221,'A dater'!$B$8,'A dater'!$A$8)","v":0},{"$f":"Q221-AngCritDbl95(R221,D221,'A dater'!$C$8,Nd)","v":{"$error":"#VALUE!"}},{"$f":"IF((A221=\"\"),0,Prob_crois_fish(Q221,R221,'A dater'!$C$8))","v":0},{"$error":"#VALUE!"},{"$f":"probCritDbl(R221,D221,'A dater'!$C$8,'A dater'!$D$8,Q221)","v":{"$error":"#VALUE!"}},{"$error":"#VALUE!"},null,0,-10,null,0,0,0,0]
[null,null,null,null,null,null,null,null,null,null,null,null,null,null,null,null,67.93891596951174,{"$f":"K_dansDir(L222,K222,E222,F222,J222,'A dater'!$B$8,'A dater'!$A$8)","v":0},{"$f":"Q222-AngCritDbl95(R222,D222,'A dater'!$C$8,Nd)","v":{"$error":"#VALUE!"}},{"$f":"IF((A222=\"\"),0,Prob_crois_fish(Q222,R222,'A dater'!$C$8))","v":0},{"$error":"#VALUE!"},{"$f":"probCritDbl(R222,D222,'A dater'!$C$8,'A dater'!$D$8,Q222)","v":{"$error":"#VALUE!"}},{"$error":"#VALUE!"},null,0,-10,null,0,0,0,0]
[null,null,null,null,null,null,null,null,null,null,null,null,null,null,null,null,67.93891596951174,{"$f":"K_dansDir(L223,K223,E223,F223,J223,'A dater'!$B$8,'A dater'!$A$8)","v":0},{"$f":"Q223-AngCritDbl95(R223,D223,'A dater'!$C$8,Nd)","v":{"$error":"#VALUE!"}},{"$f":"IF((A223=\"\"),0,Prob_crois_fish(Q223,R223,'A dater'!$C$8))","v":0},{"$error":"#VALUE!"},{"$f":"probCritDbl(R223,D223,'A dater'!$C$8,'A dater'!$D$8,Q223)","v":{"$error":"#VALUE!"}},{"$error":"#VALUE!"},null,0,-10,null,0,0,0,0]
[null,null,null,null,null,null,null,null,null,null,null,null,null,null,null,null,67.93891596951174,{"$f":"K_dansDir(L224,K224,E224,F224,J224,'A dater'!$B$8,'A dater'!$A$8)","v":0},{"$f":"Q224-AngCritDbl95(R224,D224,'A dater'!$C$8,Nd)","v":{"$error":"#VALUE!"}},{"$f":"IF((A224=\"\"),0,Prob_crois_fish(Q224,R224,'A dater'!$C$8))","v":0},{"$error":"#VALUE!"},{"$f":"probCritDbl(R224,D224,'A dater'!$C$8,'A dater'!$D$8,Q224)","v":{"$error":"#VALUE!"}},{"$error":"#VALUE!"},null,0,-10,null,0,0,0,0]
[null,null,null,null,null,null,null,null,null,null,null,null,null,null,null,null,67.93891596951174,{"$f":"K_dansDir(L225,K225,E225,F225,J225,'A dater'!$B$8,'A dater'!$A$8)","v":0},{"$f":"Q225-AngCritDbl95(R225,D225,'A dater'!$C$8,Nd)","v":{"$error":"#VALUE!"}},{"$f":"IF((A225=\"\"),0,Prob_crois_fish(Q225,R225,'A dater'!$C$8))","v":0},{"$error":"#VALUE!"},{"$f":"probCritDbl(R225,D225,'A dater'!$C$8,'A dater'!$D$8,Q225)","v":{"$error":"#VALUE!"}},{"$error":"#VALUE!"},null,0,-10,null,0,0,0,0]
[null,null,null,null,null,null,null,null,null,null,null,null,null,null,null,null,67.93891596951174,{"$f":"K_dansDir(L226,K226,E226,F226,J226,'A dater'!$B$8,'A dater'!$A$8)","v":0},{"$f":"Q226-AngCritDbl95(R226,D226,'A dater'!$C$8,Nd)","v":{"$error":"#VALUE!"}},{"$f":"IF((A226=\"\"),0,Prob_crois_fish(Q226,R226,'A dater'!$C$8))","v":0},{"$error":"#VALUE!"},{"$f":"probCritDbl(R226,D226,'A dater'!$C$8,'A dater'!$D$8,Q226)","v":{"$error":"#VALUE!"}},{"$error":"#VALUE!"},null,0,-10,null,0,0,0,0]
[null,null,null,null,null,null,null,null,null,null,null,null,null,null,null,null,67.93891596951174,{"$f":"K_dansDir(L227,K227,E227,F227,J227,'A dater'!$B$8,'A dater'!$A$8)","v":0},{"$f":"Q227-AngCritDbl95(R227,D227,'A dater'!$C$8,Nd)","v":{"$error":"#VALUE!"}},{"$f":"IF((A227=\"\"),0,Prob_crois_fish(Q227,R227,'A dater'!$C$8))","v":0},{"$error":"#VALUE!"},{"$f":"probCritDbl(R227,D227,'A dater'!$C$8,'A dater'!$D$8,Q227)","v":{"$error":"#VALUE!"}},{"$error":"#VALUE!"},null,0,-10,null,0,0,0,0]
[null,null,null,null,null,null,null,null,null,null,null,null,null,null,null,null,67.93891596951174,{"$f":"K_dansDir(L228,K228,E228,F228,J228,'A dater'!$B$8,'A dater'!$A$8)","v":0},{"$f":"Q228-AngCritDbl95(R228,D228,'A dater'!$C$8,Nd)","v":{"$error":"#VALUE!"}},{"$f":"IF((A228=\"\"),0,Prob_crois_fish(Q228,R228,'A dater'!$C$8))","v":0},{"$error":"#VALUE!"},{"$f":"probCritDbl(R228,D228,'A dater'!$C$8,'A dater'!$D$8,Q228)","v":{"$error":"#VALUE!"}},{"$error":"#VALUE!"},null,0,-10,null,0,0,0,0]
[null,null,null,null,null,null,null,null,null,null,null,null,null,null,null,null,67.93891596951174,{"$f":"K_dansDir(L229,K229,E229,F229,J229,'A dater'!$B$8,'A dater'!$A$8)","v":0},{"$f":"Q229-AngCritDbl95(R229,D229,'A dater'!$C$8,Nd)","v":{"$error":"#VALUE!"}},{"$f":"IF((A229=\"\"),0,Prob_crois_fish(Q229,R229,'A dater'!$C$8))","v":0},{"$error":"#VALUE!"},{"$f":"probCritDbl(R229,D229,'A dater'!$C$8,'A dater'!$D$8,Q229)","v":{"$error":"#VALUE!"}},{"$error":"#VALUE!"},null,0,-10,null,0,0,0,0]
[null,null,null,null,null,null,null,null,null,null,null,null,null,null,null,null,67.93891596951174,{"$f":"K_dansDir(L230,K230,E230,F230,J230,'A dater'!$B$8,'A dater'!$A$8)","v":0},{"$f":"Q230-AngCritDbl95(R230,D230,'A dater'!$C$8,Nd)","v":{"$error":"#VALUE!"}},{"$f":"IF((A230=\"\"),0,Prob_crois_fish(Q230,R230,'A dater'!$C$8))","v":0},{"$error":"#VALUE!"},{"$f":"probCritDbl(R230,D230,'A dater'!$C$8,'A dater'!$D$8,Q230)","v":{"$error":"#VALUE!"}},{"$error":"#VALUE!"},null,0,-10,null,0,0,0,0]
[null,null,null,null,null,null,null,null,null,null,null,null,null,null,null,null,67.93891596951174,{"$f":"K_dansDir(L231,K231,E231,F231,J231,'A dater'!$B$8,'A dater'!$A$8)","v":0},{"$f":"Q231-AngCritDbl95(R231,D231,'A dater'!$C$8,Nd)","v":{"$error":"#VALUE!"}},{"$f":"IF((A231=\"\"),0,Prob_crois_fish(Q231,R231,'A dater'!$C$8))","v":0},{"$error":"#VALUE!"},{"$f":"probCritDbl(R231,D231,'A dater'!$C$8,'A dater'!$D$8,Q231)","v":{"$error":"#VALUE!"}},{"$error":"#VALUE!"},null,0,-10,null,0,0,0,0]
[null,null,null,null,null,null,null,null,null,null,null,null,null,null,null,null,67.93891596951174,{"$f":"K_dansDir(L232,K232,E232,F232,J232,'A dater'!$B$8,'A dater'!$A$8)","v":0},{"$f":"Q232-AngCritDbl95(R232,D232,'A dater'!$C$8,Nd)","v":{"$error":"#VALUE!"}},{"$f":"IF((A232=\"\"),0,Prob_crois_fish(Q232,R232,'A dater'!$C$8))","v":0},{"$error":"#VALUE!"},{"$f":"probCritDbl(R232,D232,'A dater'!$C$8,'A dater'!$D$8,Q232)","v":{"$error":"#VALUE!"}},{"$error":"#VALUE!"},null,0,-10,null,0,0,0,0]
[null,null,null,null,null,null,null,null,null,null,null,null,null,null,null,null,67.93891596951174,{"$f":"K_dansDir(L233,K233,E233,F233,J233,'A dater'!$B$8,'A dater'!$A$8)","v":0},{"$f":"Q233-AngCritDbl95(R233,D233,'A dater'!$C$8,Nd)","v":{"$error":"#VALUE!"}},{"$f":"IF((A233=\"\"),0,Prob_crois_fish(Q233,R233,'A dater'!$C$8))","v":0},{"$error":"#VALUE!"},{"$f":"probCritDbl(R233,D233,'A dater'!$C$8,'A dater'!$D$8,Q233)","v":{"$error":"#VALUE!"}},{"$error":"#VALUE!"},null,0,-10,null,0,0,0,0]
[null,null,null,null,null,null,null,null,null,null,null,null,null,null,null,null,67.93891596951174,{"$f":"K_dansDir(L234,K234,E234,F234,J234,'A dater'!$B$8,'A dater'!$A$8)","v":0},{"$f":"Q234-AngCritDbl95(R234,D234,'A dater'!$C$8,Nd)","v":{"$error":"#VALUE!"}},{"$f":"IF((A234=\"\"),0,Prob_crois_fish(Q234,R234,'A dater'!$C$8))","v":0},{"$error":"#VALUE!"},{"$f":"probCritDbl(R234,D234,'A dater'!$C$8,'A dater'!$D$8,Q234)","v":{"$error":"#VALUE!"}},{"$error":"#VALUE!"},null,0,-10,null,0,0,0,0]
[null,null,null,null,null,null,null,null,null,null,null,null,null,null,null,null,67.93891596951174,{"$f":"K_dansDir(L235,K235,E235,F235,J235,'A dater'!$B$8,'A dater'!$A$8)","v":0},{"$f":"Q235-AngCritDbl95(R235,D235,'A dater'!$C$8,Nd)","v":{"$error":"#VALUE!"}},{"$f":"IF((A235=\"\"),0,Prob_crois_fish(Q235,R235,'A dater'!$C$8))","v":0},{"$error":"#VALUE!"},{"$f":"probCritDbl(R235,D235,'A dater'!$C$8,'A dater'!$D$8,Q235)","v":{"$error":"#VALUE!"}},{"$error":"#VALUE!"},null,0,-10,null,0,0,0,0]
[null,null,null,null,null,null,null,null,null,null,null,null,null,null,null,null,67.93891596951174,{"$f":"K_dansDir(L236,K236,E236,F236,J236,'A dater'!$B$8,'A dater'!$A$8)","v":0},{"$f":"Q236-AngCritDbl95(R236,D236,'A dater'!$C$8,Nd)","v":{"$error":"#VALUE!"}},{"$f":"IF((A236=\"\"),0,Prob_crois_fish(Q236,R236,'A dater'!$C$8))","v":0},{"$error":"#VALUE!"},{"$f":"probCritDbl(R236,D236,'A dater'!$C$8,'A dater'!$D$8,Q236)","v":{"$error":"#VALUE!"}},{"$error":"#VALUE!"},null,0,-10,null,0,0,0,0]
[null,null,null,null,null,null,null,null,null,null,null,null,null,null,null,null,67.93891596951174,{"$f":"K_dansDir(L237,K237,E237,F237,J237,'A dater'!$B$8,'A dater'!$A$8)","v":0},{"$f":"Q237-AngCritDbl95(R237,D237,'A dater'!$C$8,Nd)","v":{"$error":"#VALUE!"}},{"$f":"IF((A237=\"\"),0,Prob_crois_fish(Q237,R237,'A dater'!$C$8))","v":0},{"$error":"#VALUE!"},{"$f":"probCritDbl(R237,D237,'A dater'!$C$8,'A dater'!$D$8,Q237)","v":{"$error":"#VALUE!"}},{"$error":"#VALUE!"},null,0,-10,null,0,0,0,0]
[null,null,null,null,null,null,null,null,null,null,null,null,null,null,null,null,67.93891596951174,{"$f":"K_dansDir(L238,K238,E238,F238,J238,'A dater'!$B$8,'A dater'!$A$8)","v":0},{"$f":"Q238-AngCritDbl95(R238,D238,'A dater'!$C$8,Nd)","v":{"$error":"#VALUE!"}},{"$f":"IF((A238=\"\"),0,Prob_crois_fish(Q238,R238,'A dater'!$C$8))","v":0},{"$error":"#VALUE!"},{"$f":"probCritDbl(R238,D238,'A dater'!$C$8,'A dater'!$D$8,Q238)","v":{"$error":"#VALUE!"}},{"$error":"#VALUE!"},null,0,-10,null,0,0,0,0]
[null,null,null,null,null,null,null,null,null,null,null,null,null,null,null,null,67.93891596951174,{"$f":"K_dansDir(L239,K239,E239,F239,J239,'A dater'!$B$8,'A dater'!$A$8)","v":0},{"$f":"Q239-AngCritDbl95(R239,D239,'A dater'!$C$8,Nd)","v":{"$error":"#VALUE!"}},{"$f":"IF((A239=\"\"),0,Prob_crois_fish(Q239,R239,'A dater'!$C$8))","v":0},{"$error":"#VALUE!"},{"$f":"probCritDbl(R239,D239,'A dater'!$C$8,'A dater'!$D$8,Q239)","v":{"$error":"#VALUE!"}},{"$error":"#VALUE!"},null,0,-10,null,0,0,0,0]
[null,null,null,null,null,null,null,null,null,null,null,null,null,null,null,null,67.93891596951174,{"$f":"K_dansDir(L240,K240,E240,F240,J240,'A dater'!$B$8,'A dater'!$A$8)","v":0},{"$f":"Q240-AngCritDbl95(R240,D240,'A dater'!$C$8,Nd)","v":{"$error":"#VALUE!"}},{"$f":"IF((A240=\"\"),0,Prob_crois_fish(Q240,R240,'A dater'!$C$8))","v":0},{"$error":"#VALUE!"},{"$f":"probCritDbl(R240,D240,'A dater'!$C$8,'A dater'!$D$8,Q240)","v":{"$error":"#VALUE!"}},{"$error":"#VALUE!"},null,0,-10,null,0,0,0,0]
[null,null,null,null,null,null,null,null,null,null,null,null,null,null,null,null,67.93891596951174,{"$f":"K_dansDir(L241,K241,E241,F241,J241,'A dater'!$B$8,'A dater'!$A$8)","v":0},{"$f":"Q241-AngCritDbl95(R241,D241,'A dater'!$C$8,Nd)","v":{"$error":"#VALUE!"}},{"$f":"IF((A241=\"\"),0,Prob_crois_fish(Q241,R241,'A dater'!$C$8))","v":0},{"$error":"#VALUE!"},{"$f":"probCritDbl(R241,D241,'A dater'!$C$8,'A dater'!$D$8,Q241)","v":{"$error":"#VALUE!"}},{"$error":"#VALUE!"},null,0,-10,null,0,0,0,0]
[null,null,null,null,null,null,null,null,null,null,null,null,null,null,null,null,67.93891596951174,{"$f":"K_dansDir(L242,K242,E242,F242,J242,'A dater'!$B$8,'A dater'!$A$8)","v":0},{"$f":"Q242-AngCritDbl95(R242,D242,'A dater'!$C$8,Nd)","v":{"$error":"#VALUE!"}},{"$f":"IF((A242=\"\"),0,Prob_crois_fish(Q242,R242,'A dater'!$C$8))","v":0},{"$error":"#VALUE!"},{"$f":"probCritDbl(R242,D242,'A dater'!$C$8,'A dater'!$D$8,Q242)","v":{"$error":"#VALUE!"}},{"$error":"#VALUE!"},null,0,-10,null,0,0,0,0]
[null,null,null,null,null,null,null,null,null,null,null,null,null,null,null,null,67.93891596951174,{"$f":"K_dansDir(L243,K243,E243,F243,J243,'A dater'!$B$8,'A dater'!$A$8)","v":0},{"$f":"Q243-AngCritDbl95(R243,D243,'A dater'!$C$8,Nd)","v":{"$error":"#VALUE!"}},{"$f":"IF((A243=\"\"),0,Prob_crois_fish(Q243,R243,'A dater'!$C$8))","v":0},{"$error":"#VALUE!"},{"$f":"probCritDbl(R243,D243,'A dater'!$C$8,'A dater'!$D$8,Q243)","v":{"$error":"#VALUE!"}},{"$error":"#VALUE!"},null,0,-10,null,0,0,0,0]
[null,null,null,null,null,null,null,null,null,null,null,null,null,null,null,null,67.93891596951174,{"$f":"K_dansDir(L244,K244,E244,F244,J244,'A dater'!$B$8,'A dater'!$A$8)","v":0},{"$f":"Q244-AngCritDbl95(R244,D244,'A dater'!$C$8,Nd)","v":{"$error":"#VALUE!"}},{"$f":"IF((A244=\"\"),0,Prob_crois_fish(Q244,R244,'A dater'!$C$8))","v":0},{"$error":"#VALUE!"},{"$f":"probCritDbl(R244,D244,'A dater'!$C$8,'A dater'!$D$8,Q244)","v":{"$error":"#VALUE!"}},{"$error":"#VALUE!"},null,0,-10,null,0,0,0,0]
[null,null,null,null,null,null,null,null,null,null,null,null,null,null,null,null,67.93891596951174,{"$f":"K_dansDir(L245,K245,E245,F245,J245,'A dater'!$B$8,'A dater'!$A$8)","v":0},{"$f":"Q245-AngCritDbl95(R245,D245,'A dater'!$C$8,Nd)","v":{"$error":"#VALUE!"}},{"$f":"IF((A245=\"\"),0,Prob_crois_fish(Q245,R245,'A dater'!$C$8))","v":0},{"$error":"#VALUE!"},{"$f":"probCritDbl(R245,D245,'A dater'!$C$8,'A dater'!$D$8,Q245)","v":{"$error":"#VALUE!"}},{"$error":"#VALUE!"},null,0,-10,null,0,0,0,0]
[null,null,null,null,null,null,null,null,null,null,null,null,null,null,null,null,67.93891596951174,{"$f":"K_dansDir(L246,K246,E246,F246,J246,'A dater'!$B$8,'A dater'!$A$8)","v":0},{"$f":"Q246-AngCritDbl95(R246,D246,'A dater'!$C$8,Nd)","v":{"$error":"#VALUE!"}},{"$f":"IF((A246=\"\"),0,Prob_crois_fish(Q246,R246,'A dater'!$C$8))","v":0},{"$error":"#VALUE!"},{"$f":"probCritDbl(R246,D246,'A dater'!$C$8,'A dater'!$D$8,Q246)","v":{"$error":"#VALUE!"}},{"$error":"#VALUE!"},null,0,-10,null,0,0,0,0]
[null,null,null,null,null,null,null,null,null,null,null,null,null,null,null,null,67.93891596951174,{"$f":"K_dansDir(L247,K247,E247,F247,J247,'A dater'!$B$8,'A dater'!$A$8)","v":0},{"$f":"Q247-AngCritDbl95(R247,D247,'A dater'!$C$8,Nd)","v":{"$error":"#VALUE!"}},{"$f":"IF((A247=\"\"),0,Prob_crois_fish(Q247,R247,'A dater'!$C$8))","v":0},{"$error":"#VALUE!"},{"$f":"probCritDbl(R247,D247,'A dater'!$C$8,'A dater'!$D$8,Q247)","v":{"$error":"#VALUE!"}},{"$error":"#VALUE!"},null,0,-10,null,0,0,0,0]
[null,null,null,null,null,null,null,null,null,null,null,null,null,null,null,null,67.93891596951174,{"$f":"K_dansDir(L248,K248,E248,F248,J248,'A dater'!$B$8,'A dater'!$A$8)","v":0},{"$f":"Q248-AngCritDbl95(R248,D248,'A dater'!$C$8,Nd)","v":{"$error":"#VALUE!"}},{"$f":"IF((A248=\"\"),0,Prob_crois_fish(Q248,R248,'A dater'!$C$8))","v":0},{"$error":"#VALUE!"},{"$f":"probCritDbl(R248,D248,'A dater'!$C$8,'A dater'!$D$8,Q248)","v":{"$error":"#VALUE!"}},{"$error":"#VALUE!"},null,0,-10,null,0,0,0,0]
[null,null,null,null,null,null,null,null,null,null,null,null,null,null,null,null,67.93891596951174,{"$f":"K_dansDir(L249,K249,E249,F249,J249,'A dater'!$B$8,'A dater'!$A$8)","v":0},{"$f":"Q249-AngCritDbl95(R249,D249,'A dater'!$C$8,Nd)","v":{"$error":"#VALUE!"}},{"$f":"IF((A249=\"\"),0,Prob_crois_fish(Q249,R249,'A dater'!$C$8))","v":0},{"$error":"#VALUE!"},{"$f":"probCritDbl(R249,D249,'A dater'!$C$8,'A dater'!$D$8,Q249)","v":{"$error":"#VALUE!"}},{"$error":"#VALUE!"},null,0,-10,null,0,0,0,0]
[null,null,null,null,null,null,null,null,null,null,null,null,null,null,null,null,67.93891596951174,{"$f":"K_dansDir(L250,K250,E250,F250,J250,'A dater'!$B$8,'A dater'!$A$8)","v":0},{"$f":"Q250-AngCritDbl95(R250,D250,'A dater'!$C$8,Nd)","v":{"$error":"#VALUE!"}},{"$f":"IF((A250=\"\"),0,Prob_crois_fish(Q250,R250,'A dater'!$C$8))","v":0},{"$error":"#VALUE!"},{"$f":"probCritDbl(R250,D250,'A dater'!$C$8,'A dater'!$D$8,Q250)","v":{"$error":"#VALUE!"}},{"$error":"#VALUE!"},null,0,-10,null,0,0,0,0]

{"sheet":"oval_FR","index":6,"n_rows":721,"n_cols":4,"rows_kept":721,"cut":false,"hidden":false,"merged":[]}
[3.2000000000000001E-2,0.35439999999999999,3.1199999999999999E-2,0.35699999999999998]
[2.92E-2,0.35410000000000003,2.9600000000000001E-2,0.35699999999999998]
[2.63E-2,0.3548,2.7799999999999998E-2,0.35780000000000001]
[2.3199999999999998E-2,0.35630000000000001,2.58E-2,0.3594]
[2.01E-2,0.35859999999999997,2.3699999999999999E-2,0.36180000000000001]
[1.72E-2,0.36170000000000002,2.1600000000000001E-2,0.36480000000000001]
[1.44E-2,0.36549999999999999,1.9599999999999999E-2,0.36840000000000001]
[1.18E-2,0.36980000000000002,1.77E-2,0.37240000000000001]
[9.5999999999999992E-3,0.37459999999999999,1.5900000000000001E-2,0.37690000000000001]
[7.9000000000000008E-3,0.37969999999999998,1.44E-2,0.38150000000000001]
[6.4999999999999997E-3,0.38479999999999998,1.3100000000000001E-2,0.38619999999999999]
[5.7000000000000002E-3,0.39,1.21E-2,0.39079999999999998]
[5.4000000000000003E-3,0.39489999999999997,1.15E-2,0.3952]
[5.7000000000000002E-3,0.39950000000000002,1.12E-2,0.39929999999999999]
[6.4999999999999997E-3,0.4037,1.1299999999999999E-2,0.40289999999999998]
[7.7999999999999996E-3,0.40720000000000001,1.17E-2,0.40589999999999998]
[9.4999999999999998E-3,0.41010000000000002,1.2500000000000001E-2,0.4083]
[1.17E-2,0.41210000000000002,1.3599999999999999E-2,0.40989999999999999]
[1.43E-2,0.4133,1.4999999999999999E-2,0.41070000000000001]
[1.7100000000000001E-2,0.41360000000000002,1.67E-2,0.41070000000000001]
[0.02,0.41299999999999998,1.8499999999999999E-2,0.40989999999999999]
[2.3099999999999999E-2,0.41149999999999998,2.0500000000000001E-2,0.4083]
[2.6200000000000001E-2,0.40910000000000002,2.2599999999999999E-2,0.40600000000000003]
[2.92E-2,0.40600000000000003,2.47E-2,0.40300000000000002]
[3.2000000000000001E-2,0.40229999999999999,2.6700000000000002E-2,0.39939999999999998]
[3.4500000000000003E-2,0.39789999999999998,2.86E-2,0.39539999999999997]
[3.6700000000000003E-2,0.39319999999999999,3.04E-2,0.39090000000000003]
[3.85E-2,0.3881,3.1899999999999998E-2,0.38629999999999998]
[3.9800000000000002E-2,0.38290000000000002,3.32E-2,0.38159999999999999]
[4.0599999999999997E-2,0.37780000000000002,3.4200000000000001E-2,0.377]
[4.0899999999999999E-2,0.37280000000000002,3.4799999999999998E-2,0.37259999999999999]
[4.0599999999999997E-2,0.36820000000000003,3.5099999999999999E-2,0.36849999999999999]
[3.9800000000000002E-2,0.36399999999999999,3.5000000000000003E-2,0.3649]
[3.85E-2,0.36049999999999999,3.4500000000000003E-2,0.36180000000000001]
[3.6700000000000003E-2,0.35759999999999997,3.3700000000000001E-2,0.35949999999999999]
[3.4500000000000003E-2,0.35560000000000003,3.2599999999999997E-2,0.3579]
[3.2000000000000001E-2,0.35439999999999999,3.1199999999999999E-2,0.35699999999999998]
[]
[3.1E-2,0.33560000000000001,3.0599999999999999E-2,0.3402]
[2.7900000000000001E-2,0.3357,2.86E-2,0.34029999999999999]
[2.47E-2,0.33650000000000002,2.6700000000000002E-2,0.34100000000000003]
[2.1700000000000001E-2,0.33800000000000002,2.4899999999999999E-2,0.3422]
[1.89E-2,0.34010000000000001,2.3099999999999999E-2,0.34399999999999997]
[1.6400000000000001E-2,0.34279999999999999,2.1499999999999998E-2,0.34620000000000001]
[1.43E-2,0.34599999999999997,2.01E-2,0.3488]
[1.2500000000000001E-2,0.34949999999999998,1.9E-2,0.35170000000000001]
[1.1299999999999999E-2,0.35339999999999999,1.8200000000000001E-2,0.35489999999999999]
[1.06E-2,0.35749999999999998,1.77E-2,0.35820000000000002]
[1.04E-2,0.36159999999999998,1.7500000000000002E-2,0.36149999999999999]
[1.0800000000000001E-2,0.36559999999999998,1.77E-2,0.36470000000000002]
[1.18E-2,0.3695,1.8200000000000001E-2,0.36780000000000002]
[1.32E-2,0.373,1.9E-2,0.37059999999999998]
[1.5100000000000001E-2,0.37609999999999999,2.01E-2,0.37309999999999999]
[1.7500000000000002E-2,0.37869999999999998,2.1399999999999999E-2,0.37509999999999999]
[2.01E-2,0.38069999999999998,2.3E-2,0.37669999999999998]
[2.3099999999999999E-2,0.38200000000000001,2.4799999999999999E-2,0.37769999999999998]
[2.6200000000000001E-2,0.38269999999999998,2.6599999999999999E-2,0.37819999999999998]
[2.93E-2,0.3826,2.86E-2,0.37809999999999999]
[3.2500000000000001E-2,0.38179999999999997,3.0499999999999999E-2,0.37740000000000001]
[3.5499999999999997E-2,0.38040000000000002,3.2399999999999998E-2,0.37609999999999999]
[3.8300000000000001E-2,0.37819999999999998,3.4099999999999998E-2,0.37440000000000001]
[4.0899999999999999E-2,0.3755,3.5700000000000003E-2,0.37219999999999998]
[4.2999999999999997E-2,0.37240000000000001,3.7100000000000001E-2,0.3695]
[4.4699999999999997E-2,0.36880000000000002,3.8199999999999998E-2,0.36659999999999998]
[4.5900000000000003E-2,0.3649,3.9E-2,0.36349999999999999]
[4.6600000000000003E-2,0.36080000000000001,3.95E-2,0.36020000000000002]
[4.6800000000000001E-2,0.35670000000000002,3.9699999999999999E-2,0.3569]
[4.6399999999999997E-2,0.35270000000000001,3.95E-2,0.35360000000000003]
[4.5400000000000003E-2,0.3488,3.9E-2,0.35049999999999998]
[4.3999999999999997E-2,0.3453,3.8199999999999998E-2,0.34770000000000001]
[4.2000000000000003E-2,0.3422,3.7100000000000001E-2,0.3453]
[3.9699999999999999E-2,0.33960000000000001,3.5799999999999998E-2,0.34320000000000001]
[3.6999999999999998E-2,0.33760000000000001,3.4200000000000001E-2,0.3417]
[3.4099999999999998E-2,0.33629999999999999,3.2399999999999998E-2,0.34060000000000001]
[3.1E-2,0.33560000000000001,3.0599999999999999E-2,0.3402]
[]
[3.7900000000000003E-2,0.36940000000000001,3.44E-2,0.36409999999999998]
[4.0500000000000001E-2,0.36749999999999999,3.5999999999999997E-2,0.3629]
[4.2599999999999999E-2,0.36499999999999999,3.73E-2,0.3614]
[4.4299999999999999E-2,0.36230000000000001,3.8199999999999998E-2,0.35959999999999998]
[4.5499999999999999E-2,0.35920000000000002,3.8800000000000001E-2,0.35759999999999997]
[4.6100000000000002E-2,0.35589999999999999,3.9100000000000003E-2,0.35549999999999998]
[4.6100000000000002E-2,0.35249999999999998,3.9E-2,0.3533]
[4.5600000000000002E-2,0.34920000000000001,3.85E-2,0.35099999999999998]
[4.4499999999999998E-2,0.34589999999999999,3.7699999999999997E-2,0.3488]
[4.2799999999999998E-2,0.34289999999999998,3.6499999999999998E-2,0.34670000000000001]
[4.07E-2,0.34010000000000001,3.5099999999999999E-2,0.3448]
[3.8100000000000002E-2,0.3377,3.3399999999999999E-2,0.34320000000000001]
[3.5200000000000002E-2,0.33579999999999999,3.15E-2,0.34179999999999999]
[3.2099999999999997E-2,0.33439999999999998,2.9499999999999998E-2,0.3407]
[2.8799999999999999E-2,0.33350000000000002,2.7400000000000001E-2,0.34010000000000001]
[2.5399999999999999E-2,0.33329999999999999,2.53E-2,0.33979999999999999]
[2.2100000000000002E-2,0.33360000000000001,2.3199999999999998E-2,0.33979999999999999]
[1.89E-2,0.33439999999999998,2.12E-2,0.34029999999999999]
[1.6E-2,0.33589999999999998,1.9400000000000001E-2,0.3412]
[1.34E-2,0.33779999999999999,1.7899999999999999E-2,0.34239999999999998]
[1.12E-2,0.3402,1.66E-2,0.34389999999999998]
[9.4999999999999998E-3,0.34300000000000003,1.5599999999999999E-2,0.34570000000000001]
[8.3999999999999995E-3,0.34610000000000002,1.4999999999999999E-2,0.34770000000000001]
[7.7000000000000002E-3,0.3493,1.47E-2,0.3498]
[7.7000000000000002E-3,0.35270000000000001,1.49E-2,0.35199999999999998]
[8.3000000000000001E-3,0.35610000000000003,1.5299999999999999E-2,0.3543]
[9.4000000000000004E-3,0.35930000000000001,1.61E-2,0.35649999999999998]
[1.0999999999999999E-2,0.3624,1.7299999999999999E-2,0.35859999999999997]
[1.32E-2,0.36520000000000002,1.8700000000000001E-2,0.36049999999999999]
[1.5699999999999999E-2,0.36759999999999998,2.0400000000000001E-2,0.36209999999999998]
[1.8599999999999998E-2,0.3695,2.23E-2,0.36349999999999999]
[2.18E-2,0.37090000000000001,2.4400000000000002E-2,0.36459999999999998]
[2.5100000000000001E-2,0.37180000000000002,2.6499999999999999E-2,0.36530000000000001]
[2.8400000000000002E-2,0.37209999999999999,2.86E-2,0.36559999999999998]
[3.1800000000000002E-2,0.37169999999999997,3.0700000000000002E-2,0.36549999999999999]
[3.49E-2,0.37090000000000001,3.2599999999999997E-2,0.36499999999999999]
[3.7900000000000003E-2,0.36940000000000001,3.44E-2,0.36409999999999998]
[]
[3.9100000000000003E-2,0.35,3.4000000000000002E-2,0.3503]
[3.8600000000000002E-2,0.34720000000000001,3.3599999999999998E-2,0.34860000000000002]
[3.7499999999999999E-2,0.34449999999999997,3.2899999999999999E-2,0.34699999999999998]
[3.5900000000000001E-2,0.34200000000000003,3.1600000000000003E-2,0.34549999999999997]
[3.3700000000000001E-2,0.33979999999999999,0.03,0.34420000000000001]
[3.1099999999999999E-2,0.33789999999999998,2.81E-2,0.34300000000000003]
[2.81E-2,0.33639999999999998,2.58E-2,0.3422]
[2.4799999999999999E-2,0.33529999999999999,2.3400000000000001E-2,0.34160000000000001]
[2.1299999999999999E-2,0.33479999999999999,2.0799999999999999E-2,0.34129999999999999]
[1.78E-2,0.3347,1.8100000000000002E-2,0.3412]
[1.4200000000000001E-2,0.3352,1.55E-2,0.34150000000000003]
[1.0800000000000001E-2,0.33610000000000001,1.29E-2,0.34210000000000002]
[7.7000000000000002E-3,0.33739999999999998,1.0500000000000001E-2,0.34300000000000003]
[4.8999999999999998E-3,0.3392,8.3999999999999995E-3,0.34410000000000002]
[2.3999999999999998E-3,0.34139999999999998,6.4999999999999997E-3,0.34539999999999998]
[5.0000000000000001E-4,0.34379999999999999,5.1000000000000004E-3,0.34689999999999999]
[-8.9999999999999998E-4,0.34649999999999997,4.0000000000000001E-3,0.34849999999999998]
[-1.6000000000000001E-3,0.3493,3.3999999999999998E-3,0.35020000000000001]
[-1.8E-3,0.35210000000000002,3.3E-3,0.35189999999999999]
[-1.4E-3,0.35499999999999998,3.5999999999999999E-3,0.35360000000000003]
[-2.9999999999999997E-4,0.35770000000000002,4.4000000000000003E-3,0.3553]
[1.2999999999999999E-3,0.36020000000000002,5.5999999999999999E-3,0.35680000000000001]
[3.5000000000000001E-3,0.36249999999999999,7.1999999999999998E-3,0.35809999999999997]
[6.1000000000000004E-3,0.3644,9.1000000000000004E-3,0.35920000000000002]
[9.1000000000000004E-3,0.3659,1.14E-2,0.36009999999999998]
[1.24E-2,0.3669,1.3899999999999999E-2,0.36070000000000002]
[1.5900000000000001E-2,0.36749999999999999,1.6500000000000001E-2,0.36099999999999999]
[1.95E-2,0.36759999999999998,1.9099999999999999E-2,0.36099999999999999]
[2.3E-2,0.36709999999999998,2.18E-2,0.36080000000000001]
[2.64E-2,0.36620000000000003,2.4400000000000002E-2,0.36020000000000002]
[2.9600000000000001E-2,0.36480000000000001,2.6700000000000002E-2,0.35930000000000001]
[3.2399999999999998E-2,0.36299999999999999,2.8899999999999999E-2,0.35820000000000002]
[3.4799999999999998E-2,0.3609,3.0700000000000002E-2,0.3569]
[3.6799999999999999E-2,0.3584,3.2199999999999999E-2,0.35539999999999999]
[3.8100000000000002E-2,0.35570000000000002,3.32E-2,0.3538]
[3.8899999999999997E-2,0.35289999999999999,3.3799999999999997E-2,0.35210000000000002]
[3.9100000000000003E-2,0.35,3.4000000000000002E-2,0.3503]
[]
[3.09E-2,0.34710000000000002,2.6599999999999999E-2,0.34799999999999998]
[3.0099999999999998E-2,0.34460000000000002,2.6100000000000002E-2,0.34649999999999997]
[2.87E-2,0.34229999999999999,2.5100000000000001E-2,0.34520000000000001]
[2.6700000000000002E-2,0.34029999999999999,2.3599999999999999E-2,0.34410000000000002]
[2.4299999999999999E-2,0.33860000000000001,2.18E-2,0.34320000000000001]
[2.1399999999999999E-2,0.33729999999999999,1.9699999999999999E-2,0.34250000000000003]
[1.83E-2,0.33639999999999998,1.7299999999999999E-2,0.34210000000000002]
[1.49E-2,0.33589999999999998,1.47E-2,0.34189999999999998]
[1.15E-2,0.33589999999999998,1.2E-2,0.34210000000000002]
[8.0000000000000002E-3,0.33639999999999998,9.2999999999999992E-3,0.34250000000000003]
[4.5999999999999999E-3,0.33729999999999999,6.6E-3,0.34320000000000001]
[1.4E-3,0.33860000000000001,4.1000000000000003E-3,0.34410000000000002]
[-1.5E-3,0.34029999999999999,1.6999999999999999E-3,0.34520000000000001]
[-4.0000000000000001E-3,0.34229999999999999,-2.9999999999999997E-4,0.34649999999999997]
[-6.1000000000000004E-3,0.34460000000000002,-2E-3,0.34789999999999999]
[-7.7000000000000002E-3,0.34710000000000002,-3.3E-3,0.34949999999999998]
[-8.6E-3,0.34970000000000001,-4.1999999999999997E-3,0.35110000000000002]
[-8.9999999999999993E-3,0.35239999999999999,-4.5999999999999999E-3,0.35270000000000001]
[-8.8000000000000005E-3,0.35499999999999998,-4.4999999999999997E-3,0.35420000000000001]
[-7.9000000000000008E-3,0.35749999999999998,-3.8999999999999998E-3,0.35570000000000002]
[-6.4999999999999997E-3,0.35980000000000001,-2.8999999999999998E-3,0.35699999999999998]
[-4.5999999999999999E-3,0.3619,-1.5E-3,0.35809999999999997]
[-2.0999999999999999E-3,0.36359999999999998,2.9999999999999997E-4,0.35899999999999999]
[6.9999999999999999E-4,0.3649,2.5000000000000001E-3,0.35970000000000002]
[3.8E-3,0.3659,4.8999999999999998E-3,0.36009999999999998]
[7.1999999999999998E-3,0.36630000000000001,7.4999999999999997E-3,0.36030000000000001]
[1.0699999999999999E-2,0.36630000000000001,1.0200000000000001E-2,0.36020000000000002]
[1.4200000000000001E-2,0.3659,1.29E-2,0.35980000000000001]
[1.7600000000000001E-2,0.36499999999999999,1.5599999999999999E-2,0.35909999999999997]
[2.0799999999999999E-2,0.36359999999999998,1.8100000000000002E-2,0.35820000000000002]
[2.3699999999999999E-2,0.3619,2.0400000000000001E-2,0.35699999999999998]
[2.6200000000000001E-2,0.3599,2.2499999999999999E-2,0.35570000000000002]
[2.8299999999999999E-2,0.35749999999999998,2.4199999999999999E-2,0.3543]
[2.98E-2,0.35499999999999998,2.5399999999999999E-2,0.35270000000000001]
[3.0800000000000001E-2,0.35239999999999999,2.63E-2,0.35110000000000002]
[3.1199999999999999E-2,0.34970000000000001,2.6700000000000002E-2,0.34949999999999998]
[3.09E-2,0.34710000000000002,2.6599999999999999E-2,0.34799999999999998]
[]
[2.7E-2,0.3453,2.2700000000000001E-2,0.34639999999999999]
[2.5899999999999999E-2,0.34279999999999999,2.1999999999999999E-2,0.34499999999999997]
[2.4299999999999999E-2,0.34050000000000002,2.0899999999999998E-2,0.34370000000000001]
[2.2200000000000001E-2,0.33860000000000001,1.9400000000000001E-2,0.3427]
[1.9599999999999999E-2,0.33710000000000001,1.7500000000000002E-2,0.34189999999999998]
[1.67E-2,0.33589999999999998,1.52E-2,0.34139999999999998]
[1.34E-2,0.3352,1.2800000000000001E-2,0.34110000000000001]
[0.01,0.33500000000000002,1.0200000000000001E-2,0.34110000000000001]
[6.4999999999999997E-3,0.3352,7.4000000000000003E-3,0.34139999999999998]
[3.0000000000000001E-3,0.33589999999999998,4.7000000000000002E-3,0.34200000000000003]
[-4.0000000000000002E-4,0.33710000000000001,2.0999999999999999E-3,0.34289999999999998]
[-3.5999999999999999E-3,0.33860000000000001,-4.0000000000000002E-4,0.34399999999999997]
[-6.4000000000000003E-3,0.34050000000000002,-2.7000000000000001E-3,0.3453]
[-8.8000000000000005E-3,0.34279999999999999,-4.7000000000000002E-3,0.34670000000000001]
[-1.0699999999999999E-2,0.34520000000000001,-6.3E-3,0.3483]
[-1.21E-2,0.34789999999999999,-7.4999999999999997E-3,0.34989999999999999]
[-1.29E-2,0.35060000000000002,-8.2000000000000007E-3,0.35160000000000002]
[-1.3100000000000001E-2,0.3533,-8.5000000000000006E-3,0.35320000000000001]
[-1.26E-2,0.35589999999999999,-8.3000000000000001E-3,0.3548]
[-1.1599999999999999E-2,0.3584,-7.7000000000000002E-3,0.35620000000000002]
[-0.01,0.36070000000000002,-6.6E-3,0.35749999999999998]
[-7.9000000000000008E-3,0.36259999999999998,-5.0000000000000001E-3,0.35859999999999997]
[-5.3E-3,0.36420000000000002,-3.0999999999999999E-3,0.3594]
[-2.3999999999999998E-3,0.36530000000000001,-8.9999999999999998E-4,0.3599]
[8.9999999999999998E-4,0.36609999999999998,1.5E-3,0.36020000000000002]
[4.3E-3,0.36630000000000001,4.1999999999999997E-3,0.36020000000000002]
[7.9000000000000008E-3,0.36609999999999998,6.8999999999999999E-3,0.3599]
[1.14E-2,0.3654,9.5999999999999992E-3,0.35930000000000001]
[1.4800000000000001E-2,0.36420000000000002,1.23E-2,0.3584]
[1.7899999999999999E-2,0.36259999999999998,1.4800000000000001E-2,0.35730000000000001]
[2.07E-2,0.36070000000000002,1.7100000000000001E-2,0.35599999999999998]
[2.3099999999999999E-2,0.35849999999999999,1.9E-2,0.35449999999999998]
[2.5100000000000001E-2,0.35599999999999998,2.06E-2,0.35299999999999998]
[2.64E-2,0.3533,2.18E-2,0.3513]
[2.7199999999999998E-2,0.35060000000000002,2.2599999999999999E-2,0.34960000000000002]
[2.7400000000000001E-2,0.34789999999999999,2.29E-2,0.34799999999999998]
[2.7E-2,0.3453,2.2700000000000001E-2,0.34639999999999999]
[]
[2.6200000000000001E-2,0.34470000000000001,2.1899999999999999E-2,0.34589999999999999]
[2.52E-2,0.3422,2.1299999999999999E-2,0.34439999999999998]
[2.3599999999999999E-2,0.34,2.0199999999999999E-2,0.34310000000000002]
[2.1499999999999998E-2,0.33800000000000002,1.8700000000000001E-2,0.34200000000000003]
[1.9E-2,0.33650000000000002,1.6799999999999999E-2,0.34110000000000001]
[1.61E-2,0.33529999999999999,1.46E-2,0.34050000000000002]
[1.29E-2,0.33460000000000001,1.2200000000000001E-2,0.3402]
[9.4999999999999998E-3,0.33429999999999999,9.5999999999999992E-3,0.3402]
[6.1000000000000004E-3,0.33450000000000002,7.0000000000000001E-3,0.34050000000000002]
[2.7000000000000001E-3,0.3352,4.3E-3,0.34110000000000001]
[-5.9999999999999995E-4,0.33629999999999999,1.6999999999999999E-3,0.34189999999999998]
[-3.7000000000000002E-3,0.33789999999999998,-6.9999999999999999E-4,0.34300000000000003]
[-6.4999999999999997E-3,0.33979999999999999,-2.8999999999999998E-3,0.34429999999999999]
[-8.8000000000000005E-3,0.34200000000000003,-4.7999999999999996E-3,0.3458]
[-1.0699999999999999E-2,0.34439999999999998,-6.3E-3,0.3473]
[-1.2E-2,0.34710000000000002,-7.4999999999999997E-3,0.34899999999999998]
[-1.2800000000000001E-2,0.3498,-8.2000000000000007E-3,0.35070000000000001]
[-1.2999999999999999E-2,0.35249999999999998,-8.5000000000000006E-3,0.35239999999999999]
[-1.2500000000000001E-2,0.35510000000000003,-8.2000000000000007E-3,0.35399999999999998]
[-1.15E-2,0.35759999999999997,-7.6E-3,0.35549999999999998]
[-9.9000000000000008E-3,0.3599,-6.4999999999999997E-3,0.35680000000000001]
[-7.7999999999999996E-3,0.36180000000000001,-5.0000000000000001E-3,0.3579]
[-5.3E-3,0.3634,-3.0999999999999999E-3,0.35880000000000001]
[-2.3999999999999998E-3,0.36459999999999998,-8.9999999999999998E-4,0.3594]
[8.0000000000000004E-4,0.3654,1.5E-3,0.35970000000000002]
[4.1999999999999997E-3,0.36559999999999998,4.1000000000000003E-3,0.35970000000000002]
[7.6E-3,0.3654,6.7000000000000002E-3,0.35949999999999999]
[1.11E-2,0.36470000000000002,9.4000000000000004E-3,0.3589]
[1.44E-2,0.36359999999999998,1.2E-2,0.35799999999999998]
[1.7500000000000002E-2,0.36209999999999998,1.44E-2,0.35699999999999998]
[2.0199999999999999E-2,0.36009999999999998,1.66E-2,0.35570000000000002]
[2.2599999999999999E-2,0.3579,1.8499999999999999E-2,0.35420000000000001]
[2.4400000000000002E-2,0.35539999999999999,2.01E-2,0.35260000000000002]
[2.5700000000000001E-2,0.3528,2.12E-2,0.35089999999999999]
[2.6499999999999999E-2,0.35010000000000002,2.1899999999999999E-2,0.34920000000000001]
[2.6700000000000002E-2,0.34739999999999999,2.2200000000000001E-2,0.34749999999999998]
[2.6200000000000001E-2,0.34470000000000001,2.1899999999999999E-2,0.34589999999999999]
[]
[3.8399999999999997E-2,0.3342,3.4200000000000001E-2,0.33579999999999999]
[3.6700000000000003E-2,0.33119999999999999,3.3000000000000002E-2,0.33379999999999999]
[3.44E-2,0.3286,3.1300000000000001E-2,0.33200000000000002]
[3.15E-2,0.32640000000000002,2.9100000000000001E-2,0.3306]
[2.81E-2,0.32479999999999998,2.64E-2,0.32950000000000002]
[2.4299999999999999E-2,0.32369999999999999,2.3400000000000001E-2,0.32890000000000003]
[2.0199999999999999E-2,0.32319999999999999,2.01E-2,0.32869999999999999]
[1.6E-2,0.32329999999999998,1.66E-2,0.32900000000000001]
[1.17E-2,0.32400000000000001,1.3100000000000001E-2,0.32969999999999999]
[7.4999999999999997E-3,0.32529999999999998,9.7000000000000003E-3,0.33079999999999998]
[3.5000000000000001E-3,0.32719999999999999,6.4000000000000003E-3,0.33229999999999998]
[-2.0000000000000001E-4,0.32950000000000002,3.3999999999999998E-3,0.33410000000000001]
[-3.3E-3,0.33229999999999998,6.9999999999999999E-4,0.3362]
[-6.0000000000000001E-3,0.33539999999999998,-1.6000000000000001E-3,0.33860000000000001]
[-8.0000000000000002E-3,0.3387,-3.3999999999999998E-3,0.34100000000000003]
[-9.2999999999999992E-3,0.3422,-4.5999999999999999E-3,0.34360000000000002]
[-9.9000000000000008E-3,0.34570000000000001,-5.1999999999999998E-3,0.34610000000000002]
[-9.7000000000000003E-3,0.34910000000000002,-5.1999999999999998E-3,0.34849999999999998]
[-8.8000000000000005E-3,0.35239999999999999,-4.5999999999999999E-3,0.3508]
[-7.1999999999999998E-3,0.35539999999999999,-3.5000000000000001E-3,0.35289999999999999]
[-4.8999999999999998E-3,0.35809999999999997,-1.6999999999999999E-3,0.35470000000000002]
[-2E-3,0.36020000000000002,5.0000000000000001E-4,0.35610000000000003]
[1.4E-3,0.3619,3.2000000000000002E-3,0.35720000000000002]
[5.3E-3,0.36299999999999999,6.1999999999999998E-3,0.35780000000000001]
[9.4000000000000004E-3,0.36349999999999999,9.4999999999999998E-3,0.35799999999999998]
[1.3599999999999999E-2,0.3634,1.2999999999999999E-2,0.35770000000000002]
[1.7999999999999999E-2,0.36270000000000002,1.6500000000000001E-2,0.35699999999999998]
[2.2200000000000001E-2,0.3614,1.9900000000000001E-2,0.35589999999999999]
[2.6200000000000001E-2,0.35959999999999998,2.3199999999999998E-2,0.35439999999999999]
[2.98E-2,0.35720000000000002,2.63E-2,0.35260000000000002]
[3.3000000000000002E-2,0.35439999999999999,2.9000000000000001E-2,0.35049999999999998]
[3.56E-2,0.3513,3.1199999999999999E-2,0.34810000000000002]
[3.7600000000000001E-2,0.34789999999999999,3.3000000000000002E-2,0.34570000000000001]
[3.8899999999999997E-2,0.34439999999999998,3.4200000000000001E-2,0.34310000000000002]
[3.95E-2,0.34089999999999998,3.4799999999999998E-2,0.34060000000000001]
[3.9300000000000002E-2,0.33750000000000002,3.4799999999999998E-2,0.33810000000000001]
[3.8399999999999997E-2,0.3342,3.4200000000000001E-2,0.33579999999999999]
[]
[5.5300000000000002E-2,0.33610000000000001,5.0200000000000002E-2,0.33529999999999999]
[5.5500000000000001E-2,0.33229999999999998,5.04E-2,0.33250000000000002]
[5.5E-2,0.32840000000000003,4.99E-2,0.32969999999999999]
[5.3699999999999998E-2,0.32469999999999999,4.8899999999999999E-2,0.32690000000000002]
[5.1700000000000003E-2,0.32119999999999999,4.7300000000000002E-2,0.32429999999999998]
[4.9099999999999998E-2,0.318,4.5100000000000001E-2,0.32190000000000002]
[4.5900000000000003E-2,0.31530000000000002,4.2500000000000003E-2,0.31990000000000002]
[4.2200000000000001E-2,0.31309999999999999,3.95E-2,0.31819999999999998]
[3.8100000000000002E-2,0.31140000000000001,3.6299999999999999E-2,0.31690000000000002]
[3.3799999999999997E-2,0.31040000000000001,3.2800000000000003E-2,0.31609999999999999]
[2.9399999999999999E-2,0.31009999999999999,2.93E-2,0.31590000000000001]
[2.5000000000000001E-2,0.31040000000000001,2.58E-2,0.316]
[2.07E-2,0.31140000000000001,2.24E-2,0.31669999999999998]
[1.6799999999999999E-2,0.313,1.9300000000000001E-2,0.31790000000000002]
[1.32E-2,0.31519999999999998,1.6500000000000001E-2,0.31950000000000001]
[1.0200000000000001E-2,0.31790000000000002,1.41E-2,0.32150000000000001]
[7.7000000000000002E-3,0.32100000000000001,1.21E-2,0.32379999999999998]
[6.0000000000000001E-3,0.32450000000000001,1.0800000000000001E-2,0.32629999999999998]
[4.8999999999999998E-3,0.32819999999999999,0.01,0.3291]
[4.7000000000000002E-3,0.33210000000000001,9.7999999999999997E-3,0.33189999999999997]
[5.1999999999999998E-3,0.33589999999999998,1.03E-2,0.33479999999999999]
[6.4000000000000003E-3,0.3397,1.1299999999999999E-2,0.33750000000000002]
[8.3999999999999995E-3,0.34320000000000001,1.29E-2,0.34010000000000001]
[1.0999999999999999E-2,0.34639999999999999,1.5100000000000001E-2,0.34250000000000003]
[1.43E-2,0.34910000000000002,1.77E-2,0.34460000000000002]
[1.7999999999999999E-2,0.35139999999999999,2.06E-2,0.3463]
[2.1999999999999999E-2,0.35299999999999998,2.3900000000000001E-2,0.34749999999999998]
[2.64E-2,0.35410000000000003,2.7400000000000001E-2,0.3483]
[3.0800000000000001E-2,0.35439999999999999,3.09E-2,0.34860000000000002]
[3.5200000000000002E-2,0.35410000000000003,3.44E-2,0.34839999999999999]
[3.95E-2,0.35310000000000002,3.78E-2,0.34770000000000001]
[4.3499999999999997E-2,0.35149999999999998,4.0899999999999999E-2,0.34660000000000002]
[4.7E-2,0.34920000000000001,4.3799999999999999E-2,0.34499999999999997]
[5.0099999999999999E-2,0.34649999999999997,4.6199999999999998E-2,0.34300000000000003]
[5.2499999999999998E-2,0.34329999999999999,4.8099999999999997E-2,0.3407]
[5.4300000000000001E-2,0.33979999999999999,4.9399999999999999E-2,0.33810000000000001]
[5.5300000000000002E-2,0.33610000000000001,5.0200000000000002E-2,0.33529999999999999]
[]
[6.0100000000000001E-2,0.34129999999999999,5.5199999999999999E-2,0.34]
[6.08E-2,0.33760000000000001,5.57E-2,0.33739999999999998]
[6.0699999999999997E-2,0.33379999999999999,5.5500000000000001E-2,0.33460000000000001]
[5.9799999999999999E-2,0.33,5.4699999999999999E-2,0.33189999999999997]
[5.8099999999999999E-2,0.32640000000000002,5.33E-2,0.32919999999999999]
[5.5800000000000002E-2,0.32290000000000002,5.1299999999999998E-2,0.32669999999999999]
[5.2699999999999997E-2,0.31990000000000002,4.8800000000000003E-2,0.32440000000000002]
[4.9200000000000001E-2,0.31719999999999998,4.5900000000000003E-2,0.32240000000000002]
[4.5199999999999997E-2,0.31509999999999999,4.2599999999999999E-2,0.32069999999999999]
[4.0899999999999999E-2,0.3135,3.9100000000000003E-2,0.31950000000000001]
[3.6400000000000002E-2,0.31259999999999999,3.5400000000000001E-2,0.31869999999999998]
[3.1800000000000002E-2,0.31230000000000002,3.1800000000000002E-2,0.31840000000000002]
[2.7300000000000001E-2,0.31269999999999998,2.8199999999999999E-2,0.31859999999999999]
[2.3099999999999999E-2,0.31380000000000002,2.4799999999999999E-2,0.31919999999999998]
[1.9199999999999998E-2,0.31540000000000001,2.1700000000000001E-2,0.32029999999999997]
[1.5800000000000002E-2,0.31769999999999998,1.9E-2,0.32179999999999997]
[1.29E-2,0.32040000000000002,1.6799999999999999E-2,0.32369999999999999]
[1.0699999999999999E-2,0.3236,1.5100000000000001E-2,0.32600000000000001]
[9.1999999999999998E-3,0.32700000000000001,1.4E-2,0.32840000000000003]
[8.5000000000000006E-3,0.33069999999999999,1.3599999999999999E-2,0.33110000000000001]
[8.6E-3,0.33450000000000002,1.37E-2,0.33379999999999999]
[9.4999999999999998E-3,0.33829999999999999,1.4500000000000001E-2,0.33660000000000001]
[1.11E-2,0.34200000000000003,1.6E-2,0.33929999999999999]
[1.34E-2,0.34549999999999997,1.7999999999999999E-2,0.34179999999999999]
[1.6400000000000001E-2,0.34860000000000002,2.0400000000000001E-2,0.34410000000000002]
[0.02,0.35120000000000001,2.3400000000000001E-2,0.34610000000000002]
[2.4E-2,0.35339999999999999,2.6599999999999999E-2,0.3478]
[2.8299999999999999E-2,0.35489999999999999,3.0200000000000001E-2,0.34899999999999998]
[3.2899999999999999E-2,0.35589999999999999,3.3799999999999997E-2,0.3498]
[3.7400000000000003E-2,0.35620000000000002,3.7499999999999999E-2,0.35010000000000002]
[4.19E-2,0.35580000000000001,4.1099999999999998E-2,0.34989999999999999]
[4.6199999999999998E-2,0.35470000000000002,4.4499999999999998E-2,0.3493]
[5.0099999999999999E-2,0.35299999999999998,4.7500000000000001E-2,0.34820000000000001]
[5.3499999999999999E-2,0.3508,5.0200000000000002E-2,0.34660000000000002]
[5.6399999999999999E-2,0.34799999999999998,5.2499999999999998E-2,0.34470000000000001]
[5.8599999999999999E-2,0.3448,5.4199999999999998E-2,0.34250000000000003]
[6.0100000000000001E-2,0.34129999999999999,5.5199999999999999E-2,0.34]
[]
[6.9000000000000006E-2,0.34589999999999999,6.4500000000000002E-2,0.34460000000000002]
[6.9699999999999998E-2,0.34250000000000003,6.4899999999999999E-2,0.34229999999999999]
[6.9599999999999995E-2,0.33889999999999998,6.4600000000000005E-2,0.33979999999999999]
[6.8699999999999997E-2,0.33529999999999999,6.3700000000000007E-2,0.33729999999999999]
[6.7000000000000004E-2,0.33179999999999998,6.2199999999999998E-2,0.33479999999999999]
[6.4600000000000005E-2,0.32840000000000003,6.0100000000000001E-2,0.33239999999999997]
[6.1600000000000002E-2,0.32540000000000002,5.7500000000000002E-2,0.33019999999999999]
[5.8000000000000003E-2,0.32279999999999998,5.45E-2,0.32829999999999998]
[5.3900000000000003E-2,0.3206,5.11E-2,0.3266]
[4.9599999999999998E-2,0.31890000000000002,4.7500000000000001E-2,0.32529999999999998]
[4.4999999999999998E-2,0.31790000000000002,4.3700000000000003E-2,0.32440000000000002]
[4.0399999999999998E-2,0.31740000000000002,0.04,0.32390000000000002]
[3.5799999999999998E-2,0.31759999999999999,3.6299999999999999E-2,0.32379999999999998]
[3.15E-2,0.31840000000000002,3.2800000000000003E-2,0.3241]
[2.76E-2,0.31969999999999998,2.9700000000000001E-2,0.32490000000000002]
[2.41E-2,0.32169999999999999,2.7E-2,0.3261]
[2.12E-2,0.3241,2.47E-2,0.3276]
[1.89E-2,0.32700000000000001,2.3099999999999999E-2,0.32950000000000002]
[1.7500000000000002E-2,0.33019999999999999,2.1999999999999999E-2,0.33160000000000001]
[1.67E-2,0.3337,2.1600000000000001E-2,0.33400000000000002]
[1.6799999999999999E-2,0.3372,2.18E-2,0.33639999999999998]
[1.77E-2,0.34089999999999998,2.2700000000000001E-2,0.33889999999999998]
[1.9400000000000001E-2,0.34439999999999998,2.4199999999999999E-2,0.34139999999999998]
[2.18E-2,0.34770000000000001,2.63E-2,0.34379999999999999]
[2.4799999999999999E-2,0.3508,2.8899999999999999E-2,0.34599999999999997]
[2.8400000000000002E-2,0.35349999999999998,3.2000000000000001E-2,0.34799999999999998]
[3.2500000000000001E-2,0.35570000000000002,3.5400000000000001E-2,0.34970000000000001]
[3.6900000000000002E-2,0.35730000000000001,3.9E-2,0.35099999999999998]
[4.1500000000000002E-2,0.3584,4.2700000000000002E-2,0.35189999999999999]
[4.6100000000000002E-2,0.3589,4.65E-2,0.35239999999999999]
[5.0599999999999999E-2,0.35870000000000002,5.0200000000000002E-2,0.35249999999999998]
[5.5E-2,0.3579,5.3600000000000002E-2,0.35210000000000002]
[5.8900000000000001E-2,0.35649999999999998,5.6800000000000003E-2,0.35139999999999999]
[6.2399999999999997E-2,0.35449999999999998,5.9499999999999997E-2,0.35020000000000001]
[6.5299999999999997E-2,0.35210000000000002,6.1699999999999998E-2,0.34860000000000002]
[6.7599999999999993E-2,0.34920000000000001,6.3399999999999998E-2,0.34670000000000001]
[6.9000000000000006E-2,0.34589999999999999,6.4500000000000002E-2,0.34460000000000002]
[]
[8.14E-2,0.34229999999999999,7.6300000000000007E-2,0.34160000000000001]
[8.1500000000000003E-2,0.3387,7.6300000000000007E-2,0.33929999999999999]
[8.0799999999999997E-2,0.33510000000000001,7.5700000000000003E-2,0.33700000000000002]
[7.9299999999999995E-2,0.33160000000000001,7.4300000000000005E-2,0.3347]
[7.6999999999999999E-2,0.32829999999999998,7.2300000000000003E-2,0.33250000000000002]
[7.3999999999999996E-2,0.32529999999999998,6.9800000000000001E-2,0.33050000000000002]
[7.0300000000000001E-2,0.32269999999999999,6.6699999999999995E-2,0.32869999999999999]
[6.6100000000000006E-2,0.32050000000000001,6.3299999999999995E-2,0.32719999999999999]
[6.1600000000000002E-2,0.31890000000000002,5.9499999999999997E-2,0.32600000000000001]
[5.6800000000000003E-2,0.31790000000000002,5.5599999999999997E-2,0.32519999999999999]
[5.1900000000000002E-2,0.3175,5.16E-2,0.32479999999999998]
[4.7E-2,0.31769999999999998,4.7600000000000003E-2,0.32479999999999998]
[4.24E-2,0.31850000000000001,4.3799999999999999E-2,0.32519999999999999]
[3.7999999999999999E-2,0.31990000000000002,4.0300000000000002E-2,0.32600000000000001]
[3.4200000000000001E-2,0.32190000000000002,3.7199999999999997E-2,0.32719999999999999]
[3.09E-2,0.32440000000000002,3.4599999999999999E-2,0.32869999999999999]
[2.8299999999999999E-2,0.32729999999999998,3.2599999999999997E-2,0.33050000000000002]
[2.64E-2,0.33050000000000002,3.1199999999999999E-2,0.33250000000000002]
[2.5399999999999999E-2,0.33400000000000002,3.0499999999999999E-2,0.3347]
[2.52E-2,0.33760000000000001,3.04E-2,0.33710000000000001]
[2.5899999999999999E-2,0.3412,3.1099999999999999E-2,0.33939999999999998]
[2.7400000000000001E-2,0.34470000000000001,3.2399999999999998E-2,0.3417]
[2.9700000000000001E-2,0.34799999999999998,3.44E-2,0.34389999999999998]
[3.27E-2,0.35110000000000002,3.6999999999999998E-2,0.34599999999999997]
[3.6400000000000002E-2,0.35370000000000001,0.04,0.3478]
[4.0599999999999997E-2,0.35589999999999999,4.3499999999999997E-2,0.3493]
[4.5100000000000001E-2,0.35749999999999998,4.7199999999999999E-2,0.35049999999999998]
[4.99E-2,0.35859999999999997,5.1200000000000002E-2,0.3513]
[5.4899999999999997E-2,0.35899999999999999,5.5199999999999999E-2,0.35170000000000001]
[5.9700000000000003E-2,0.35880000000000001,5.9200000000000003E-2,0.35160000000000002]
[6.4399999999999999E-2,0.3579,6.2899999999999998E-2,0.35120000000000001]
[6.88E-2,0.35649999999999998,6.6400000000000001E-2,0.35039999999999999]
[7.2599999999999998E-2,0.35449999999999998,6.9500000000000006E-2,0.34920000000000001]
[7.5899999999999995E-2,0.35199999999999998,7.2099999999999997E-2,0.34770000000000001]
[7.85E-2,0.34910000000000002,7.4200000000000002E-2,0.34589999999999999]
[8.0399999999999999E-2,0.3458,7.5600000000000001E-2,0.34379999999999999]
[8.14E-2,0.34229999999999999,7.6300000000000007E-2,0.34160000000000001]
[]
[0.1012,0.33739999999999998,9.4899999999999998E-2,0.33689999999999998]
[0.1011,0.33389999999999997,9.4799999999999995E-2,0.33500000000000002]
[0.1002,0.33040000000000003,9.4E-2,0.33310000000000001]
[9.8500000000000004E-2,0.32700000000000001,9.2600000000000002E-2,0.33129999999999998]
[9.6100000000000005E-2,0.32390000000000002,9.06E-2,0.3296]
[9.2899999999999996E-2,0.3211,8.8099999999999998E-2,0.3281]
[8.9200000000000002E-2,0.31869999999999998,8.5099999999999995E-2,0.32669999999999999]
[8.4900000000000003E-2,0.31680000000000003,8.1799999999999998E-2,0.3256]
[8.0299999999999996E-2,0.31540000000000001,7.8200000000000006E-2,0.32479999999999998]
[7.5499999999999998E-2,0.31469999999999998,7.4399999999999994E-2,0.32429999999999998]
[7.0599999999999996E-2,0.3145,7.0599999999999996E-2,0.3241]
[6.5799999999999997E-2,0.31490000000000001,6.6900000000000001E-2,0.32419999999999999]
[6.1199999999999997E-2,0.316,6.3399999999999998E-2,0.3246]
[5.7000000000000002E-2,0.31759999999999999,6.0199999999999997E-2,0.32540000000000002]
[5.33E-2,0.31979999999999997,5.74E-2,0.32640000000000002]
[5.0200000000000002E-2,0.32240000000000002,5.5E-2,0.32769999999999999]
[4.7800000000000002E-2,0.32529999999999998,5.3199999999999997E-2,0.32919999999999999]
[4.6100000000000002E-2,0.3286,5.21E-2,0.33090000000000003]
[4.53E-2,0.33200000000000002,5.1499999999999997E-2,0.3327]
[4.53E-2,0.33560000000000001,5.16E-2,0.33460000000000001]
[4.6100000000000002E-2,0.33910000000000001,5.2400000000000002E-2,0.33639999999999998]
[4.7800000000000002E-2,0.34250000000000003,5.3800000000000001E-2,0.33829999999999999]
[5.0299999999999997E-2,0.34570000000000001,5.5800000000000002E-2,0.34]
[5.3499999999999999E-2,0.34849999999999998,5.8299999999999998E-2,0.34160000000000001]
[5.7200000000000001E-2,0.35089999999999999,6.13E-2,0.34289999999999998]
[6.1499999999999999E-2,0.3528,6.4600000000000005E-2,0.34399999999999997]
[6.6100000000000006E-2,0.35420000000000001,6.8199999999999997E-2,0.34489999999999998]
[7.0900000000000005E-2,0.35499999999999998,7.1999999999999995E-2,0.34539999999999998]
[7.5800000000000006E-2,0.35510000000000003,7.5800000000000006E-2,0.34560000000000002]
[8.0600000000000005E-2,0.35470000000000002,7.9500000000000001E-2,0.34549999999999997]
[8.5199999999999998E-2,0.35360000000000003,8.3000000000000004E-2,0.34499999999999997]
[8.9399999999999993E-2,0.35199999999999998,8.6199999999999999E-2,0.34429999999999999]
[9.3200000000000005E-2,0.3498,8.9099999999999999E-2,0.34320000000000001]
[9.6299999999999997E-2,0.34720000000000001,9.1399999999999995E-2,0.34189999999999998]
[9.8699999999999996E-2,0.34420000000000001,9.3200000000000005E-2,0.34039999999999998]
[0.1003,0.34089999999999998,9.4399999999999998E-2,0.3387]
[0.1012,0.33739999999999998,9.4899999999999998E-2,0.33689999999999998]
[]
[0.1084,0.3387,0.1024,0.33760000000000001]
[0.1087,0.33550000000000002,0.1024,0.33600000000000002]
[0.1082,0.3322,0.1019,0.33439999999999998]
[0.1069,0.32890000000000003,0.1007,0.33279999999999998]
[0.10489999999999999,0.32590000000000002,9.9000000000000005E-2,0.33119999999999999]
[0.1023,0.32300000000000001,9.69E-2,0.3296]
[9.9000000000000005E-2,0.32050000000000001,9.4299999999999995E-2,0.32819999999999999]
[9.5299999999999996E-2,0.31840000000000002,9.1300000000000006E-2,0.32700000000000001]
[9.11E-2,0.31680000000000003,8.8099999999999998E-2,0.32600000000000001]
[8.6800000000000002E-2,0.31569999999999998,8.4699999999999998E-2,0.32519999999999999]
[8.2299999999999998E-2,0.31509999999999999,8.1299999999999997E-2,0.32469999999999999]
[7.7799999999999994E-2,0.31509999999999999,7.7899999999999997E-2,0.32450000000000001]
[7.3499999999999996E-2,0.31569999999999998,7.4700000000000003E-2,0.32450000000000001]
[6.9500000000000006E-2,0.31680000000000003,7.17E-2,0.32479999999999998]
[6.59E-2,0.31840000000000002,6.9099999999999995E-2,0.32540000000000002]
[6.2799999999999995E-2,0.32050000000000001,6.6900000000000001E-2,0.32629999999999998]
[6.0299999999999999E-2,0.32300000000000001,6.5199999999999994E-2,0.32740000000000002]
[5.8500000000000003E-2,0.32579999999999998,6.4000000000000001E-2,0.32869999999999999]
[5.74E-2,0.32890000000000003,6.3299999999999995E-2,0.3301]
[5.7099999999999998E-2,0.3322,6.3299999999999995E-2,0.33169999999999999]
[5.7599999999999998E-2,0.33539999999999998,6.3899999999999998E-2,0.33329999999999999]
[5.8799999999999998E-2,0.3387,6.5000000000000002E-2,0.33489999999999998]
[6.08E-2,0.34179999999999999,6.6699999999999995E-2,0.33660000000000001]
[6.3500000000000001E-2,0.34460000000000002,6.8900000000000003E-2,0.33810000000000001]
[6.6699999999999995E-2,0.34720000000000001,7.1499999999999994E-2,0.33950000000000002]
[7.0400000000000004E-2,0.3493,7.4399999999999994E-2,0.3407]
[7.46E-2,0.35089999999999999,7.7600000000000002E-2,0.34179999999999999]
[7.8899999999999998E-2,0.35210000000000002,8.1000000000000003E-2,0.34260000000000002]
[8.3400000000000002E-2,0.35260000000000002,8.4400000000000003E-2,0.34310000000000002]
[8.7900000000000006E-2,0.35260000000000002,8.7800000000000003E-2,0.34329999999999999]
[9.2200000000000004E-2,0.35210000000000002,9.0999999999999998E-2,0.34329999999999999]
[9.6299999999999997E-2,0.35089999999999999,9.4E-2,0.34289999999999998]
[9.9900000000000003E-2,0.3493,9.6600000000000005E-2,0.34229999999999999]
[0.10299999999999999,0.34720000000000001,9.8900000000000002E-2,0.34139999999999998]
[0.1055,0.34460000000000002,0.10059999999999999,0.34029999999999999]
[0.10730000000000001,0.34179999999999999,0.1018,0.33900000000000002]
[0.1084,0.3387,0.1024,0.33760000000000001]
[]
[0.1106,0.34079999999999999,0.1056,0.33960000000000001]
[0.111,0.33789999999999998,0.1056,0.3382]
[0.1106,0.33479999999999999,0.1051,0.33679999999999999]
[0.1095,0.33179999999999998,0.10390000000000001,0.3352]
[0.1077,0.32879999999999998,0.1023,0.3337]
[0.1052,0.3261,0.10009999999999999,0.33210000000000001]
[0.1021,0.3236,9.7500000000000003E-2,0.33069999999999999]
[9.8500000000000004E-2,0.32140000000000002,9.4500000000000001E-2,0.32940000000000003]
[9.4500000000000001E-2,0.3196,9.1200000000000003E-2,0.32819999999999999]
[9.0300000000000005E-2,0.31830000000000003,8.7800000000000003E-2,0.32719999999999999]
[8.5900000000000004E-2,0.3175,8.4400000000000003E-2,0.32650000000000001]
[8.1600000000000006E-2,0.31719999999999998,8.09E-2,0.32600000000000001]
[7.7299999999999994E-2,0.31740000000000002,7.7700000000000005E-2,0.32569999999999999]
[7.3300000000000004E-2,0.31809999999999999,7.46E-2,0.32579999999999998]
[6.9699999999999998E-2,0.31940000000000002,7.1900000000000006E-2,0.3261]
[6.6600000000000006E-2,0.3211,6.9699999999999998E-2,0.3266]
[6.4000000000000001E-2,0.32319999999999999,6.7900000000000002E-2,0.32750000000000001]
[6.2100000000000002E-2,0.32569999999999999,6.6600000000000006E-2,0.32850000000000001]
[6.0999999999999999E-2,0.32840000000000003,6.6000000000000003E-2,0.32969999999999999]
[6.0499999999999998E-2,0.33139999999999997,6.59E-2,0.33110000000000001]
[6.0900000000000003E-2,0.33439999999999998,6.6400000000000001E-2,0.33260000000000001]
[6.2E-2,0.33750000000000002,6.7599999999999993E-2,0.33410000000000001]
[6.3799999999999996E-2,0.34050000000000002,6.9199999999999998E-2,0.3357]
[6.6299999999999998E-2,0.34329999999999999,7.1400000000000005E-2,0.33729999999999999]
[6.9400000000000003E-2,0.3458,7.3999999999999996E-2,0.3387]
[7.2999999999999995E-2,0.34799999999999998,7.6999999999999999E-2,0.34010000000000001]
[7.6899999999999996E-2,0.3498,8.0299999999999996E-2,0.3412]
[8.1199999999999994E-2,0.35110000000000002,8.3699999999999997E-2,0.3422]
[8.5599999999999996E-2,0.35189999999999999,8.7099999999999997E-2,0.34300000000000003]
[0.09,0.35220000000000001,9.06E-2,0.34350000000000003]
[9.4200000000000006E-2,0.35199999999999998,9.3899999999999997E-2,0.34370000000000001]
[9.8199999999999996E-2,0.35120000000000001,9.69E-2,0.34360000000000002]
[0.1018,0.35,9.9599999999999994E-2,0.34329999999999999]
[0.105,0.34820000000000001,0.1019,0.3427]
[0.1075,0.34610000000000002,0.1037,0.34189999999999998]
[0.1094,0.34360000000000002,0.10489999999999999,0.34089999999999998]
[0.1106,0.34079999999999999,0.1056,0.33960000000000001]
[]
[0.13469999999999999,0.38600000000000001,0.13189999999999999,0.3831]
[0.13769999999999999,0.3826,0.1341,0.38059999999999999]
[0.13980000000000001,0.37840000000000001,0.13539999999999999,0.37730000000000002]
[0.1409,0.37369999999999998,0.13589999999999999,0.3735]
[0.1411,0.36840000000000001,0.1356,0.36919999999999997]
[0.14019999999999999,0.3629,0.13450000000000001,0.36459999999999998]
[0.1384,0.35720000000000002,0.1326,0.35980000000000001]
[0.13569999999999999,0.35149999999999998,0.12989999999999999,0.35489999999999999]
[0.13220000000000001,0.34599999999999997,0.12659999999999999,0.35010000000000002]
[0.12790000000000001,0.34079999999999999,0.12280000000000001,0.34549999999999997]
[0.1231,0.3362,0.11849999999999999,0.34129999999999999]
[0.1178,0.3322,0.1139,0.33760000000000001]
[0.1123,0.32900000000000001,0.10920000000000001,0.33450000000000002]
[0.1066,0.32669999999999999,0.1045,0.3322]
[0.1011,0.32529999999999998,9.9900000000000003E-2,0.3306]
[9.5699999999999993E-2,0.32490000000000002,9.5500000000000002E-2,0.32979999999999998]
[9.0700000000000003E-2,0.32550000000000001,9.1600000000000001E-2,0.32990000000000003]
[8.6300000000000002E-2,0.3271,8.8099999999999998E-2,0.33079999999999998]
[8.2500000000000004E-2,0.3296,8.5300000000000001E-2,0.33260000000000001]
[7.9600000000000004E-2,0.33300000000000002,8.3199999999999996E-2,0.33510000000000001]
[7.7499999999999999E-2,0.33710000000000001,8.1900000000000001E-2,0.33829999999999999]
[7.6300000000000007E-2,0.34179999999999999,8.1299999999999997E-2,0.3422]
[7.6200000000000004E-2,0.34710000000000002,8.1600000000000006E-2,0.34649999999999997]
[7.6999999999999999E-2,0.35270000000000001,8.2799999999999999E-2,0.35110000000000002]
[7.8700000000000006E-2,0.3584,8.4699999999999998E-2,0.35599999999999998]
[8.14E-2,0.36409999999999998,8.7300000000000003E-2,0.3609]
[8.4900000000000003E-2,0.36959999999999998,9.06E-2,0.36570000000000003]
[8.9200000000000002E-2,0.37480000000000002,9.4399999999999998E-2,0.37030000000000002]
[9.4E-2,0.3795,9.8599999999999993E-2,0.3745]
[9.9199999999999997E-2,0.38340000000000002,0.1032,0.37819999999999998]
[0.1048,0.38669999999999999,0.1079,0.38129999999999997]
[0.1105,0.38900000000000001,0.11269999999999999,0.3836]
[0.11609999999999999,0.39040000000000002,0.1173,0.38519999999999999]
[0.1215,0.39069999999999999,0.1217,0.38600000000000001]
[0.1265,0.3901,0.12570000000000001,0.38590000000000002]
[0.13089999999999999,0.38850000000000001,0.12909999999999999,0.38490000000000002]
[0.13469999999999999,0.38600000000000001,0.13189999999999999,0.3831]
[]
[0.15060000000000001,0.4269,0.14810000000000001,0.42130000000000001]
[0.15559999999999999,0.42409999999999998,0.15140000000000001,0.41930000000000001]
[0.1598,0.42009999999999997,0.15409999999999999,0.4163]
[0.16320000000000001,0.41510000000000002,0.15620000000000001,0.41239999999999999]
[0.16569999999999999,0.40920000000000001,0.15759999999999999,0.40770000000000001]
[0.1671,0.4027,0.15820000000000001,0.40229999999999999]
[0.1676,0.39560000000000001,0.158,0.39639999999999997]
[0.16700000000000001,0.38819999999999999,0.15709999999999999,0.39029999999999998]
[0.1653,0.38080000000000003,0.1555,0.38400000000000001]
[0.16270000000000001,0.3735,0.15310000000000001,0.37780000000000002]
[0.15920000000000001,0.36670000000000003,0.1502,0.37190000000000001]
[0.15479999999999999,0.3604,0.1467,0.36630000000000001]
[0.14990000000000001,0.35489999999999999,0.14280000000000001,0.3614]
[0.1444,0.3503,0.13869999999999999,0.35730000000000001]
[0.13850000000000001,0.34689999999999999,0.1343,0.35399999999999998]
[0.1326,0.34460000000000002,0.13,0.35170000000000001]
[0.12659999999999999,0.34360000000000002,0.12570000000000001,0.35049999999999998]
[0.1208,0.34389999999999998,0.1216,0.3503]
[0.1154,0.34539999999999998,0.1179,0.3513]
[0.1105,0.34820000000000001,0.1147,0.3533]
[0.10639999999999999,0.35220000000000001,0.112,0.35630000000000001]
[0.10299999999999999,0.35720000000000002,0.11,0.36020000000000002]
[0.10050000000000001,0.36299999999999999,0.1086,0.3649]
[9.9000000000000005E-2,0.36959999999999998,0.108,0.37030000000000002]
[9.8500000000000004E-2,0.37669999999999998,0.1081,0.37609999999999999]
[9.9099999999999994E-2,0.3841,0.109,0.38229999999999997]
[0.1007,0.39150000000000001,0.1106,0.3886]
[0.1033,0.39879999999999999,0.1129,0.39479999999999998]
[0.10680000000000001,0.40570000000000001,0.1159,0.40079999999999999]
[0.1111,0.41199999999999998,0.1193,0.40629999999999999]
[0.11600000000000001,0.41749999999999998,0.1232,0.41120000000000001]
[0.1215,0.42209999999999998,0.1273,0.41539999999999999]
[0.1273,0.42549999999999999,0.13170000000000001,0.41860000000000003]
[0.13339999999999999,0.42780000000000001,0.13600000000000001,0.4209]
[0.1394,0.42880000000000001,0.14030000000000001,0.42220000000000002]
[0.1452,0.42849999999999999,0.1444,0.42230000000000001]
[0.15060000000000001,0.4269,0.14810000000000001,0.42130000000000001]
[]
[0.15229999999999999,0.39290000000000003,0.15060000000000001,0.40400000000000003]
[0.1477,0.39290000000000003,0.14899999999999999,0.4042]
[0.14319999999999999,0.39379999999999998,0.1474,0.40489999999999998]
[0.13880000000000001,0.39550000000000002,0.14580000000000001,0.40610000000000002]
[0.13469999999999999,0.39810000000000001,0.14430000000000001,0.40789999999999998]
[0.13100000000000001,0.40139999999999998,0.1429,0.41010000000000002]
[0.1278,0.40539999999999998,0.1416,0.41270000000000001]
[0.12509999999999999,0.41,0.14050000000000001,0.41570000000000001]
[0.1232,0.41489999999999999,0.1396,0.41880000000000001]
[0.122,0.42009999999999997,0.13900000000000001,0.42209999999999998]
[0.1215,0.42530000000000001,0.1386,0.4254]
[0.12189999999999999,0.43049999999999999,0.13850000000000001,0.42870000000000003]
[0.123,0.4355,0.1386,0.43180000000000002]
[0.1249,0.44009999999999999,0.1391,0.43459999999999999]
[0.1275,0.44409999999999999,0.13980000000000001,0.43709999999999999]
[0.13070000000000001,0.4476,0.14069999999999999,0.43909999999999999]
[0.13439999999999999,0.45029999999999998,0.1419,0.44069999999999998]
[0.13850000000000001,0.4521,0.14319999999999999,0.44169999999999998]
[0.1429,0.4531,0.1447,0.44209999999999999]
[0.14749999999999999,0.4531,0.1462,0.442]
[0.152,0.45229999999999998,0.14779999999999999,0.44130000000000003]
[0.15640000000000001,0.45050000000000001,0.14940000000000001,0.44009999999999999]
[0.16059999999999999,0.44790000000000002,0.151,0.43830000000000002]
[0.16439999999999999,0.4446,0.15240000000000001,0.43609999999999999]
[0.1676,0.44059999999999999,0.1537,0.4335]
[0.17019999999999999,0.436,0.15479999999999999,0.43049999999999999]
[0.17219999999999999,0.43109999999999998,0.15570000000000001,0.4274]
[0.1734,0.4259,0.15640000000000001,0.42409999999999998]
[0.17380000000000001,0.42059999999999997,0.15670000000000001,0.42080000000000001]
[0.1734,0.41539999999999999,0.15679999999999999,0.41749999999999998]
[0.17219999999999999,0.41039999999999999,0.15670000000000001,0.41439999999999999]
[0.17030000000000001,0.40579999999999999,0.15620000000000001,0.41160000000000002]
[0.16769999999999999,0.40179999999999999,0.1555,0.40910000000000002]
[0.16450000000000001,0.39839999999999998,0.1545,0.40710000000000002]
[0.1608,0.3957,0.15340000000000001,0.40550000000000003]
[0.15659999999999999,0.39389999999999997,0.152,0.40450000000000003]
[0.15229999999999999,0.39290000000000003,0.15060000000000001,0.40400000000000003]
[]
[0.1479,0.39939999999999998,0.14860000000000001,0.40960000000000002]
[0.14369999999999999,0.40029999999999999,0.1469,0.41]
[0.1396,0.40189999999999998,0.1452,0.41089999999999999]
[0.13589999999999999,0.40429999999999999,0.14369999999999999,0.41239999999999999]
[0.13250000000000001,0.40739999999999998,0.1424,0.4143]
[0.12970000000000001,0.41110000000000002,0.14119999999999999,0.41670000000000001]
[0.1275,0.4153,0.1404,0.41930000000000001]
[0.12590000000000001,0.4199,0.13980000000000001,0.42220000000000002]
[0.12509999999999999,0.42470000000000002,0.13950000000000001,0.42530000000000001]
[0.125,0.42959999999999998,0.1396,0.4284]
[0.12570000000000001,0.4345,0.1399,0.43149999999999999]
[0.12709999999999999,0.43909999999999999,0.1406,0.4345]
[0.12920000000000001,0.44340000000000002,0.14149999999999999,0.43730000000000002]
[0.13189999999999999,0.44719999999999999,0.14269999999999999,0.43980000000000002]
[0.1351,0.45040000000000002,0.14399999999999999,0.44190000000000002]
[0.13880000000000001,0.45290000000000002,0.14560000000000001,0.44359999999999999]
[0.1429,0.4546,0.14729999999999999,0.44469999999999998]
[0.14710000000000001,0.45550000000000002,0.14899999999999999,0.44540000000000002]
[0.1515,0.45550000000000002,0.15079999999999999,0.44550000000000001]
[0.15570000000000001,0.45469999999999999,0.15260000000000001,0.4451]
[0.1598,0.4531,0.1542,0.44409999999999999]
[0.1636,0.45069999999999999,0.15579999999999999,0.44269999999999998]
[0.16700000000000001,0.44750000000000001,0.15709999999999999,0.44069999999999998]
[0.16980000000000001,0.44379999999999997,0.15820000000000001,0.43840000000000001]
[0.17199999999999999,0.43959999999999999,0.15909999999999999,0.43580000000000002]
[0.1736,0.435,0.15970000000000001,0.43280000000000002]
[0.1744,0.43009999999999998,0.15989999999999999,0.42980000000000002]
[0.1744,0.42520000000000002,0.15989999999999999,0.42659999999999998]
[0.17369999999999999,0.4204,0.1595,0.42349999999999999]
[0.17230000000000001,0.4158,0.15890000000000001,0.42049999999999998]
[0.17019999999999999,0.41149999999999998,0.15790000000000001,0.4178]
[0.16750000000000001,0.40770000000000001,0.15679999999999999,0.4153]
[0.16420000000000001,0.40460000000000002,0.15540000000000001,0.41320000000000001]
[0.1605,0.40210000000000001,0.15379999999999999,0.41149999999999998]
[0.1565,0.40039999999999998,0.15210000000000001,0.4103]
[0.1522,0.39950000000000002,0.15040000000000001,0.40970000000000001]
[0.1479,0.39939999999999998,0.14860000000000001,0.40960000000000002]

{"sheet":"TableS4","index":7,"n_rows":85,"n_cols":3,"rows_kept":85,"cut":false,"hidden":false,"merged":[[0,0,0,2]]}
["DSV PEPI2020 by 25 years"]
["Date","Xtrac","Ytrac"]
[-100,-2.1000000000000001E-2,0.39700000000000002]
[-75,-2.1999999999999999E-2,0.39600000000000002]
[-50,-2.4E-2,0.39500000000000002]
[-25,-2.1000000000000001E-2,0.40200000000000002]
[0,-1.7999999999999999E-2,0.41199999999999998]
[25,-1.7000000000000001E-2,0.42399999999999999]
[50,-2.1000000000000001E-2,0.44400000000000001]
[75,-2.3E-2,0.46899999999999997]
[100,-2.1999999999999999E-2,0.47599999999999998]
[125,-1.7000000000000001E-2,0.48399999999999999]
[150,-1.0999999999999999E-2,0.496]
[175,-1.9E-2,0.50900000000000001]
[200,-2.1000000000000001E-2,0.50800000000000001]
[225,-2.3E-2,0.50700000000000001]
[250,-2.4E-2,0.50800000000000001]
[275,-2.4E-2,0.50900000000000001]
[300,-2.1999999999999999E-2,0.50800000000000001]
[325,-1.9E-2,0.503]
[350,-1.7000000000000001E-2,0.49099999999999999]
[375,-1.7000000000000001E-2,0.48199999999999998]
[400,-1.7000000000000001E-2,0.47699999999999998]
[425,-0.01,0.45700000000000002]
[450,-1E-3,0.433]
[475,7.0000000000000001E-3,0.41599999999999998]
[500,1.4E-2,0.40200000000000002]
[525,0.02,0.39200000000000002]
[550,2.4E-2,0.378]
[575,2.7E-2,0.36199999999999999]
[600,2.7E-2,0.35499999999999998]
[625,2.1999999999999999E-2,0.35199999999999998]
[650,1.2999999999999999E-2,0.35099999999999998]
[675,7.0000000000000001E-3,0.35099999999999998]
[700,1.4999999999999999E-2,0.34300000000000003]
[725,3.1E-2,0.33200000000000002]
[750,3.5999999999999997E-2,0.33500000000000002]
[775,4.4999999999999998E-2,0.33800000000000002]
[800,5.7000000000000002E-2,0.33800000000000002]
[825,7.2999999999999995E-2,0.33500000000000002]
[850,8.3000000000000004E-2,0.33400000000000002]
[875,8.6999999999999994E-2,0.33600000000000002]
[900,0.109,0.35799999999999998]
[925,0.13200000000000001,0.38600000000000001]
[950,0.14399999999999999,0.41299999999999998]
[975,0.14799999999999999,0.42499999999999999]
[1000,0.15,0.42899999999999999]
[1025,0.152,0.438]
[1050,0.155,0.44600000000000001]
[1075,0.158,0.45300000000000001]
[1100,0.157,0.46400000000000002]
[1125,0.153,0.47399999999999998]
[1150,0.14799999999999999,0.48499999999999999]
[1175,0.14000000000000001,0.499]
[1200,0.13100000000000001,0.51500000000000001]
[1225,0.122,0.53]
[1250,0.114,0.54300000000000004]
[1275,0.112,0.55700000000000005]
[1300,0.09,0.56599999999999995]
[1325,7.8E-2,0.57699999999999996]
[1350,6.7000000000000004E-2,0.58799999999999997]
[1375,5.6000000000000001E-2,0.58899999999999997]
[1400,4.8000000000000001E-2,0.58099999999999996]
[1425,5.1999999999999998E-2,0.55300000000000005]
[1450,5.6000000000000001E-2,0.52400000000000002]
[1475,6.2E-2,0.47799999999999998]
[1500,6.7000000000000004E-2,0.436]
[1525,6.8000000000000005E-2,0.41499999999999998]
[1550,6.7000000000000004E-2,0.40200000000000002]
[1575,6.3E-2,0.39600000000000002]
[1600,4.3999999999999997E-2,0.35]
[1625,2.4E-2,0.33300000000000002]
[1650,3.0000000000000001E-3,0.32400000000000001]
[1675,-1.9E-2,0.312]
[1700,-4.8000000000000001E-2,0.30099999999999999]
[1725,-6.3E-2,0.29499999999999998]
[1750,-0.09,0.30199999999999999]
[1775,-0.109,0.314]
[1800,-0.13,0.33200000000000002]
[1825,-0.13900000000000001,0.35199999999999998]
[1850,-0.13800000000000001,0.376]
[1875,-0.127,0.40200000000000002]
[1900,-0.111,0.41899999999999998]
[1925,-8.8999999999999996E-2,0.42899999999999999]
[1950,-6.0999999999999999E-2,0.434]

{"sheet":"Diag5_bis","index":8,"n_rows":382,"n_cols":19,"rows_kept":382,"cut":false,"hidden":false,"merged":[[0,0,0,8]]}
["Il suffit de copier le diagramme et d'ajuster les échelles x et y"]
[]
[]
["D","I","XD5_0","YD5_0","XD5_5","YD5_5",null,null,null,null,"D","I",null,null,null,"D","I"]
[null,null,null,null,null,null,null,null,null,null,null,null,"XI5_0","YI5_0",null,null,null,"XI5_5","YI5_5"]
[null,null,null,null,null,null,null,null,null,null,-40,0,-0.90900000000000003,1.0833999999999999,null,-40,5,-0.86850000000000005,1.0350999999999999]
[null,null,null,null,null,null,null,null,null,null,-38,0,-0.87070000000000003,1.1144000000000001,null,-38,5,-0.83189999999999997,1.0647]
[-40,0,-0.90900000000000003,1.0833999999999999,null,null,null,null,null,null,-36,0,-0.83130000000000004,1.1440999999999999,null,-36,5,-0.79420000000000002,1.0931]
[-40,90,0,0,null,null,null,null,null,null,-34,0,-0.79079999999999995,1.1724000000000001,null,-34,5,-0.75560000000000005,1.1202000000000001]
[null,null,null,null,null,null,null,null,null,null,-32,0,-0.74939999999999996,1.1993,null,-32,5,-0.71599999999999997,1.1458999999999999]
[-35,0,null,null,-0.81120000000000003,1.1585000000000001,null,null,null,null,-30,0,-0.70709999999999995,1.2246999999999999,null,-30,5,-0.67559999999999998,1.1701999999999999]
[-35,90,null,null,0,0,null,null,null,null,-28,0,-0.66390000000000005,1.2486999999999999,null,-28,5,-0.63429999999999997,1.1930000000000001]
[null,null,null,null,null,null,null,null,null,null,-26,0,-0.62,1.2710999999999999,null,-26,5,-0.59230000000000005,1.2143999999999999]
[-30,0,-0.70709999999999995,1.2246999999999999,null,null,null,null,null,null,-24,0,-0.57520000000000004,1.2919,null,-24,5,-0.54959999999999998,1.2343999999999999]
[-30,90,0,0,null,null,null,null,null,null,-22,0,-0.52980000000000005,1.3111999999999999,null,-22,5,-0.50619999999999998,1.2527999999999999]
[null,null,null,null,null,null,null,null,null,null,-20,0,-0.48370000000000002,1.3289,null,-20,5,-0.46210000000000001,1.2697000000000001]
[-25,0,null,null,-0.59770000000000001,1.2817000000000001,null,null,null,null,-18,0,-0.437,1.345,null,-18,5,-0.41749999999999998,1.2849999999999999]
[-25,90,null,null,0,0,null,null,null,null,-16,0,-0.38979999999999998,1.3593999999999999,null,-16,5,-0.37240000000000001,1.2988]
[null,null,null,null,null,null,null,null,null,null,-14,0,-0.34210000000000002,1.3722000000000001,null,-14,5,-0.32690000000000002,1.3109999999999999]
[-20,0,-0.48370000000000002,1.3289,null,null,null,null,null,null,-12,0,-0.29399999999999998,1.3833,null,-12,5,-0.28089999999999998,1.3217000000000001]
[-20,90,0,0,null,null,null,null,null,null,-10,0,-0.24560000000000001,1.3927,null,-10,5,-0.2346,1.3307]
[null,null,null,null,null,null,null,null,null,null,-8,0,-0.1968,1.4005000000000001,null,-8,5,-0.188,1.3380000000000001]
[-15,0,null,null,-0.36599999999999999,1.3660000000000001,null,null,null,null,-6,0,-0.14779999999999999,1.4065000000000001,null,-6,5,-0.14119999999999999,1.3438000000000001]
[-15,90,null,null,0,0,null,null,null,null,-4,0,-9.8699999999999996E-2,1.4108000000000001,null,-4,5,-9.4299999999999995E-2,1.3479000000000001]
[null,null,null,null,null,null,null,null,null,null,-2,0,-4.9399999999999999E-2,1.4134,null,-2,5,-4.7199999999999999E-2,1.3504]
[-10,0,-0.24560000000000001,1.3927,null,null,null,null,null,null,0,0,0,1.4141999999999999,null,0,5,0,1.3512]
[-10,90,0,0,null,null,null,null,null,null,2,0,4.9399999999999999E-2,1.4134,null,2,5,4.7199999999999999E-2,1.3504]
[null,null,null,null,null,null,null,null,null,null,4,0,9.8699999999999996E-2,1.4108000000000001,null,4,5,9.4299999999999995E-2,1.3479000000000001]
[-5,0,null,null,-0.12330000000000001,1.4088000000000001,null,null,null,null,6,0,0.14779999999999999,1.4065000000000001,null,6,5,0.14119999999999999,1.3438000000000001]
[-5,90,null,null,0,0,null,null,null,null,8,0,0.1968,1.4005000000000001,null,8,5,0.188,1.3380000000000001]
[null,null,null,null,null,null,null,null,null,null,10,0,0.24560000000000001,1.3927,null,10,5,0.2346,1.3307]
[0,0,0,1.4141999999999999,null,null,null,null,null,null,12,0,0.29399999999999998,1.3833,null,12,5,0.28089999999999998,1.3217000000000001]
[0,90,0,0,null,null,null,null,null,null,14,0,0.34210000000000002,1.3722000000000001,null,14,5,0.32690000000000002,1.3109999999999999]
[null,null,null,null,null,null,null,null,null,null,16,0,0.38979999999999998,1.3593999999999999,null,16,5,0.37240000000000001,1.2988]
[5,0,null,null,0.12330000000000001,1.4088000000000001,null,null,null,null,18,0,0.437,1.345,null,18,5,0.41749999999999998,1.2849999999999999]
[5,90,null,null,0,0,null,null,null,null,20,0,0.48370000000000002,1.3289,null,20,5,0.46210000000000001,1.2697000000000001]
[null,null,null,null,null,null,null,null,null,null,22,0,0.52980000000000005,1.3111999999999999,null,22,5,0.50619999999999998,1.2527999999999999]
[10,0,0.24560000000000001,1.3927,null,null,null,null,null,null,24,0,0.57520000000000004,1.2919,null,24,5,0.54959999999999998,1.2343999999999999]
[10,90,0,0,null,null,null,null,null,null,26,0,0.62,1.2710999999999999,null,26,5,0.59230000000000005,1.2143999999999999]
[null,null,null,null,null,null,null,null,null,null,28,0,0.66390000000000005,1.2486999999999999,null,28,5,0.63429999999999997,1.1930000000000001]
[15,0,null,null,0.36599999999999999,1.3660000000000001,null,null,null,null,30,0,0.70709999999999995,1.2246999999999999,null,30,5,0.67559999999999998,1.1701999999999999]
[15,90,null,null,0,0,null,null,null,null,32,0,0.74939999999999996,1.1993,null,32,5,0.71599999999999997,1.1458999999999999]
[null,null,null,null,null,null,null,null,null,null,34,0,0.79079999999999995,1.1724000000000001,null,34,5,0.75560000000000005,1.1202000000000001]
[20,0,0.48370000000000002,1.3289,null,null,null,null,null,null,36,0,0.83130000000000004,1.1440999999999999,null,36,5,0.79420000000000002,1.0931]
[20,90,0,0,null,null,null,null,null,null,38,0,0.87070000000000003,1.1144000000000001,null,38,5,0.83189999999999997,1.0647]
[null,null,null,null,null,null,null,null,null,null,40,0,0.90900000000000003,1.0833999999999999,null,40,5,0.86850000000000005,1.0350999999999999]
[25,0,null,null,0.59770000000000001,1.2817000000000001]
[25,90,null,null,0,0,null,null,null,null,-40,10,-0.82640000000000002,0.98480000000000001,null,-40,15,-0.78259999999999996,0.93269999999999997]
[null,null,null,null,null,null,null,null,null,null,-38,10,-0.79149999999999998,1.0129999999999999,null,-38,15,-0.74960000000000004,0.95940000000000003]
[30,0,0.70709999999999995,1.2246999999999999,null,null,null,null,null,null,-36,10,-0.75560000000000005,1.0401,null,-36,15,-0.71560000000000001,0.98499999999999999]
[30,90,0,0,null,null,null,null,null,null,-34,10,-0.71889999999999998,1.0658000000000001,null,-34,15,-0.68079999999999996,1.0094000000000001]
[null,null,null,null,null,null,null,null,null,null,-32,10,-0.68130000000000002,1.0902000000000001,null,-32,15,-0.6452,1.0325]
[35,0,null,null,0.81120000000000003,1.1585000000000001,null,null,null,null,-30,10,-0.64280000000000004,1.1133,null,-30,15,-0.60880000000000001,1.0544]
[35,90,null,null,0,0,null,null,null,null,-28,10,-0.60350000000000004,1.1351,null,-28,15,-0.5716,1.075]
[null,null,null,null,null,null,null,null,null,null,-26,10,-0.56359999999999999,1.1555,null,-26,15,-0.53369999999999995,1.0943000000000001]
[null,null,0.90900000000000003,1.0833999999999999,null,null,null,null,null,null,-24,10,-0.52290000000000003,1.1744000000000001,null,-24,15,-0.49519999999999997,1.1123000000000001]
[null,null,0,0,null,null,null,null,null,null,-22,10,-0.48159999999999997,1.1919999999999999,null,-22,15,-0.45610000000000001,1.1289]
[null,null,null,null,null,null,null,null,null,null,-20,10,-0.43969999999999998,1.208,null,-20,15,-0.41639999999999999,1.1440999999999999]
[null,null,null,null,null,null,null,null,null,null,-18,10,-0.39729999999999999,1.2226999999999999,null,-18,15,-0.37619999999999998,1.1578999999999999]
[null,null,null,null,null,null,null,null,null,null,-16,10,-0.35439999999999999,1.2358,null,-16,15,-0.33560000000000001,1.1704000000000001]
[null,null,null,null,null,null,null,null,null,null,-14,10,-0.311,1.2474000000000001,null,-14,15,-0.29449999999999998,1.1814]
[null,null,null,null,null,null,null,null,null,null,-12,10,-0.26729999999999998,1.2575000000000001,null,-12,15,-0.25309999999999999,1.1909000000000001]
[null,null,null,null,null,null,null,null,null,null,-10,10,-0.22320000000000001,1.266,null,-10,15,-0.2114,1.1990000000000001]
[null,null,null,null,null,null,null,null,null,null,-8,10,-0.1789,1.2730999999999999,null,-8,15,-0.1694,1.2057]
[null,null,null,null,null,null,null,null,null,null,-6,10,-0.13439999999999999,1.2785,null,-6,15,-0.1273,1.2109000000000001]
[null,null,null,null,null,null,null,null,null,null,-4,10,-8.9700000000000002E-2,1.2824,null,-4,15,-8.4900000000000003E-2,1.2145999999999999]
[null,null,null,null,null,null,null,null,null,null,-2,10,-4.4900000000000002E-2,1.2847999999999999,null,-2,15,-4.2500000000000003E-2,1.2168000000000001]
[null,null,null,null,null,null,null,null,null,null,0,10,0,1.2856000000000001,null,0,15,0,1.2175]
[null,null,null,null,null,null,null,null,null,null,2,10,4.4900000000000002E-2,1.2847999999999999,null,2,15,4.2500000000000003E-2,1.2168000000000001]
[null,null,null,null,null,null,null,null,null,null,4,10,8.9700000000000002E-2,1.2824,null,4,15,8.4900000000000003E-2,1.2145999999999999]
[null,null,null,null,null,null,null,null,null,null,6,10,0.13439999999999999,1.2785,null,6,15,0.1273,1.2109000000000001]
[null,null,null,null,null,null,null,null,null,null,8,10,0.1789,1.2730999999999999,null,8,15,0.1694,1.2057]
[null,null,null,null,null,null,null,null,null,null,10,10,0.22320000000000001,1.266,null,10,15,0.2114,1.1990000000000001]
[null,null,null,null,null,null,null,null,null,null,12,10,0.26729999999999998,1.2575000000000001,null,12,15,0.25309999999999999,1.1909000000000001]
[null,null,null,null,null,null,null,null,null,null,14,10,0.311,1.2474000000000001,null,14,15,0.29449999999999998,1.1814]
[null,null,null,null,null,null,null,null,null,null,16,10,0.35439999999999999,1.2358,null,16,15,0.33560000000000001,1.1704000000000001]
[null,null,null,null,null,null,null,null,null,null,18,10,0.39729999999999999,1.2226999999999999,null,18,15,0.37619999999999998,1.1578999999999999]
[null,null,null,null,null,null,null,null,null,null,20,10,0.43969999999999998,1.208,null,20,15,0.41639999999999999,1.1440999999999999]
[null,null,null,null,null,null,null,null,null,null,22,10,0.48159999999999997,1.1919999999999999,null,22,15,0.45610000000000001,1.1289]
[null,null,null,null,null,null,null,null,null,null,24,10,0.52290000000000003,1.1744000000000001,null,24,15,0.49519999999999997,1.1123000000000001]
[null,null,null,null,null,null,null,null,null,null,26,10,0.56359999999999999,1.1555,null,26,15,0.53369999999999995,1.0943000000000001]
[null,null,null,null,null,null,null,null,null,null,28,10,0.60350000000000004,1.1351,null,28,15,0.5716,1.075]
[null,null,null,null,null,null,null,null,null,null,30,10,0.64280000000000004,1.1133,null,30,15,0.60880000000000001,1.0544]
[null,null,null,null,null,null,null,null,null,null,32,10,0.68130000000000002,1.0902000000000001,null,32,15,0.6452,1.0325]
[null,null,null,null,null,null,null,null,null,null,34,10,0.71889999999999998,1.0658000000000001,null,34,15,0.68079999999999996,1.0094000000000001]
[null,null,null,null,null,null,null,null,null,null,36,10,0.75560000000000005,1.0401,null,36,15,0.71560000000000001,0.98499999999999999]
[null,null,null,null,null,null,null,null,null,null,38,10,0.79149999999999998,1.0129999999999999,null,38,15,0.74960000000000004,0.95940000000000003]
[null,null,null,null,null,null,null,null,null,null,40,10,0.82640000000000002,0.98480000000000001,null,40,15,0.78259999999999996,0.93269999999999997]
[]
[null,null,null,null,null,null,null,null,null,null,-40,20,-0.73740000000000006,0.87880000000000003,null,-40,25,-0.69069999999999998,0.82320000000000004]
[null,null,null,null,null,null,null,null,null,null,-38,20,-0.70630000000000004,0.90400000000000003,null,-38,25,-0.66159999999999997,0.8468]
[null,null,null,null,null,null,null,null,null,null,-36,20,-0.67430000000000001,0.92810000000000004,null,-36,25,-0.63160000000000005,0.86939999999999995]
[null,null,null,null,null,null,null,null,null,null,-34,20,-0.64149999999999996,0.95099999999999996,null,-34,25,-0.60089999999999999,0.89090000000000003]
[null,null,null,null,null,null,null,null,null,null,-32,20,-0.6079,0.9728,null,-32,25,-0.56950000000000001,0.9113]
[null,null,null,null,null,null,null,null,null,null,-30,20,-0.5736,0.99350000000000005,null,-30,25,-0.5373,0.93059999999999998]
[null,null,null,null,null,null,null,null,null,null,-28,20,-0.53859999999999997,1.0128999999999999,null,-28,25,-0.50449999999999995,0.94879999999999998]
[null,null,null,null,null,null,null,null,null,null,-26,20,-0.50290000000000001,1.0310999999999999,null,-26,25,-0.47110000000000002,0.96579999999999999]
[null,null,null,null,null,null,null,null,null,null,-24,20,-0.46660000000000001,1.048,null,-24,25,-0.43709999999999999,0.98170000000000002]
[null,null,null,null,null,null,null,null,null,null,-22,20,-0.42970000000000003,1.0636000000000001,null,-22,25,-0.40260000000000001,0.99639999999999995]
[null,null,null,null,null,null,null,null,null,null,-20,20,-0.39229999999999998,1.0780000000000001,null,-20,25,-0.36749999999999999,1.0098]
[null,null,null,null,null,null,null,null,null,null,-18,20,-0.35449999999999998,1.091,null,-18,25,-0.33210000000000001,1.022]
[null,null,null,null,null,null,null,null,null,null,-16,20,-0.31619999999999998,1.1027,null,-16,25,-0.29620000000000002,1.0329999999999999]
[null,null,null,null,null,null,null,null,null,null,-14,20,-0.27750000000000002,1.1131,null,-14,25,-0.26,1.0427]
[null,null,null,null,null,null,null,null,null,null,-12,20,-0.23849999999999999,1.1221000000000001,null,-12,25,-0.22339999999999999,1.0510999999999999]
[null,null,null,null,null,null,null,null,null,null,-10,20,-0.19919999999999999,1.1296999999999999,null,-10,25,-0.18659999999999999,1.0583]
[null,null,null,null,null,null,null,null,null,null,-8,20,-0.15970000000000001,1.1359999999999999,null,-8,25,-0.14960000000000001,1.0641]
[null,null,null,null,null,null,null,null,null,null,-6,20,-0.11990000000000001,1.1409,null,-6,25,-0.1123,1.0687]
[null,null,null,null,null,null,null,null,null,null,-4,20,-0.08,1.1444000000000001,null,-4,25,-7.4999999999999997E-2,1.0720000000000001]
[null,null,null,null,null,null,null,null,null,null,-2,20,-0.04,1.1465000000000001,null,-2,25,-3.7499999999999999E-2,1.0739000000000001]
[null,null,null,null,null,null,null,null,null,null,0,20,0,1.1472,null,0,25,0,1.0746]
[null,null,null,null,null,null,null,null,null,null,2,20,0.04,1.1465000000000001,null,2,25,3.7499999999999999E-2,1.0739000000000001]
[null,null,null,null,null,null,null,null,null,null,4,20,0.08,1.1444000000000001,null,4,25,7.4999999999999997E-2,1.0720000000000001]
[null,null,null,null,null,null,null,null,null,null,6,20,0.11990000000000001,1.1409,null,6,25,0.1123,1.0687]
[null,null,null,null,null,null,null,null,null,null,8,20,0.15970000000000001,1.1359999999999999,null,8,25,0.14960000000000001,1.0641]
[null,null,null,null,null,null,null,null,null,null,10,20,0.19919999999999999,1.1296999999999999,null,10,25,0.18659999999999999,1.0583]
[null,null,null,null,null,null,null,null,null,null,12,20,0.23849999999999999,1.1221000000000001,null,12,25,0.22339999999999999,1.0510999999999999]
[null,null,null,null,null,null,null,null,null,null,14,20,0.27750000000000002,1.1131,null,14,25,0.26,1.0427]
[null,null,null,null,null,null,null,null,null,null,16,20,0.31619999999999998,1.1027,null,16,25,0.29620000000000002,1.0329999999999999]
[null,null,null,null,null,null,null,null,null,null,18,20,0.35449999999999998,1.091,null,18,25,0.33210000000000001,1.022]
[null,null,null,null,null,null,null,null,null,null,20,20,0.39229999999999998,1.0780000000000001,null,20,25,0.36749999999999999,1.0098]
[null,null,null,null,null,null,null,null,null,null,22,20,0.42970000000000003,1.0636000000000001,null,22,25,0.40260000000000001,0.99639999999999995]
[null,null,null,null,null,null,null,null,null,null,24,20,0.46660000000000001,1.048,null,24,25,0.43709999999999999,0.98170000000000002]
[null,null,null,null,null,null,null,null,null,null,26,20,0.50290000000000001,1.0310999999999999,null,26,25,0.47110000000000002,0.96579999999999999]
[null,null,null,null,null,null,null,null,null,null,28,20,0.53859999999999997,1.0128999999999999,null,28,25,0.50449999999999995,0.94879999999999998]
[null,null,null,null,null,null,null,null,null,null,30,20,0.5736,0.99350000000000005,null,30,25,0.5373,0.93059999999999998]
[null,null,null,null,null,null,null,null,null,null,32,20,0.6079,0.9728,null,32,25,0.56950000000000001,0.9113]
[null,null,null,null,null,null,null,null,null,null,34,20,0.64149999999999996,0.95099999999999996,null,34,25,0.60089999999999999,0.89090000000000003]
[null,null,null,null,null,null,null,null,null,null,36,20,0.67430000000000001,0.92810000000000004,null,36,25,0.63160000000000005,0.86939999999999995]
[null,null,null,null,null,null,null,null,null,null,38,20,0.70630000000000004,0.90400000000000003,null,38,25,0.66159999999999997,0.8468]
[null,null,null,null,null,null,null,null,null,null,40,20,0.73740000000000006,0.87880000000000003,null,40,25,0.69069999999999998,0.82320000000000004]
[]
[null,null,null,null,null,null,null,null,null,null,-40,30,-0.64280000000000004,0.76600000000000001,null,-40,35,-0.59360000000000002,0.70740000000000003]
[null,null,null,null,null,null,null,null,null,null,-38,30,-0.61570000000000003,0.78800000000000003,null,-38,35,-0.56859999999999999,0.72770000000000001]
[null,null,null,null,null,null,null,null,null,null,-36,30,-0.58779999999999999,0.80900000000000005,null,-36,35,-0.54279999999999995,0.74709999999999999]
[null,null,null,null,null,null,null,null,null,null,-34,30,-0.55920000000000003,0.82899999999999996,null,-34,35,-0.51639999999999997,0.76559999999999995]
[null,null,null,null,null,null,null,null,null,null,-32,30,-0.52990000000000004,0.84799999999999998,null,-32,35,-0.4894,0.78320000000000001]
[null,null,null,null,null,null,null,null,null,null,-30,30,-0.5,0.86599999999999999,null,-30,35,-0.4617,0.79979999999999996]
[null,null,null,null,null,null,null,null,null,null,-28,30,-0.46949999999999997,0.88290000000000002,null,-28,35,-0.43359999999999999,0.81540000000000001]
[null,null,null,null,null,null,null,null,null,null,-26,30,-0.43840000000000001,0.89880000000000004,null,-26,35,-0.40479999999999999,0.83]
[null,null,null,null,null,null,null,null,null,null,-24,30,-0.40670000000000001,0.91349999999999998,null,-24,35,-0.37559999999999999,0.84370000000000001]
[null,null,null,null,null,null,null,null,null,null,-22,30,-0.37459999999999999,0.92720000000000002,null,-22,35,-0.34589999999999999,0.85629999999999995]
[null,null,null,null,null,null,null,null,null,null,-20,30,-0.34200000000000003,0.93969999999999998,null,-20,35,-0.31590000000000001,0.86780000000000002]
[null,null,null,null,null,null,null,null,null,null,-18,30,-0.309,0.95109999999999995,null,-18,35,-0.28539999999999999,0.87829999999999997]
[null,null,null,null,null,null,null,null,null,null,-16,30,-0.27560000000000001,0.96130000000000004,null,-16,35,-0.25459999999999999,0.88770000000000004]
[null,null,null,null,null,null,null,null,null,null,-14,30,-0.2419,0.97030000000000005,null,-14,35,-0.22339999999999999,0.89610000000000001]
[null,null,null,null,null,null,null,null,null,null,-12,30,-0.2079,0.97809999999999997,null,-12,35,-0.192,0.90329999999999999]
[null,null,null,null,null,null,null,null,null,null,-10,30,-0.1736,0.98480000000000001,null,-10,35,-0.16039999999999999,0.90949999999999998]
[null,null,null,null,null,null,null,null,null,null,-8,30,-0.13919999999999999,0.99029999999999996,null,-8,35,-0.1285,0.91449999999999998]
[null,null,null,null,null,null,null,null,null,null,-6,30,-0.1045,0.99450000000000005,null,-6,35,-9.6500000000000002E-2,0.91839999999999999]
[null,null,null,null,null,null,null,null,null,null,-4,30,-6.9800000000000001E-2,0.99760000000000004,null,-4,35,-6.4399999999999999E-2,0.92120000000000002]
[null,null,null,null,null,null,null,null,null,null,-2,30,-3.49E-2,0.99939999999999996,null,-2,35,-3.2199999999999999E-2,0.92290000000000005]
[null,null,null,null,null,null,null,null,null,null,0,30,0,1,null,0,35,0,0.92349999999999999]
[null,null,null,null,null,null,null,null,null,null,2,30,3.49E-2,0.99939999999999996,null,2,35,3.2199999999999999E-2,0.92290000000000005]
[null,null,null,null,null,null,null,null,null,null,4,30,6.9800000000000001E-2,0.99760000000000004,null,4,35,6.4399999999999999E-2,0.92120000000000002]
[null,null,null,null,null,null,null,null,null,null,6,30,0.1045,0.99450000000000005,null,6,35,9.6500000000000002E-2,0.91839999999999999]
[null,null,null,null,null,null,null,null,null,null,8,30,0.13919999999999999,0.99029999999999996,null,8,35,0.1285,0.91449999999999998]
[null,null,null,null,null,null,null,null,null,null,10,30,0.1736,0.98480000000000001,null,10,35,0.16039999999999999,0.90949999999999998]
[null,null,null,null,null,null,null,null,null,null,12,30,0.2079,0.97809999999999997,null,12,35,0.192,0.90329999999999999]
[null,null,null,null,null,null,null,null,null,null,14,30,0.2419,0.97030000000000005,null,14,35,0.22339999999999999,0.89610000000000001]
[null,null,null,null,null,null,null,null,null,null,16,30,0.27560000000000001,0.96130000000000004,null,16,35,0.25459999999999999,0.88770000000000004]
[null,null,null,null,null,null,null,null,null,null,18,30,0.309,0.95109999999999995,null,18,35,0.28539999999999999,0.87829999999999997]
[null,null,null,null,null,null,null,null,null,null,20,30,0.34200000000000003,0.93969999999999998,null,20,35,0.31590000000000001,0.86780000000000002]
[null,null,null,null,null,null,null,null,null,null,22,30,0.37459999999999999,0.92720000000000002,null,22,35,0.34589999999999999,0.85629999999999995]
[null,null,null,null,null,null,null,null,null,null,24,30,0.40670000000000001,0.91349999999999998,null,24,35,0.37559999999999999,0.84370000000000001]
[null,null,null,null,null,null,null,null,null,null,26,30,0.43840000000000001,0.89880000000000004,null,26,35,0.40479999999999999,0.83]
[null,null,null,null,null,null,null,null,null,null,28,30,0.46949999999999997,0.88290000000000002,null,28,35,0.43359999999999999,0.81540000000000001]
[null,null,null,null,null,null,null,null,null,null,30,30,0.5,0.86599999999999999,null,30,35,0.4617,0.79979999999999996]
[null,null,null,null,null,null,null,null,null,null,32,30,0.52990000000000004,0.84799999999999998,null,32,35,0.4894,0.78320000000000001]
[null,null,null,null,null,null,null,null,null,null,34,30,0.55920000000000003,0.82899999999999996,null,34,35,0.51639999999999997,0.76559999999999995]
[null,null,null,null,null,null,null,null,null,null,36,30,0.58779999999999999,0.80900000000000005,null,36,35,0.54279999999999995,0.74709999999999999]
[null,null,null,null,null,null,null,null,null,null,38,30,0.61570000000000003,0.78800000000000003,null,38,35,0.56859999999999999,0.72770000000000001]
[null,null,null,null,null,null,null,null,null,null,40,30,0.64280000000000004,0.76600000000000001,null,40,35,0.59360000000000002,0.70740000000000003]
[]
[null,null,null,null,null,null,null,null,null,null,-40,40,-0.54330000000000001,0.64749999999999996,null,-40,45,-0.49199999999999999,0.58630000000000004]
[null,null,null,null,null,null,null,null,null,null,-38,40,-0.52039999999999997,0.66610000000000003,null,-38,45,-0.47120000000000001,0.60309999999999997]
[null,null,null,null,null,null,null,null,null,null,-36,40,-0.49680000000000002,0.68379999999999996,null,-36,45,-0.44990000000000002,0.61919999999999997]
[null,null,null,null,null,null,null,null,null,null,-34,40,-0.47270000000000001,0.70069999999999999,null,-34,45,-0.42799999999999999,0.63449999999999995]
[null,null,null,null,null,null,null,null,null,null,-32,40,-0.44790000000000002,0.71679999999999999,null,-32,45,-0.40560000000000002,0.64910000000000001]
[null,null,null,null,null,null,null,null,null,null,-30,40,-0.42259999999999998,0.73199999999999998,null,-30,45,-0.38269999999999998,0.66279999999999994]
[null,null,null,null,null,null,null,null,null,null,-28,40,-0.39679999999999999,0.74629999999999996,null,-28,45,-0.35930000000000001,0.67579999999999996]
[null,null,null,null,null,null,null,null,null,null,-26,40,-0.3705,0.75970000000000004,null,-26,45,-0.33550000000000002,0.68789999999999996]
[null,null,null,null,null,null,null,null,null,null,-24,40,-0.34379999999999999,0.7722,null,-24,45,-0.31130000000000002,0.69920000000000004]
[null,null,null,null,null,null,null,null,null,null,-22,40,-0.31659999999999999,0.78369999999999995,null,-22,45,-0.28670000000000001,0.70960000000000001]
[null,null,null,null,null,null,null,null,null,null,-20,40,-0.28910000000000002,0.79430000000000001,null,-20,45,-0.26179999999999998,0.71919999999999995]
[null,null,null,null,null,null,null,null,null,null,-18,40,-0.26119999999999999,0.80389999999999995,null,-18,45,-0.23649999999999999,0.72789999999999999]
[null,null,null,null,null,null,null,null,null,null,-16,40,-0.23300000000000001,0.8125,null,-16,45,-0.21099999999999999,0.73570000000000002]
[null,null,null,null,null,null,null,null,null,null,-14,40,-0.20449999999999999,0.82010000000000005,null,-14,45,-0.1852,0.74260000000000004]
[null,null,null,null,null,null,null,null,null,null,-12,40,-0.1757,0.82679999999999998,null,-12,45,-0.15909999999999999,0.74860000000000004]
[null,null,null,null,null,null,null,null,null,null,-10,40,-0.14680000000000001,0.83240000000000003,null,-10,45,-0.13289999999999999,0.75370000000000004]
[null,null,null,null,null,null,null,null,null,null,-8,40,-0.1176,0.83699999999999997,null,-8,45,-0.1065,0.75790000000000002]
[null,null,null,null,null,null,null,null,null,null,-6,40,-8.8400000000000006E-2,0.84060000000000001,null,-6,45,-0.08,0.76119999999999999]
[null,null,null,null,null,null,null,null,null,null,-4,40,-5.8999999999999997E-2,0.84319999999999995,null,-4,45,-5.3400000000000003E-2,0.76349999999999996]
[null,null,null,null,null,null,null,null,null,null,-2,40,-2.9499999999999998E-2,0.84470000000000001,null,-2,45,-2.6700000000000002E-2,0.76490000000000002]
[null,null,null,null,null,null,null,null,null,null,0,40,0,0.84519999999999995,null,0,45,0,0.76539999999999997]
[null,null,null,null,null,null,null,null,null,null,2,40,2.9499999999999998E-2,0.84470000000000001,null,2,45,2.6700000000000002E-2,0.76490000000000002]
[null,null,null,null,null,null,null,null,null,null,4,40,5.8999999999999997E-2,0.84319999999999995,null,4,45,5.3400000000000003E-2,0.76349999999999996]
[null,null,null,null,null,null,null,null,null,null,6,40,8.8400000000000006E-2,0.84060000000000001,null,6,45,0.08,0.76119999999999999]
[null,null,null,null,null,null,null,null,null,null,8,40,0.1176,0.83699999999999997,null,8,45,0.1065,0.75790000000000002]
[null,null,null,null,null,null,null,null,null,null,10,40,0.14680000000000001,0.83240000000000003,null,10,45,0.13289999999999999,0.75370000000000004]
[null,null,null,null,null,null,null,null,null,null,12,40,0.1757,0.82679999999999998,null,12,45,0.15909999999999999,0.74860000000000004]
[null,null,null,null,null,null,null,null,null,null,14,40,0.20449999999999999,0.82010000000000005,null,14,45,0.1852,0.74260000000000004]
[null,null,null,null,null,null,null,null,null,null,16,40,0.23300000000000001,0.8125,null,16,45,0.21099999999999999,0.73570000000000002]
[null,null,null,null,null,null,null,null,null,null,18,40,0.26119999999999999,0.80389999999999995,null,18,45,0.23649999999999999,0.72789999999999999]
[null,null,null,null,null,null,null,null,null,null,20,40,0.28910000000000002,0.79430000000000001,null,20,45,0.26179999999999998,0.71919999999999995]
[null,null,null,null,null,null,null,null,null,null,22,40,0.31659999999999999,0.78369999999999995,null,22,45,0.28670000000000001,0.70960000000000001]
[null,null,null,null,null,null,null,null,null,null,24,40,0.34379999999999999,0.7722,null,24,45,0.31130000000000002,0.69920000000000004]
[null,null,null,null,null,null,null,null,null,null,26,40,0.3705,0.75970000000000004,null,26,45,0.33550000000000002,0.68789999999999996]
[null,null,null,null,null,null,null,null,null,null,28,40,0.39679999999999999,0.74629999999999996,null,28,45,0.35930000000000001,0.67579999999999996]
[null,null,null,null,null,null,null,null,null,null,30,40,0.42259999999999998,0.73199999999999998,null,30,45,0.38269999999999998,0.66279999999999994]
[null,null,null,null,null,null,null,null,null,null,32,40,0.44790000000000002,0.71679999999999999,null,32,45,0.40560000000000002,0.64910000000000001]
[null,null,null,null,null,null,null,null,null,null,34,40,0.47270000000000001,0.70069999999999999,null,34,45,0.42799999999999999,0.63449999999999995]
[null,null,null,null,null,null,null,null,null,null,36,40,0.49680000000000002,0.68379999999999996,null,36,45,0.44990000000000002,0.61919999999999997]
[null,null,null,null,null,null,null,null,null,null,38,40,0.52039999999999997,0.66610000000000003,null,38,45,0.47120000000000001,0.60309999999999997]
[null,null,null,null,null,null,null,null,null,null,40,40,0.54330000000000001,0.64749999999999996,null,40,45,0.49199999999999999,0.58630000000000004]
[]
[null,null,null,null,null,null,null,null,null,null,-40,50,-0.43969999999999998,0.52400000000000002,null,-40,55,-0.3866,0.4607]
[null,null,null,null,null,null,null,null,null,null,-38,50,-0.42109999999999997,0.53900000000000003,null,-38,55,-0.37030000000000002,0.47389999999999999]
[null,null,null,null,null,null,null,null,null,null,-36,50,-0.40210000000000001,0.5534,null,-36,55,-0.35349999999999998,0.48659999999999998]
[null,null,null,null,null,null,null,null,null,null,-34,50,-0.38250000000000001,0.56710000000000005,null,-34,55,-0.33629999999999999,0.49859999999999999]
[null,null,null,null,null,null,null,null,null,null,-32,50,-0.36249999999999999,0.58009999999999995,null,-32,55,-0.31869999999999998,0.51]
[null,null,null,null,null,null,null,null,null,null,-30,50,-0.34200000000000003,0.59240000000000004,null,-30,55,-0.30070000000000002,0.52080000000000004]
[null,null,null,null,null,null,null,null,null,null,-28,50,-0.3211,0.60399999999999998,null,-28,55,-0.2823,0.53100000000000003]
[null,null,null,null,null,null,null,null,null,null,-26,50,-0.2999,0.61480000000000001,null,-26,55,-0.2636,0.54049999999999998]
[null,null,null,null,null,null,null,null,null,null,-24,50,-0.2782,0.62490000000000001,null,-24,55,-0.24460000000000001,0.5494]
[null,null,null,null,null,null,null,null,null,null,-22,50,-0.25619999999999998,0.63419999999999999,null,-22,55,-0.2253,0.55759999999999998]
[null,null,null,null,null,null,null,null,null,null,-20,50,-0.23400000000000001,0.64280000000000004,null,-20,55,-0.20569999999999999,0.56510000000000005]
[null,null,null,null,null,null,null,null,null,null,-18,50,-0.2114,0.65059999999999996,null,-18,55,-0.18579999999999999,0.57199999999999995]
[null,null,null,null,null,null,null,null,null,null,-16,50,-0.1885,0.65749999999999997,null,-16,55,-0.1658,0.57809999999999995]
[null,null,null,null,null,null,null,null,null,null,-14,50,-0.16550000000000001,0.66369999999999996,null,-14,55,-0.14549999999999999,0.58350000000000002]
[null,null,null,null,null,null,null,null,null,null,-12,50,-0.14219999999999999,0.66910000000000003,null,-12,55,-0.125,0.58830000000000005]
[null,null,null,null,null,null,null,null,null,null,-10,50,-0.1188,0.67359999999999998,null,-10,55,-0.10440000000000001,0.59230000000000005]
[null,null,null,null,null,null,null,null,null,null,-8,50,-9.5200000000000007E-2,0.6774,null,-8,55,-8.3699999999999997E-2,0.59560000000000002]
[null,null,null,null,null,null,null,null,null,null,-6,50,-7.1499999999999994E-2,0.68030000000000002,null,-6,55,-6.2899999999999998E-2,0.59809999999999997]
[null,null,null,null,null,null,null,null,null,null,-4,50,-4.7699999999999999E-2,0.68240000000000001,null,-4,55,-4.2000000000000003E-2,0.59989999999999999]
[null,null,null,null,null,null,null,null,null,null,-2,50,-2.3900000000000001E-2,0.68359999999999999,null,-2,55,-2.1000000000000001E-2,0.60099999999999998]
[null,null,null,null,null,null,null,null,null,null,0,50,0,0.68400000000000005,null,0,55,0,0.60140000000000005]
[null,null,null,null,null,null,null,null,null,null,2,50,2.3900000000000001E-2,0.68359999999999999,null,2,55,2.1000000000000001E-2,0.60099999999999998]
[null,null,null,null,null,null,null,null,null,null,4,50,4.7699999999999999E-2,0.68240000000000001,null,4,55,4.2000000000000003E-2,0.59989999999999999]
[null,null,null,null,null,null,null,null,null,null,6,50,7.1499999999999994E-2,0.68030000000000002,null,6,55,6.2899999999999998E-2,0.59809999999999997]
[null,null,null,null,null,null,null,null,null,null,8,50,9.5200000000000007E-2,0.6774,null,8,55,8.3699999999999997E-2,0.59560000000000002]
[null,null,null,null,null,null,null,null,null,null,10,50,0.1188,0.67359999999999998,null,10,55,0.10440000000000001,0.59230000000000005]
[null,null,null,null,null,null,null,null,null,null,12,50,0.14219999999999999,0.66910000000000003,null,12,55,0.125,0.58830000000000005]
[null,null,null,null,null,null,null,null,null,null,14,50,0.16550000000000001,0.66369999999999996,null,14,55,0.14549999999999999,0.58350000000000002]
[null,null,null,null,null,null,null,null,null,null,16,50,0.1885,0.65749999999999997,null,16,55,0.1658,0.57809999999999995]
[null,null,null,null,null,null,null,null,null,null,18,50,0.2114,0.65059999999999996,null,18,55,0.18579999999999999,0.57199999999999995]
[null,null,null,null,null,null,null,null,null,null,20,50,0.23400000000000001,0.64280000000000004,null,20,55,0.20569999999999999,0.56510000000000005]
[null,null,null,null,null,null,null,null,null,null,22,50,0.25619999999999998,0.63419999999999999,null,22,55,0.2253,0.55759999999999998]
[null,null,null,null,null,null,null,null,null,null,24,50,0.2782,0.62490000000000001,null,24,55,0.24460000000000001,0.5494]
[null,null,null,null,null,null,null,null,null,null,26,50,0.2999,0.61480000000000001,null,26,55,0.2636,0.54049999999999998]
[null,null,null,null,null,null,null,null,null,null,28,50,0.3211,0.60399999999999998,null,28,55,0.2823,0.53100000000000003]
[null,null,null,null,null,null,null,null,null,null,30,50,0.34200000000000003,0.59240000000000004,null,30,55,0.30070000000000002,0.52080000000000004]
[null,null,null,null,null,null,null,null,null,null,32,50,0.36249999999999999,0.58009999999999995,null,32,55,0.31869999999999998,0.51]
[null,null,null,null,null,null,null,null,null,null,34,50,0.38250000000000001,0.56710000000000005,null,34,55,0.33629999999999999,0.49859999999999999]
[null,null,null,null,null,null,null,null,null,null,36,50,0.40210000000000001,0.5534,null,36,55,0.35349999999999998,0.48659999999999998]
[null,null,null,null,null,null,null,null,null,null,38,50,0.42109999999999997,0.53900000000000003,null,38,55,0.37030000000000002,0.47389999999999999]
[null,null,null,null,null,null,null,null,null,null,40,50,0.43969999999999998,0.52400000000000002,null,40,55,0.3866,0.4607]
[]
[null,null,null,null,null,null,null,null,null,null,-40,60,-0.3327,0.39650000000000002,null,-40,65,-0.2782,0.33160000000000001]
[null,null,null,null,null,null,null,null,null,null,-38,60,-0.31869999999999998,0.40789999999999998,null,-38,65,-0.26650000000000001,0.34110000000000001]
[null,null,null,null,null,null,null,null,null,null,-36,60,-0.30430000000000001,0.41880000000000001,null,-36,65,-0.25440000000000002,0.35020000000000001]
[null,null,null,null,null,null,null,null,null,null,-34,60,-0.28949999999999998,0.42909999999999998,null,-34,65,-0.24210000000000001,0.3589]
[null,null,null,null,null,null,null,null,null,null,-32,60,-0.27429999999999999,0.439,null,-32,65,-0.22939999999999999,0.36709999999999998]
[null,null,null,null,null,null,null,null,null,null,-30,60,-0.25879999999999997,0.44829999999999998,null,-30,65,-0.21640000000000001,0.37490000000000001]
[null,null,null,null,null,null,null,null,null,null,-28,60,-0.24299999999999999,0.45700000000000002,null,-28,65,-0.20319999999999999,0.38219999999999998]
[null,null,null,null,null,null,null,null,null,null,-26,60,-0.22689999999999999,0.46529999999999999,null,-26,65,-0.1898,0.3891]
[null,null,null,null,null,null,null,null,null,null,-24,60,-0.21049999999999999,0.47289999999999999,null,-24,65,-0.17610000000000001,0.39550000000000002]
[null,null,null,null,null,null,null,null,null,null,-22,60,-0.19389999999999999,0.47989999999999999,null,-22,65,-0.16220000000000001,0.40139999999999998]
[null,null,null,null,null,null,null,null,null,null,-20,60,-0.17699999999999999,0.4864,null,-20,65,-0.14810000000000001,0.40679999999999999]
[null,null,null,null,null,null,null,null,null,null,-18,60,-0.16,0.49230000000000002,null,-18,65,-0.1338,0.41170000000000001]
[null,null,null,null,null,null,null,null,null,null,-16,60,-0.14269999999999999,0.49759999999999999,null,-16,65,-0.1193,0.41610000000000003]
[null,null,null,null,null,null,null,null,null,null,-14,60,-0.12520000000000001,0.50229999999999997,null,-14,65,-0.1047,0.42]
[null,null,null,null,null,null,null,null,null,null,-12,60,-0.1076,0.50629999999999997,null,-12,65,-0.09,0.4234]
[null,null,null,null,null,null,null,null,null,null,-10,60,-8.9899999999999994E-2,0.50980000000000003,null,-10,65,-7.5200000000000003E-2,0.42630000000000001]
[null,null,null,null,null,null,null,null,null,null,-8,60,-7.1999999999999995E-2,0.51259999999999994,null,-8,65,-6.0199999999999997E-2,0.42870000000000003]
[null,null,null,null,null,null,null,null,null,null,-6,60,-5.4100000000000002E-2,0.51480000000000004,null,-6,65,-4.5199999999999997E-2,0.43049999999999999]
[null,null,null,null,null,null,null,null,null,null,-4,60,-3.61E-2,0.51639999999999997,null,-4,65,-3.0200000000000001E-2,0.43180000000000002]
[null,null,null,null,null,null,null,null,null,null,-2,60,-1.8100000000000002E-2,0.51729999999999998,null,-2,65,-1.5100000000000001E-2,0.43259999999999998]
[null,null,null,null,null,null,null,null,null,null,0,60,0,0.51759999999999995,null,0,65,0,0.43290000000000001]
[null,null,null,null,null,null,null,null,null,null,2,60,1.8100000000000002E-2,0.51729999999999998,null,2,65,1.5100000000000001E-2,0.43259999999999998]
[null,null,null,null,null,null,null,null,null,null,4,60,3.61E-2,0.51639999999999997,null,4,65,3.0200000000000001E-2,0.43180000000000002]
[null,null,null,null,null,null,null,null,null,null,6,60,5.4100000000000002E-2,0.51480000000000004,null,6,65,4.5199999999999997E-2,0.43049999999999999]
[null,null,null,null,null,null,null,null,null,null,8,60,7.1999999999999995E-2,0.51259999999999994,null,8,65,6.0199999999999997E-2,0.42870000000000003]
[null,null,null,null,null,null,null,null,null,null,10,60,8.9899999999999994E-2,0.50980000000000003,null,10,65,7.5200000000000003E-2,0.42630000000000001]
[null,null,null,null,null,null,null,null,null,null,12,60,0.1076,0.50629999999999997,null,12,65,0.09,0.4234]
[null,null,null,null,null,null,null,null,null,null,14,60,0.12520000000000001,0.50229999999999997,null,14,65,0.1047,0.42]
[null,null,null,null,null,null,null,null,null,null,16,60,0.14269999999999999,0.49759999999999999,null,16,65,0.1193,0.41610000000000003]
[null,null,null,null,null,null,null,null,null,null,18,60,0.16,0.49230000000000002,null,18,65,0.1338,0.41170000000000001]
[null,null,null,null,null,null,null,null,null,null,20,60,0.17699999999999999,0.4864,null,20,65,0.14810000000000001,0.40679999999999999]
[null,null,null,null,null,null,null,null,null,null,22,60,0.19389999999999999,0.47989999999999999,null,22,65,0.16220000000000001,0.40139999999999998]
[null,null,null,null,null,null,null,null,null,null,24,60,0.21049999999999999,0.47289999999999999,null,24,65,0.17610000000000001,0.39550000000000002]
[null,null,null,null,null,null,null,null,null,null,26,60,0.22689999999999999,0.46529999999999999,null,26,65,0.1898,0.3891]
[null,null,null,null,null,null,null,null,null,null,28,60,0.24299999999999999,0.45700000000000002,null,28,65,0.20319999999999999,0.38219999999999998]
[null,null,null,null,null,null,null,null,null,null,30,60,0.25879999999999997,0.44829999999999998,null,30,65,0.21640000000000001,0.37490000000000001]
[null,null,null,null,null,null,null,null,null,null,32,60,0.27429999999999999,0.439,null,32,65,0.22939999999999999,0.36709999999999998]
[null,null,null,null,null,null,null,null,null,null,34,60,0.28949999999999998,0.42909999999999998,null,34,65,0.24210000000000001,0.3589]
[null,null,null,null,null,null,null,null,null,null,36,60,0.30430000000000001,0.41880000000000001,null,36,65,0.25440000000000002,0.35020000000000001]
[null,null,null,null,null,null,null,null,null,null,38,60,0.31869999999999998,0.40789999999999998,null,38,65,0.26650000000000001,0.34110000000000001]
[null,null,null,null,null,null,null,null,null,null,40,60,0.3327,0.39650000000000002,null,40,65,0.2782,0.33160000000000001]
[]
[null,null,null,null,null,null,null,null,null,null,-40,70,-0.22320000000000001,0.26600000000000001,null,-40,75,-0.1678,0.2]
[null,null,null,null,null,null,null,null,null,null,-38,70,-0.21379999999999999,0.2737,null,-38,75,-0.16070000000000001,0.20569999999999999]
[null,null,null,null,null,null,null,null,null,null,-36,70,-0.2041,0.28100000000000003,null,-36,75,-0.15340000000000001,0.2112]
[null,null,null,null,null,null,null,null,null,null,-34,70,-0.19420000000000001,0.28789999999999999,null,-34,75,-0.14599999999999999,0.21640000000000001]
[null,null,null,null,null,null,null,null,null,null,-32,70,-0.184,0.29449999999999998,null,-32,75,-0.13830000000000001,0.22140000000000001]
[null,null,null,null,null,null,null,null,null,null,-30,70,-0.1736,0.30080000000000001,null,-30,75,-0.1305,0.2261]
[null,null,null,null,null,null,null,null,null,null,-28,70,-0.16300000000000001,0.30659999999999998,null,-28,75,-0.1226,0.23050000000000001]
[null,null,null,null,null,null,null,null,null,null,-26,70,-0.1522,0.31209999999999999,null,-26,75,-0.1144,0.2346]
[null,null,null,null,null,null,null,null,null,null,-24,70,-0.14130000000000001,0.31730000000000003,null,-24,75,-0.1062,0.23849999999999999]
[null,null,null,null,null,null,null,null,null,null,-22,70,-0.13009999999999999,0.32200000000000001,null,-22,75,-9.7799999999999998E-2,0.24199999999999999]
[null,null,null,null,null,null,null,null,null,null,-20,70,-0.1188,0.32640000000000002,null,-20,75,-8.9300000000000004E-2,0.24529999999999999]
[null,null,null,null,null,null,null,null,null,null,-18,70,-0.10730000000000001,0.33029999999999998,null,-18,75,-8.0699999999999994E-2,0.24829999999999999]
[null,null,null,null,null,null,null,null,null,null,-16,70,-9.5699999999999993E-2,0.33379999999999999,null,-16,75,-7.1999999999999995E-2,0.25090000000000001]
[null,null,null,null,null,null,null,null,null,null,-14,70,-8.4000000000000005E-2,0.33700000000000002,null,-14,75,-6.3200000000000006E-2,0.25330000000000003]
[null,null,null,null,null,null,null,null,null,null,-12,70,-7.22E-2,0.3397,null,-12,75,-5.4300000000000001E-2,0.25530000000000003]
[null,null,null,null,null,null,null,null,null,null,-10,70,-6.0299999999999999E-2,0.34200000000000003,null,-10,75,-4.53E-2,0.2571]
[null,null,null,null,null,null,null,null,null,null,-8,70,-4.8300000000000003E-2,0.34389999999999998,null,-8,75,-3.6299999999999999E-2,0.25850000000000001]
[null,null,null,null,null,null,null,null,null,null,-6,70,-3.6299999999999999E-2,0.34539999999999998,null,-6,75,-2.7300000000000001E-2,0.2596]
[null,null,null,null,null,null,null,null,null,null,-4,70,-2.4199999999999999E-2,0.34649999999999997,null,-4,75,-1.8200000000000001E-2,0.26040000000000002]
[null,null,null,null,null,null,null,null,null,null,-2,70,-1.21E-2,0.34710000000000002,null,-2,75,-9.1000000000000004E-3,0.26090000000000002]
[null,null,null,null,null,null,null,null,null,null,0,70,0,0.3473,null,0,75,0,0.2611]
[null,null,null,null,null,null,null,null,null,null,2,70,1.21E-2,0.34710000000000002,null,2,75,9.1000000000000004E-3,0.26090000000000002]
[null,null,null,null,null,null,null,null,null,null,4,70,2.4199999999999999E-2,0.34649999999999997,null,4,75,1.8200000000000001E-2,0.26040000000000002]
[null,null,null,null,null,null,null,null,null,null,6,70,3.6299999999999999E-2,0.34539999999999998,null,6,75,2.7300000000000001E-2,0.2596]
[null,null,null,null,null,null,null,null,null,null,8,70,4.8300000000000003E-2,0.34389999999999998,null,8,75,3.6299999999999999E-2,0.25850000000000001]
[null,null,null,null,null,null,null,null,null,null,10,70,6.0299999999999999E-2,0.34200000000000003,null,10,75,4.53E-2,0.2571]
[null,null,null,null,null,null,null,null,null,null,12,70,7.22E-2,0.3397,null,12,75,5.4300000000000001E-2,0.25530000000000003]
[null,null,null,null,null,null,null,null,null,null,14,70,8.4000000000000005E-2,0.33700000000000002,null,14,75,6.3200000000000006E-2,0.25330000000000003]
[null,null,null,null,null,null,null,null,null,null,16,70,9.5699999999999993E-2,0.33379999999999999,null,16,75,7.1999999999999995E-2,0.25090000000000001]
[null,null,null,null,null,null,null,null,null,null,18,70,0.10730000000000001,0.33029999999999998,null,18,75,8.0699999999999994E-2,0.24829999999999999]
[null,null,null,null,null,null,null,null,null,null,20,70,0.1188,0.32640000000000002,null,20,75,8.9300000000000004E-2,0.24529999999999999]
[null,null,null,null,null,null,null,null,null,null,22,70,0.13009999999999999,0.32200000000000001,null,22,75,9.7799999999999998E-2,0.24199999999999999]
[null,null,null,null,null,null,null,null,null,null,24,70,0.14130000000000001,0.31730000000000003,null,24,75,0.1062,0.23849999999999999]
[null,null,null,null,null,null,null,null,null,null,26,70,0.1522,0.31209999999999999,null,26,75,0.1144,0.2346]
[null,null,null,null,null,null,null,null,null,null,28,70,0.16300000000000001,0.30659999999999998,null,28,75,0.1226,0.23050000000000001]
[null,null,null,null,null,null,null,null,null,null,30,70,0.1736,0.30080000000000001,null,30,75,0.1305,0.2261]
[null,null,null,null,null,null,null,null,null,null,32,70,0.184,0.29449999999999998,null,32,75,0.13830000000000001,0.22140000000000001]
[null,null,null,null,null,null,null,null,null,null,34,70,0.19420000000000001,0.28789999999999999,null,34,75,0.14599999999999999,0.21640000000000001]
[null,null,null,null,null,null,null,null,null,null,36,70,0.2041,0.28100000000000003,null,36,75,0.15340000000000001,0.2112]
[null,null,null,null,null,null,null,null,null,null,38,70,0.21379999999999999,0.2737,null,38,75,0.16070000000000001,0.20569999999999999]
[null,null,null,null,null,null,null,null,null,null,40,70,0.22320000000000001,0.26600000000000001,null,40,75,0.1678,0.2]
[]
[null,null,null,null,null,null,null,null,null,null,-40,80,-0.112,0.13350000000000001,null,-40,85,-5.6099999999999997E-2,6.6799999999999998E-2]
[null,null,null,null,null,null,null,null,null,null,-38,80,-0.10730000000000001,0.13739999999999999,null,-38,85,-5.3699999999999998E-2,6.8699999999999997E-2]
[null,null,null,null,null,null,null,null,null,null,-36,80,-0.10249999999999999,0.14099999999999999,null,-36,85,-5.1299999999999998E-2,7.0599999999999996E-2]
[null,null,null,null,null,null,null,null,null,null,-34,80,-9.7500000000000003E-2,0.14449999999999999,null,-34,85,-4.8800000000000003E-2,7.2300000000000003E-2]
[null,null,null,null,null,null,null,null,null,null,-32,80,-9.2399999999999996E-2,0.14779999999999999,null,-32,85,-4.6199999999999998E-2,7.3999999999999996E-2]
[null,null,null,null,null,null,null,null,null,null,-30,80,-8.72E-2,0.151,null,-30,85,-4.36E-2,7.5600000000000001E-2]
[null,null,null,null,null,null,null,null,null,null,-28,80,-8.1799999999999998E-2,0.15390000000000001,null,-28,85,-4.1000000000000002E-2,7.6999999999999999E-2]
[null,null,null,null,null,null,null,null,null,null,-26,80,-7.6399999999999996E-2,0.15670000000000001,null,-26,85,-3.8199999999999998E-2,7.8399999999999997E-2]
[null,null,null,null,null,null,null,null,null,null,-24,80,-7.0900000000000005E-2,0.15920000000000001,null,-24,85,-3.5499999999999997E-2,7.9699999999999993E-2]
[null,null,null,null,null,null,null,null,null,null,-22,80,-6.5299999999999997E-2,0.16159999999999999,null,-22,85,-3.27E-2,8.09E-2]
[null,null,null,null,null,null,null,null,null,null,-20,80,-5.96E-2,0.1638,null,-20,85,-2.98E-2,8.2000000000000003E-2]
[null,null,null,null,null,null,null,null,null,null,-18,80,-5.3900000000000003E-2,0.1658,null,-18,85,-2.7E-2,8.3000000000000004E-2]
[null,null,null,null,null,null,null,null,null,null,-16,80,-4.8000000000000001E-2,0.1676,null,-16,85,-2.4E-2,8.3900000000000002E-2]
[null,null,null,null,null,null,null,null,null,null,-14,80,-4.2200000000000001E-2,0.1691,null,-14,85,-2.1100000000000001E-2,8.4599999999999995E-2]
[null,null,null,null,null,null,null,null,null,null,-12,80,-3.6200000000000003E-2,0.17050000000000001,null,-12,85,-1.8100000000000002E-2,8.5300000000000001E-2]
[null,null,null,null,null,null,null,null,null,null,-10,80,-3.0300000000000001E-2,0.17169999999999999,null,-10,85,-1.5100000000000001E-2,8.5900000000000004E-2]
[null,null,null,null,null,null,null,null,null,null,-8,80,-2.4299999999999999E-2,0.1726,null,-8,85,-1.21E-2,8.6400000000000005E-2]
[null,null,null,null,null,null,null,null,null,null,-6,80,-1.8200000000000001E-2,0.1734,null,-6,85,-9.1000000000000004E-3,8.6800000000000002E-2]
[null,null,null,null,null,null,null,null,null,null,-4,80,-1.2200000000000001E-2,0.1739,null,-4,85,-6.1000000000000004E-3,8.6999999999999994E-2]
[null,null,null,null,null,null,null,null,null,null,-2,80,-6.1000000000000004E-3,0.17419999999999999,null,-2,85,-3.0000000000000001E-3,8.72E-2]
[null,null,null,null,null,null,null,null,null,null,0,80,0,0.17430000000000001,null,0,85,0,8.72E-2]
[null,null,null,null,null,null,null,null,null,null,2,80,6.1000000000000004E-3,0.17419999999999999,null,2,85,3.0000000000000001E-3,8.72E-2]
[null,null,null,null,null,null,null,null,null,null,4,80,1.2200000000000001E-2,0.1739,null,4,85,6.1000000000000004E-3,8.6999999999999994E-2]
[null,null,null,null,null,null,null,null,null,null,6,80,1.8200000000000001E-2,0.1734,null,6,85,9.1000000000000004E-3,8.6800000000000002E-2]
[null,null,null,null,null,null,null,null,null,null,8,80,2.4299999999999999E-2,0.1726,null,8,85,1.21E-2,8.6400000000000005E-2]
[null,null,null,null,null,null,null,null,null,null,10,80,3.0300000000000001E-2,0.17169999999999999,null,10,85,1.5100000000000001E-2,8.5900000000000004E-2]
[null,null,null,null,null,null,null,null,null,null,12,80,3.6200000000000003E-2,0.17050000000000001,null,12,85,1.8100000000000002E-2,8.5300000000000001E-2]
[null,null,null,null,null,null,null,null,null,null,14,80,4.2200000000000001E-2,0.1691,null,14,85,2.1100000000000001E-2,8.4599999999999995E-2]
[null,null,null,null,null,null,null,null,null,null,16,80,4.8000000000000001E-2,0.1676,null,16,85,2.4E-2,8.3900000000000002E-2]
[null,null,null,null,null,null,null,null,null,null,18,80,5.3900000000000003E-2,0.1658,null,18,85,2.7E-2,8.3000000000000004E-2]
[null,null,null,null,null,null,null,null,null,null,20,80,5.96E-2,0.1638,null,20,85,2.98E-2,8.2000000000000003E-2]
[null,null,null,null,null,null,null,null,null,null,22,80,6.5299999999999997E-2,0.16159999999999999,null,22,85,3.27E-2,8.09E-2]
[null,null,null,null,null,null,null,null,null,null,24,80,7.0900000000000005E-2,0.15920000000000001,null,24,85,3.5499999999999997E-2,7.9699999999999993E-2]
[null,null,null,null,null,null,null,null,null,null,26,80,7.6399999999999996E-2,0.15670000000000001,null,26,85,3.8199999999999998E-2,7.8399999999999997E-2]
[null,null,null,null,null,null,null,null,null,null,28,80,8.1799999999999998E-2,0.15390000000000001,null,28,85,4.1000000000000002E-2,7.6999999999999999E-2]
[null,null,null,null,null,null,null,null,null,null,30,80,8.72E-2,0.151,null,30,85,4.36E-2,7.5600000000000001E-2]
[null,null,null,null,null,null,null,null,null,null,32,80,9.2399999999999996E-2,0.14779999999999999,null,32,85,4.6199999999999998E-2,7.3999999999999996E-2]
[null,null,null,null,null,null,null,null,null,null,34,80,9.7500000000000003E-2,0.14449999999999999,null,34,85,4.8800000000000003E-2,7.2300000000000003E-2]
[null,null,null,null,null,null,null,null,null,null,36,80,0.10249999999999999,0.14099999999999999,null,36,85,5.1299999999999998E-2,7.0599999999999996E-2]
[null,null,null,null,null,null,null,null,null,null,38,80,0.10730000000000001,0.13739999999999999,null,38,85,5.3699999999999998E-2,6.8699999999999997E-2]
[null,null,null,null,null,null,null,null,null,null,40,80,0.112,0.13350000000000001,null,40,85,5.6099999999999997E-2,6.6799999999999998E-2]